BEGIN:VCALENDAR
VERSION:2.0
PRODID:-//CCW-Training Academy - ECPv6.15.20//NONSGML v1.0//EN
CALSCALE:GREGORIAN
METHOD:PUBLISH
X-WR-CALNAME:CCW-Training Academy
X-ORIGINAL-URL:https://www.careerchangewales.co.uk
X-WR-CALDESC:Events for CCW-Training Academy
REFRESH-INTERVAL;VALUE=DURATION:PT1H
X-Robots-Tag:noindex
X-PUBLISHED-TTL:PT1H
BEGIN:VTIMEZONE
TZID:Europe/London
BEGIN:DAYLIGHT
TZOFFSETFROM:+0000
TZOFFSETTO:+0100
TZNAME:BST
DTSTART:20240331T010000
END:DAYLIGHT
BEGIN:STANDARD
TZOFFSETFROM:+0100
TZOFFSETTO:+0000
TZNAME:GMT
DTSTART:20241027T010000
END:STANDARD
BEGIN:DAYLIGHT
TZOFFSETFROM:+0000
TZOFFSETTO:+0100
TZNAME:BST
DTSTART:20250330T010000
END:DAYLIGHT
BEGIN:STANDARD
TZOFFSETFROM:+0100
TZOFFSETTO:+0000
TZNAME:GMT
DTSTART:20251026T010000
END:STANDARD
BEGIN:DAYLIGHT
TZOFFSETFROM:+0000
TZOFFSETTO:+0100
TZNAME:BST
DTSTART:20260329T010000
END:DAYLIGHT
BEGIN:STANDARD
TZOFFSETFROM:+0100
TZOFFSETTO:+0000
TZNAME:GMT
DTSTART:20261025T010000
END:STANDARD
END:VTIMEZONE
BEGIN:VEVENT
DTSTART;VALUE=DATE:20250217
DTEND;VALUE=DATE:20250219
DTSTAMP:20260423T225403
CREATED:20240704T103526Z
LAST-MODIFIED:20241025T134118Z
UID:10868-1739750400-1739923199@www.careerchangewales.co.uk
SUMMARY:Microsoft Project Beginner and Intermediate
DESCRIPTION:Microsoft Project Training\nWe provide 2 days of Microsoft Project training Cardiff and Microsoft Project course. The training is to a high quality due to the small numbers of candidates we run the classes in. We provide the training at our head office which is 5-7 Museum Place\, Cardiff\, CF10 3BD \nDay 1 – Introduction to Microsoft Project \nDay 2 – Intermediate Level – Practical Application (Optional) \nProject management is an essential skill for so many managers and leaders in various sectors of work. Being a skilled project manager can mean the difference between a project running to schedule and running over on cost\, time and resources. When projects run over it costs organisations thousands of pounds and risks their reputation as a project managing organisation. By training your staff to better manage projects we can understand how and what to prepare for whilst managing resources simultaneously and identifying where any why the project has run over. \nMS projects is Microsoft’s answer to contemporary project management tools. It has been designed to assist project managers to plan\, assign resources and track project progress towards completions. It has become one of the most popular and the fastest growing project management tool available on the market. In addition to these features MS Projects can be used to track project related aspects. More recent features to be added include ‘inactive tasks’ that allow for ‘what if’ analysis\, synchronisation of project aspects over sharepoint and for multiple projects to share a pool of resources. This Microsoft Project training Cardiff has been designed to assist individuals with minimal or no experience in Microsoft project on the correct use of these functions and for individuals with some experience but whom are unfamiliar with more advanced functions of MS Projects. \nWho Should Attend\nAnyone with experience with project management\, in a position that requires regular use of MS projects or individuals who possess no formal qualifications in project management. This Microsoft Project training Cardiff course has been designed for individuals with little to no experience with Microsoft Project \nCourse Content for Microsoft Project Training Cardiff\nThis course will cover the following : \n\n\n\n\n(Introduction Course)\n(Intermediate Course)\n\n\nProject Planning\nResourcing a Project\n\n\nCustomising MS Project\nBaselining\n\n\nScheduling MS Project\nProject Costs and Control\n\n\nTask Entry\nResource Overallocation\n\n\nLinking Tasks\nCritical Path\n\n\nConstraints and Lag\nReporting\, Master and Subprojects\n\n\nPrinting\nResource Pool\n\n\n\n\nLearning Outcomes for Microsoft Project Training\nBy the end of the course learners will be able to: \n\nCreate and manage projects using Microsoft Project\nUse resources efficiently to greatly improve the projects running\nAdjust projects of a project e.g more resources\, less hours.\nschedule tasks to individuals or positions\n\nMicrosoft Project Course Format\nThis Microsoft Project Training Cardiff comes in 2 levels\, an introductory level and an intermediate level. The Introduction level is a 1 day and you have the option of doing the intermediate course as well which is also a 1 day course.
URL:https://www.careerchangewales.co.uk/event/microsoft-project-beginner-and-intermediate-3/
LOCATION:5-7 Museum Place\, Cardiff\, CF10 3BD\, 5-7 Museum Place\, Cardiff\, CF10 3BD\, United Kingdom
CATEGORIES:ICT Training Courses
ATTACH;FMTTYPE=image/png:https://www.careerchangewales.co.uk/wp-content/uploads/2021/11/1200px-Microsoft_Project_2019–present.png
ORGANIZER;CN="CCW-Training Academy":MAILTO:Info@CareerChangeWales.co.uk
END:VEVENT
BEGIN:VEVENT
DTSTART;VALUE=DATE:20250218
DTEND;VALUE=DATE:20250219
DTSTAMP:20260423T225403
CREATED:20240628T145324Z
LAST-MODIFIED:20241025T134302Z
UID:10689-1739836800-1739923199@www.careerchangewales.co.uk
SUMMARY:CRITICAL THINKING TRAINING COURSE
DESCRIPTION:Critical Thinking Training Course\nEvery successful organisation will rely on people who can think critically and who can be thoughtful leaders. This Critical Thinking training will give you the knowledge of how to solve various problems using long-standing techniques. You will also learn how to analyse problems\, use your creativity to implement innovative ideas within your organisation. \nWho Should Attend\nThe training will be helpful for all individuals who are serious about developing their management and leadership abilities. It will especially suited to those who are aspiring or seeking promotional prospect to their current position. The aim of the training is to equip participants with a range of key management skills so they can put it into practice in their own role. \nCritical Thinking Training Course Content\nThis training course will cover the following: \n\nThe Rhetorical Triangle – Ethos\, Pathos and Logos.\nThe Practical Application.\nCareful Intentional Thinking\nUse of Reason or Logic\nJudgement About Beliefs\nThoughtful Arguments\nUse of Emotion in Critical Thinking\nTypes of Opinions\n\nLearning Outcomes\nBy the end of the course learners will be: \n\nAble to communicate with others in sharing ideas effectively\nAble to foresee how things will turn out\nAble to evaluate issues without bias\nAble to solve complex issues/problems\nAble to implement practical Critical Thinking skills in practise\nAble to build Leadership capabilities\n\nGeneral Information\nThis is a 1-day course that runs from 9:30 AM to 4:30 PM. Lunch and refreshments will be provided. If you have any dietary requirements please let us know by emailing Info@CareerChangeWales.co.uk
URL:https://www.careerchangewales.co.uk/event/critical-thinking-training-course/
LOCATION:5-7 Museum Place\, Cardiff\, CF10 3BD\, 5-7 Museum Place\, Cardiff\, CF10 3BD\, United Kingdom
CATEGORIES:Soft Skills Courses
ATTACH;FMTTYPE=image/png:https://www.careerchangewales.co.uk/wp-content/uploads/2022/11/Quality-management-system-Logo.png
ORGANIZER;CN="CCW-Training Academy":MAILTO:Info@CareerChangeWales.co.uk
END:VEVENT
END:VCALENDAR