BEGIN:VCALENDAR
VERSION:2.0
PRODID:-//CCW-Training Academy - ECPv6.15.20//NONSGML v1.0//EN
CALSCALE:GREGORIAN
METHOD:PUBLISH
X-ORIGINAL-URL:https://www.careerchangewales.co.uk
X-WR-CALDESC:Events for CCW-Training Academy
REFRESH-INTERVAL;VALUE=DURATION:PT1H
X-Robots-Tag:noindex
X-PUBLISHED-TTL:PT1H
BEGIN:VTIMEZONE
TZID:Europe/London
BEGIN:DAYLIGHT
TZOFFSETFROM:+0000
TZOFFSETTO:+0100
TZNAME:BST
DTSTART:20240331T010000
END:DAYLIGHT
BEGIN:STANDARD
TZOFFSETFROM:+0100
TZOFFSETTO:+0000
TZNAME:GMT
DTSTART:20241027T010000
END:STANDARD
BEGIN:DAYLIGHT
TZOFFSETFROM:+0000
TZOFFSETTO:+0100
TZNAME:BST
DTSTART:20250330T010000
END:DAYLIGHT
BEGIN:STANDARD
TZOFFSETFROM:+0100
TZOFFSETTO:+0000
TZNAME:GMT
DTSTART:20251026T010000
END:STANDARD
BEGIN:DAYLIGHT
TZOFFSETFROM:+0000
TZOFFSETTO:+0100
TZNAME:BST
DTSTART:20260329T010000
END:DAYLIGHT
BEGIN:STANDARD
TZOFFSETFROM:+0100
TZOFFSETTO:+0000
TZNAME:GMT
DTSTART:20261025T010000
END:STANDARD
END:VTIMEZONE
BEGIN:VEVENT
DTSTART;VALUE=DATE:20250307
DTEND;VALUE=DATE:20250308
DTSTAMP:20260424T002928
CREATED:20240703T143202Z
LAST-MODIFIED:20241025T134511Z
UID:10715-1741305600-1741391999@www.careerchangewales.co.uk
SUMMARY:Finance for non financial managers
DESCRIPTION:Finance for non financial managers\nThis finance for managers training course will help you to understand basic financial principals and the documents used in business. You will learn how to interpret the information in these documents\, and use this to manage day-to-day business activity. This knowledge will enable you to be more effective in your managerial role and to be more sustainable. \nDuration: 1-day short course \nVenue: 5-7 Museum Place\, Cardiff. CF10 3BD \nFinance for Managers Course contents\n\nUnderstanding the income statement account and statement of financial position\nUsing information from the income statement account and statement of financial position\nControlling cash\nUsing budgets to manage business activity\nCost types and cost behaviours\nFinance functions and how they intertwine with types of organisations\n\nLearning outcomes\nAfter completing the finance for non-financial managers training programme\, you will be able to: \n\nUnderstand basic financial documents used in business\nInterpret the information in these documents\, and use it to manage day-to-day business activity\nBe more effective in your managerial role\nHave more in-depth and meaningful dialogue with your finance team
URL:https://www.careerchangewales.co.uk/event/finance-for-non-financial-managers-2/
LOCATION:5-7 Museum Place\, Cardiff\, CF10 3BD\, 5-7 Museum Place\, Cardiff\, CF10 3BD\, United Kingdom
CATEGORIES:Finance Courses
ATTACH;FMTTYPE=image/png:https://www.careerchangewales.co.uk/wp-content/uploads/2022/11/Quality-management-system-Logo.png
ORGANIZER;CN="CCW-Training Academy":MAILTO:Info@CareerChangeWales.co.uk
END:VEVENT
END:VCALENDAR