BEGIN:VCALENDAR
VERSION:2.0
PRODID:-//CCW-Training Academy - ECPv6.15.20//NONSGML v1.0//EN
CALSCALE:GREGORIAN
METHOD:PUBLISH
X-ORIGINAL-URL:https://www.careerchangewales.co.uk
X-WR-CALDESC:Events for CCW-Training Academy
REFRESH-INTERVAL;VALUE=DURATION:PT1H
X-Robots-Tag:noindex
X-PUBLISHED-TTL:PT1H
BEGIN:VTIMEZONE
TZID:Europe/London
BEGIN:DAYLIGHT
TZOFFSETFROM:+0000
TZOFFSETTO:+0100
TZNAME:BST
DTSTART:20240331T010000
END:DAYLIGHT
BEGIN:STANDARD
TZOFFSETFROM:+0100
TZOFFSETTO:+0000
TZNAME:GMT
DTSTART:20241027T010000
END:STANDARD
BEGIN:DAYLIGHT
TZOFFSETFROM:+0000
TZOFFSETTO:+0100
TZNAME:BST
DTSTART:20250330T010000
END:DAYLIGHT
BEGIN:STANDARD
TZOFFSETFROM:+0100
TZOFFSETTO:+0000
TZNAME:GMT
DTSTART:20251026T010000
END:STANDARD
BEGIN:DAYLIGHT
TZOFFSETFROM:+0000
TZOFFSETTO:+0100
TZNAME:BST
DTSTART:20260329T010000
END:DAYLIGHT
BEGIN:STANDARD
TZOFFSETFROM:+0100
TZOFFSETTO:+0000
TZNAME:GMT
DTSTART:20261025T010000
END:STANDARD
END:VTIMEZONE
BEGIN:VEVENT
DTSTART;VALUE=DATE:20250319
DTEND;VALUE=DATE:20250322
DTSTAMP:20260424T002929
CREATED:20240703T143733Z
LAST-MODIFIED:20241025T134755Z
UID:10724-1742342400-1742601599@www.careerchangewales.co.uk
SUMMARY:ILM Level 4 Leadership and Management
DESCRIPTION:ILM Level 4 Leadership and Management\nAbout CCW-Training Academy\nCCW Training Academy (CCW)\, located in Cardiff\, South Wales\, is an innovative training provider specialising in leadership and management training including the design and delivery of bespoke training programmes. Our aim is to help and support micro businesses\, SMEs and government sectors in upskilling or reskilling\, with a focus on supporting professionals across various industry sectors. We are known for our passion\, creativity\, and excellence. The academy is an accredited ILM centre\, AAT exam centre\, CIHT\, and ihasco approved training provider and test centre in Wales\, dedicated to full customer satisfaction and flexibility to meet client needs. \nOur Capabilities\nCCW Training Academy boasts a reputation for delivering high-quality coaching\, and training courses\, seminars\, and conferences for individuals and companies. Our offerings include the following topics; leadership\, management\, engineering\, environmental & sustainability\, health & safety\, and social media for all sectors. With a blended long-term coaching and training experience\, we have successfully collaborated with hundreds of microbusinesses\, SMEs\, public and private sector organisations in the United Kingdom and Europe. \nWhat can we offer you?\nOur Institute of Leadership and Management training modules are new and innovative programmes. These management programmes have been designed to reflect the present economic climate and enable candidates to complete our ‘fast-track’ programme. Our training modules consist of blended learning (face to face\, online\, Zoom and 1-2-1 support for completion of assignments). All training materials will be provided\, including the use of our training platform. Assignment support is provided through a 1-2-1 basis via Zoom/face to face\, as well as through emails and phone calls if required. \nThe ILM Level 4 Award\, in Leadership and Management is ideal for individuals who have management responsibilities but no formal training and are serious about developing their abilities. This program particularly supports practising team leader/s seeking to move to the next level of management and managers who need to lead people though; organisational change\, budget cuts or for personal development. \nILM Level 4 Assignments\nYou should plan to spend approximately 7 hours researching your workplace context\, preparing for and writing or presenting the outcomes of each assignment for assessment. The ‘nominal’ word count for each assignment is 1000 words: the suggested range is between 1000 and 1500 words. \nCourse Modules\nTo complete and achieve a Level 4 Award in Leadership and Management\, you will need to sit and submit an assignment for a minimum of 2 modules chosen from below: \n\nModule 1: Developing People in the Workplace\nModule 2: Managing a Healthy and Safe Environment\nModule 3: Managing Marketing Activities\nModule 4: Motivating People in the Workplace\nModule 5: Solving Problems by Making Effective Decisions in the Workplace\nModule 6: Managing Risk in the Workplace
URL:https://www.careerchangewales.co.uk/event/ilm-level-4-leadership-and-management/
LOCATION:5-7 Museum Place\, Cardiff\, CF10 3BD\, 5-7 Museum Place\, Cardiff\, CF10 3BD\, United Kingdom
CATEGORIES:Leadership and Management Training
ATTACH;FMTTYPE=image/jpeg:https://www.careerchangewales.co.uk/wp-content/uploads/2014/12/ILM_Logo_APPC_RGB_MID.jpg
ORGANIZER;CN="CCW-Training Academy":MAILTO:Info@CareerChangeWales.co.uk
END:VEVENT
BEGIN:VEVENT
DTSTART;VALUE=DATE:20250320
DTEND;VALUE=DATE:20250321
DTSTAMP:20260424T002929
CREATED:20240703T144527Z
LAST-MODIFIED:20241025T134543Z
UID:10732-1742428800-1742515199@www.careerchangewales.co.uk
SUMMARY:Microsoft PowerPoint Training
DESCRIPTION:Microsoft PowerPoint Training\nWe run high quality and excellent Microsoft Powerpoint training and Microsoft Powerpoint course. These courses are held in small classes to ensure we can provide the highest quality possible for our candidates. \nAs a manager\, team leader or someone who needs to communicate effectively; you will be expected to present and inform other teams of what you are doing and how certain aspects of your day-to-day are progressing. With MS PowerPoint you can professionally present and inform others of what you are doing and the progress you are making. It is a powerful tool and has revolutionised the way information can be transmitted. It has been greatly used in Education and training to effectively communicate complex subjects with ease. We provide high quality Microsoft PowerPoint Training in Cardiff\, South Wales. \nMicrosoft Powerpoint is the leading presentation software used by organisations around the world for its easy to use user interface and robust design. Since it is used globally\, proficiency in this software can be very useful for your career development or as a supplement to your CV. Organisations worldwide will know the power of PowerPoint and the benefits it offers. If you need presentation help then our training can help you as it takes you through how to use Powerpoints many different options\, such as animation. Our 1 day intensive training course will prepare and ready you to use it in your work life. Our Microsoft Powerpoint training course is great because it takes you through everything you need to know about the software. Our Microsoft Powerpoint training in Cardiff is based on you and your ability\, we have beginners\, intermediate and advanced. \nWho Should Attend\nAnyone who is in a position where you may be required to present or train learners; particularly those who wish to know how to use Microsoft Powerpoint. There are no prerequisites for this course but users will need to have some knowledge of operating systems and general computer use. \nMicrosoft Powerpoint Course Content\nThis course will cover the following: \n\nNavigating a Presentation – Both when presenting and when designing a presentation.\nEditing Text – How to use effects and styles to improve the look of your presentation\nWorking with a Table – How to arrange information into tables to display useful information\nChanging PowerPoint’s Default Options – Creating presentation templates and styles for your company image\nApplying a Custom Animation Effect – How to use animations to emphasise points and how not to overdo it.\n\nPowerpoint Training Learning Outcomes\nBy the end of the course learners will be able to: \n\nEdit their presentations with a professional look\nCreate their own animation effects\nWork effectively on Microsoft PowerPoint\nBe able to manage their slides\nImport Charts and data from other MS office applications
URL:https://www.careerchangewales.co.uk/event/microsoft-powerpoint-training/
LOCATION:5-7 Museum Place\, Cardiff\, CF10 3BD\, 5-7 Museum Place\, Cardiff\, CF10 3BD\, United Kingdom
CATEGORIES:ICT Training Courses
ATTACH;FMTTYPE=image/png:https://www.careerchangewales.co.uk/wp-content/uploads/2023/04/Microsoft_Office_PowerPoint_2019–present.svg_.png
ORGANIZER;CN="CCW-Training Academy":MAILTO:Info@CareerChangeWales.co.uk
END:VEVENT
END:VCALENDAR