BEGIN:VCALENDAR
VERSION:2.0
PRODID:-//CCW-Training Academy - ECPv6.15.20//NONSGML v1.0//EN
CALSCALE:GREGORIAN
METHOD:PUBLISH
X-ORIGINAL-URL:https://www.careerchangewales.co.uk
X-WR-CALDESC:Events for CCW-Training Academy
REFRESH-INTERVAL;VALUE=DURATION:PT1H
X-Robots-Tag:noindex
X-PUBLISHED-TTL:PT1H
BEGIN:VTIMEZONE
TZID:Europe/London
BEGIN:DAYLIGHT
TZOFFSETFROM:+0000
TZOFFSETTO:+0100
TZNAME:BST
DTSTART:20240331T010000
END:DAYLIGHT
BEGIN:STANDARD
TZOFFSETFROM:+0100
TZOFFSETTO:+0000
TZNAME:GMT
DTSTART:20241027T010000
END:STANDARD
BEGIN:DAYLIGHT
TZOFFSETFROM:+0000
TZOFFSETTO:+0100
TZNAME:BST
DTSTART:20250330T010000
END:DAYLIGHT
BEGIN:STANDARD
TZOFFSETFROM:+0100
TZOFFSETTO:+0000
TZNAME:GMT
DTSTART:20251026T010000
END:STANDARD
BEGIN:DAYLIGHT
TZOFFSETFROM:+0000
TZOFFSETTO:+0100
TZNAME:BST
DTSTART:20260329T010000
END:DAYLIGHT
BEGIN:STANDARD
TZOFFSETFROM:+0100
TZOFFSETTO:+0000
TZNAME:GMT
DTSTART:20261025T010000
END:STANDARD
END:VTIMEZONE
BEGIN:VEVENT
DTSTART;VALUE=DATE:20250324
DTEND;VALUE=DATE:20250326
DTSTAMP:20260424T021035
CREATED:20240703T142859Z
LAST-MODIFIED:20241025T134534Z
UID:10712-1742774400-1742947199@www.careerchangewales.co.uk
SUMMARY:Lean Six Sigma Yellow Belt Training Course
DESCRIPTION:Lean Six Sigma Yellow Belt Training Course\nLean Six Sigma Yellow Belt Training Course – Our Lean Six Sigma Yellow Belt course covers the foundational concepts and tools of Lean Six Sigma methodologies. \nWho is it for?\nThe Lean Six Sigma Yellow Belt Training Course is designed for individuals who want to deepen their understanding of process improvement methodologies. It is suitable for professionals\, team members\, and employees who work within an organization and want to contribute to process optimisation. The Yellow Belt training covers essential concepts such as process mapping\, data collection\, root cause analysis\, and basic statistical tools. Whether you are directly involved in process improvement projects or simply interested in building foundational knowledge\, this course provides valuable insights. \nBelow are the learning outcomes for our Lean Six Sigma Yellow Belt training: \nThe learning outcomes for such a course generally include:\n\nUnderstanding Lean Six Sigma Fundamentals\n\nIntroduction to Lean Six Sigma Yellow Belt Training:\n\nComprehend the history\, principles\, and goals of Lean Six Sigma.\nUnderstand the DMAIC (Define\, Measure\, Analyse\, Improve\, Control) methodology.\n\nRoles and Responsibilities:\nIdentify the roles and responsibilities of Yellow Belts\, Green Belts\, Black Belts\, and other team members within Lean Six Sigma projects. \nLean Principles\nLean Tools and Techniques:\n\nLearn key Lean tools such as 5S\, Value Stream Mapping\, Kaizen\, and Waste Identification (Muda)\nUnderstand how to apply Lean principles to identify and eliminate waste in processes\nSix Sigma Principles\n\nSix Sigma Tools and Techniques:\n\nGain knowledge of basic Six Sigma concepts such as Variation\, Process Capability\, and\nCritical to Quality (CTQ).\nLearn to use basic Six Sigma tools such as Pareto Charts\, cause\, and effect diagrams (Fishbone)\, and Control Charts.\n\nProcess Improvement\nDMAIC Phases:\n\nDefine: Understand problem definition\, project charters\, and the importance of customer requirements.\nMeasure: Learn the basics of data collection\, measurement techniques\, and descriptive statistics.\nAnalyse: Understand root cause analysis and basic hypothesis testing.\nImprove: Learn about solution generation and basic improvement strategies.\nControl: Understand control plans\, monitoring techniques\, and the importance of sustaining improvements.\n\nPractical Application\nProject Participation:\n\nGain experience in participating in Lean Six Sigma projects.\nLearn to assist in data collection and analysis.\nUnderstand how to support Green and Black Belts in project execution.\n\nSoft Skills\nTeamwork and Communication:\n\nDevelop skills for effective communication and teamwork within Lean Six Sigma projects.\nUnderstand the importance of stakeholder engagement and management.\n\nProblem-Solving\nProblem-Solving Techniques:\n\nLearn and apply basic problem-solving techniques within the context of Lean Six Sigma.\nDevelop the ability to identify problems\, analyse root causes\, and propose solutions.\nCertification Preparation\n\nCertification Readiness:\n\nPrepare for the Lean Six Sigma Yellow Belt certification examination by reviewing key concepts\, tools\, and techniques.\nUnderstand the certification process and requirements.\n\nBy the end of the Lean Six Sigma Yellow Belt course\, participants should be well-equipped with the fundamental knowledge and skills to contribute effectively to process improvement initiatives within their organisations.
URL:https://www.careerchangewales.co.uk/event/lean-six-sigma-yellow-belt-training-course/
LOCATION:5-7 Museum Place\, Cardiff\, CF10 3BD\, 5-7 Museum Place\, Cardiff\, CF10 3BD\, United Kingdom
CATEGORIES:CPD and HR Related Courses
ATTACH;FMTTYPE=image/png:https://www.careerchangewales.co.uk/wp-content/uploads/2022/11/Quality-management-system-Logo.png
ORGANIZER;CN="CCW-Training Academy":MAILTO:Info@CareerChangeWales.co.uk
END:VEVENT
BEGIN:VEVENT
DTSTART;VALUE=DATE:20250325
DTEND;VALUE=DATE:20250326
DTSTAMP:20260424T021035
CREATED:20240910T142757Z
LAST-MODIFIED:20250107T105956Z
UID:10965-1742860800-1742947199@www.careerchangewales.co.uk
SUMMARY:Confirmed: Day 2 Train the Trainer Course – ILM Recognised Programme
DESCRIPTION:Train the Trainer Course – ILM Recognised Programme\nTrain the Trainer Course – ILM Recognised Programme (Theoretical & Practical skills)\nThis Train the Trainer is a bespoke programme designed for new and practicing trainers to evaluate their teaching styles\, methodologies and innovation. This course is useful for learners to receive an ILM Recognised Programme to enhance their CPD (Continuous Professional Development). \nThis is a unique ‘Train the Trainer – Theoretical & Practical training sessions’ that is truly different and incredibly useful for trainers. The course has been designed with all of our experience\, skill\, innovative excellence and imagination to provide a course that will liberate trainers from their fears and empower them to use their most potent developmental weapon … themselves. \nThis Train the Trainer course redefines the trainer‘s role. You will agree that a facilitator works with people\, using imagination\, flexibility\, persuasion\, passion and a shared sense of ‘higher self’. This Train the Trainer course enables all of the delegates to have the confidence and skill to become facilitators. We will encourage them to leave their egos behind and feel empowered and excited by the experience. This is not just a course for experienced trainers. People with little or no experience will benefit from a course that takes the fear out of training\, replacing it with passion for teaching. \nWho Should Attend\nThis course is designed for anyone who would like to become a teacher\, tutor or for those who want to do public speaking. You don’t need any previous experience to take this course. Anyone in a position where they need to teach\, instruct or plan training will benefit from this course. \nTrain the Trainer Course Content\nDay 1\n\nThe prime concept of development – it is not about me; it is about them and their needs and objectives. Fear is irrelevant\, as there is no chance of failure\nTaking ego out of the training room – replacing it with strength\, empathy\, a shared feeling of ‘service’ and a concept of the ‘higher self’ when developing people\nHow to use your imagination and originality – Get the most out of the messages and your delegates\nWhat is the key to learning when you train delegates? – The experience\, strengths and ingenuity of delegates. We highlight this to your trainers so they too\, get the best results out of their training\nA new look at useful ‘props’ – visual aids\, materials\, exercises\, energisers\, ice breakers and role play in the training environment\n\nDay 2\n\nPrepare and deliver a 15 minutes training/presentation (on a specific chosen topic) to a small group of learners\nTake part in a peer review and to be reviewed by the peers\nTraining and support on using computer\, zoom\, teams for the training (such as; connecting\, settings\, trouble shooting of IT compatibility challenges)\nReceive a constructive tutor review\nLesson learnt and summary\n\nLearning Outcomes\nBy the end of the course learners will be able to: \n\nInspire and motivate a self-actualised group of imaginative\, inspired and motivational trainers with the confidence and skills to train and develop your people\nDevelop a limitless number of fresh ideas to use when on training courses in your or any organisation
URL:https://www.careerchangewales.co.uk/event/day-2-train-the-trainer-course-ilm-recognised-programme-event-1/
LOCATION:5-7 Museum Place\, Cardiff\, CF10 3BD\, 5-7 Museum Place\, Cardiff\, CF10 3BD\, United Kingdom
CATEGORIES:Leadership and Management Training
ATTACH;FMTTYPE=image/jpeg:https://www.careerchangewales.co.uk/wp-content/uploads/2022/11/MASTER_ILM-RECOGNISED.jpg
ORGANIZER;CN="CCW-Training Academy":MAILTO:Info@CareerChangeWales.co.uk
END:VEVENT
END:VCALENDAR