BEGIN:VCALENDAR
VERSION:2.0
PRODID:-//CCW-Training Academy - ECPv6.15.20//NONSGML v1.0//EN
CALSCALE:GREGORIAN
METHOD:PUBLISH
X-WR-CALNAME:CCW-Training Academy
X-ORIGINAL-URL:https://www.careerchangewales.co.uk
X-WR-CALDESC:Events for CCW-Training Academy
REFRESH-INTERVAL;VALUE=DURATION:PT1H
X-Robots-Tag:noindex
X-PUBLISHED-TTL:PT1H
BEGIN:VTIMEZONE
TZID:Europe/London
BEGIN:DAYLIGHT
TZOFFSETFROM:+0000
TZOFFSETTO:+0100
TZNAME:BST
DTSTART:20240331T010000
END:DAYLIGHT
BEGIN:STANDARD
TZOFFSETFROM:+0100
TZOFFSETTO:+0000
TZNAME:GMT
DTSTART:20241027T010000
END:STANDARD
BEGIN:DAYLIGHT
TZOFFSETFROM:+0000
TZOFFSETTO:+0100
TZNAME:BST
DTSTART:20250330T010000
END:DAYLIGHT
BEGIN:STANDARD
TZOFFSETFROM:+0100
TZOFFSETTO:+0000
TZNAME:GMT
DTSTART:20251026T010000
END:STANDARD
BEGIN:DAYLIGHT
TZOFFSETFROM:+0000
TZOFFSETTO:+0100
TZNAME:BST
DTSTART:20260329T010000
END:DAYLIGHT
BEGIN:STANDARD
TZOFFSETFROM:+0100
TZOFFSETTO:+0000
TZNAME:GMT
DTSTART:20261025T010000
END:STANDARD
END:VTIMEZONE
BEGIN:VEVENT
DTSTART;VALUE=DATE:20250331
DTEND;VALUE=DATE:20250402
DTSTAMP:20260424T021556
CREATED:20240703T144108Z
LAST-MODIFIED:20241025T134829Z
UID:10731-1743379200-1743551999@www.careerchangewales.co.uk
SUMMARY:Intermediate AutoCAD Training
DESCRIPTION:Intermediate AutoCAD Training\nIntermediate AutoCAD Training. Offsite Training: We are able to offer training at your premises subject to a minimum number of candidates. We can also offer bespoke training to your line of business at all levels. If interested please contact us at Info@CareerChangeWales.co.uk or call 029 21 156 603\, and we will be able to give you a very competitive rate. \nThis intermediate AutoCAD training course is designed for the experienced AutoCAD® user who requires additional training. It incorporates the features\, commands\, and techniques for becoming more productive when creating\, annotating\, and printing drawings with AutoCAD. This intermediate-level course continues to build on the basic concepts of the AutoCAD Essentials course. \nAutoCAD is a Computer Aided Design (CAD) software to assist with 2D and 3D design. AutoCAD is the leading tool in design and drafting for industries including Engineering\, planning\, architecture and design. Proficiency in AutoCAD can greatly assist learners in the creation of highly detailed plans and designs in a short period of time. \nWho Should Attend\nThis intermediate AutoCAD training course has been created for users with experience in using AutoCAD but who want to improve on their abilities. This course goes well with the beginner course. \nCourse Content (Intermediate AutoCAD Training)\nThis course will cover the following: \n\nExtended Object visibility control\nWorking with multiple documents\nUtility Commands\nCreating Layouts & Plotting\nAdvanced Layouts\nBlock creation and management\n\nLearning Outcomes\nBy the end of the course learner will be able to: \n\nCreate Custom Workspaces\nCreate Parametric Drawings\nUse external References\nAnnotate Styles\nCreate advanced Layouts
URL:https://www.careerchangewales.co.uk/event/intermediate-autocad-training/
LOCATION:5-7 Museum Place\, Cardiff\, CF10 3BD\, 5-7 Museum Place\, Cardiff\, CF10 3BD\, United Kingdom
CATEGORIES:Construction Related Training
ATTACH;FMTTYPE=image/jpeg:https://www.careerchangewales.co.uk/wp-content/uploads/2015/08/autocad-300x300.jpg
ORGANIZER;CN="CCW-Training Academy":MAILTO:Info@CareerChangeWales.co.uk
END:VEVENT
BEGIN:VEVENT
DTSTART;VALUE=DATE:20250331
DTEND;VALUE=DATE:20250403
DTSTAMP:20260424T021557
CREATED:20240704T091103Z
LAST-MODIFIED:20250107T110036Z
UID:10795-1743379200-1743638399@www.careerchangewales.co.uk
SUMMARY:Topographical Surveying
DESCRIPTION:Topographical Surveying Training Cardiff Module 1\nThis Topographical Surveying Training Cardiff has been developed to provide a general overview of basic land surveying and measurement techniques using manual and electronic equipment\, transfer of field data to digital terrain modelling software and to produce 2 or 3 dimensional survey output files for computer aided design (CAD). \nCourse Aims:\nThe course will give the candidate a brief insight and understanding of surveying principles and equipment. \nCandidates will gain practical experience in the use of manual and electronic equipment to successfully carry out levelling surveys and topographical surveys of project sites\, and to digitally transfer the topographical field data to Land Surveying Software to produce a 3 dimensional model of the site and output ACAD compatible files for design purposes. \nCourse Outline:\n1. Introduction to land surveying \n2. Levelling operations: a) Height of collimation method; b) Rise and fall method; c) Use of ordnance survey bench marks \n3. Use of electronic surveying instruments. \n4. Undertaking a topographical survey. \n5. Establishment of survey control: a) Three point resection; b) Using digital Ordnance survey maps; c) Using GPS \n6. Digital data transfer from survey instruments: a) Leica geo office tools; b) Topcon tools \n7. Survey data processing \n8. Use of AutoCAD in surveying \nDelivery Methodology:\n\nPresentation by tutor\nWorkshop and case study\nFeedback activity\n\nBenefits Perceived by attendees:\n\nMaintain existing and updating surveying skills\nGain practical experience in Land Surveying\, on-site working with surveyors and engineers\n\nIntended for:\nConstruction industry professionals who wish to update their existing surveying skills or who are in the early part of their careers and who wish to gain useful practical experience in land surveying. \nCourse Duration:  3 Days
URL:https://www.careerchangewales.co.uk/event/topographical-surveying-2/
LOCATION:5-7 Museum Place\, Cardiff\, CF10 3BD\, 5-7 Museum Place\, Cardiff\, CF10 3BD\, United Kingdom
CATEGORIES:Construction Related Training
ATTACH;FMTTYPE=image/png:https://www.careerchangewales.co.uk/wp-content/uploads/2022/11/Quality-management-system-Logo.png
ORGANIZER;CN="CCW-Training Academy":MAILTO:Info@CareerChangeWales.co.uk
END:VEVENT
BEGIN:VEVENT
DTSTART;VALUE=DATE:20250401
DTEND;VALUE=DATE:20250403
DTSTAMP:20260424T021557
CREATED:20240704T103454Z
LAST-MODIFIED:20250107T110929Z
UID:10866-1743465600-1743638399@www.careerchangewales.co.uk
SUMMARY:Microsoft Project Beginner and Intermediate
DESCRIPTION:Microsoft Project Training\nWe provide 2 days of Microsoft Project training Cardiff and Microsoft Project course. The training is to a high quality due to the small numbers of candidates we run the classes in. We provide the training at our head office which is 5-7 Museum Place\, Cardiff\, CF10 3BD \nDay 1 – Introduction to Microsoft Project \nDay 2 – Intermediate Level – Practical Application (Optional) \nProject management is an essential skill for so many managers and leaders in various sectors of work. Being a skilled project manager can mean the difference between a project running to schedule and running over on cost\, time and resources. When projects run over it costs organisations thousands of pounds and risks their reputation as a project managing organisation. By training your staff to better manage projects we can understand how and what to prepare for whilst managing resources simultaneously and identifying where any why the project has run over. \nMS projects is Microsoft’s answer to contemporary project management tools. It has been designed to assist project managers to plan\, assign resources and track project progress towards completions. It has become one of the most popular and the fastest growing project management tool available on the market. In addition to these features MS Projects can be used to track project related aspects. More recent features to be added include ‘inactive tasks’ that allow for ‘what if’ analysis\, synchronisation of project aspects over sharepoint and for multiple projects to share a pool of resources. This Microsoft Project training Cardiff has been designed to assist individuals with minimal or no experience in Microsoft project on the correct use of these functions and for individuals with some experience but whom are unfamiliar with more advanced functions of MS Projects. \nWho Should Attend\nAnyone with experience with project management\, in a position that requires regular use of MS projects or individuals who possess no formal qualifications in project management. This Microsoft Project training Cardiff course has been designed for individuals with little to no experience with Microsoft Project \nCourse Content for Microsoft Project Training Cardiff\nThis course will cover the following : \n\n\n\n\n(Introduction Course)\n(Intermediate Course)\n\n\nProject Planning\nResourcing a Project\n\n\nCustomising MS Project\nBaselining\n\n\nScheduling MS Project\nProject Costs and Control\n\n\nTask Entry\nResource Overallocation\n\n\nLinking Tasks\nCritical Path\n\n\nConstraints and Lag\nReporting\, Master and Subprojects\n\n\nPrinting\nResource Pool\n\n\n\n\nLearning Outcomes for Microsoft Project Training\nBy the end of the course learners will be able to: \n\nCreate and manage projects using Microsoft Project\nUse resources efficiently to greatly improve the projects running\nAdjust projects of a project e.g more resources\, less hours.\nschedule tasks to individuals or positions\n\nMicrosoft Project Course Format\nThis Microsoft Project Training Cardiff comes in 2 levels\, an introductory level and an intermediate level. The Introduction level is a 1 day and you have the option of doing the intermediate course as well which is also a 1 day course.
URL:https://www.careerchangewales.co.uk/event/microsoft-project-beginner-and-intermediate/
LOCATION:5-7 Museum Place\, Cardiff\, CF10 3BD\, 5-7 Museum Place\, Cardiff\, CF10 3BD\, United Kingdom
CATEGORIES:ICT Training Courses
ATTACH;FMTTYPE=image/png:https://www.careerchangewales.co.uk/wp-content/uploads/2021/11/1200px-Microsoft_Project_2019–present.png
ORGANIZER;CN="CCW-Training Academy":MAILTO:Info@CareerChangeWales.co.uk
END:VEVENT
END:VCALENDAR