BEGIN:VCALENDAR
VERSION:2.0
PRODID:-//CCW-Training Academy - ECPv6.15.20//NONSGML v1.0//EN
CALSCALE:GREGORIAN
METHOD:PUBLISH
X-WR-CALNAME:CCW-Training Academy
X-ORIGINAL-URL:https://www.careerchangewales.co.uk
X-WR-CALDESC:Events for CCW-Training Academy
REFRESH-INTERVAL;VALUE=DURATION:PT1H
X-Robots-Tag:noindex
X-PUBLISHED-TTL:PT1H
BEGIN:VTIMEZONE
TZID:Europe/London
BEGIN:DAYLIGHT
TZOFFSETFROM:+0000
TZOFFSETTO:+0100
TZNAME:BST
DTSTART:20250330T010000
END:DAYLIGHT
BEGIN:STANDARD
TZOFFSETFROM:+0100
TZOFFSETTO:+0000
TZNAME:GMT
DTSTART:20251026T010000
END:STANDARD
BEGIN:DAYLIGHT
TZOFFSETFROM:+0000
TZOFFSETTO:+0100
TZNAME:BST
DTSTART:20260329T010000
END:DAYLIGHT
BEGIN:STANDARD
TZOFFSETFROM:+0100
TZOFFSETTO:+0000
TZNAME:GMT
DTSTART:20261025T010000
END:STANDARD
BEGIN:DAYLIGHT
TZOFFSETFROM:+0000
TZOFFSETTO:+0100
TZNAME:BST
DTSTART:20270328T010000
END:DAYLIGHT
BEGIN:STANDARD
TZOFFSETFROM:+0100
TZOFFSETTO:+0000
TZNAME:GMT
DTSTART:20271031T010000
END:STANDARD
END:VTIMEZONE
BEGIN:VEVENT
DTSTART;VALUE=DATE:20260303
DTEND;VALUE=DATE:20260305
DTSTAMP:20260422T221305
CREATED:20251003T135426Z
LAST-MODIFIED:20251003T135426Z
UID:11695-1772496000-1772668799@www.careerchangewales.co.uk
SUMMARY:Train the Trainer
DESCRIPTION:Train the Trainer Training in Wales – ILM Recognised Programme\nWhy Choose Our Train the Trainer Course?\n\n\n\nOur bespoke Train the Trainer programme combines creative methods\, professional insight\, and continuous support to help you develop a learner-centred approach. You’ll transform your presentation style with proven props and energisers\, build confidence through practical coaching\, earn an ILM-accredited certificate\, and access blended delivery in Cardiff or live online via Zoom. \nThis unique course is designed to empower trainers by drawing on our extensive experience\, creativity\, and innovative methods. It goes beyond traditional training techniques\, helping participants overcome self-doubt and unlock their most powerful tool – themselves. \nWho Should Attend\nThis course is perfect for: \n\nAspiring teachers\, tutors and corporate trainers\nPublic speakers and workshop facilitators\nHR professionals\, L&D specialists and subject-matter experts\nAnyone responsible for planning\, delivering or assessing training\n\nNo prior experience is required\, just a passion for sharing knowledge and inspiring others. \nCourse Content\nDay 1: Foundations of Facilitation\n\nUnderstanding the shift from “instructor” to “facilitator”\nPutting learners’ objectives first: creating learner-centred sessions\nRemoving ego: building empathy\, service orientation and self-awareness\nUnlocking creativity: using imagination\, visual aids and interactive props\nDesigning icebreakers\, energisers and role-plays to maximise engagement\n\nDay 2: Practice\, Feedback & Improvement\n\nDelivering a 5–10 minute mini-session on your chosen topic\nParticipating in peer reviews to sharpen your delivery skills\nReceiving constructive tutor feedback for continuous growth\nMastering feedback techniques to refine future sessions\nSummarising lessons learned and creating an improvement plan\n\nLearning Outcomes\nBy course end\, you will be able to: \n\nDesign and deliver engaging\, learner-focused training sessions\nInspire and motivate groups using a facilitative leadership style\nApply innovative techniques to captivate diverse audiences\nUse feedback effectively to enhance your training impact\nConfidently manage group dynamics and challenging situations\n\nCourse Logistics\n\nLocation: 5–7 Museum Place\, Cardiff\, CF10 3BD or via Zoom\nDuration: 2 days of interactive workshops + tutor support\nIncludes: ILM registration\, all materials\, refreshments and certification\nPrice & Dates: View our calendar or contact us for bespoke group bookings\n\nReady to Transform Your Training?\nInvest in your professional development today. Contact us to discuss course dates\, pricing or on-site delivery options: \n\n info@careerchangewales.co.uk  029 21 156 603\n\nEmpower yourself to become a confident facilitator who inspires real learning\, and take your first step towards ILM-accredited success in Wales. \nCheck out our Twitter. You can also see our other courses HERE.
URL:https://www.careerchangewales.co.uk/event/train-the-trainer-3/
LOCATION:5-7 Museum Place\, Cardiff\, CF10 3BD\, 5-7 Museum Place\, Cardiff\, CF10 3BD\, United Kingdom
CATEGORIES:CPD and HR Related Courses
ORGANIZER;CN="CCW-Training Academy":MAILTO:Info@CareerChangeWales.co.uk
END:VEVENT
BEGIN:VEVENT
DTSTART;VALUE=DATE:20260304
DTEND;VALUE=DATE:20260306
DTSTAMP:20260422T221305
CREATED:20251003T135819Z
LAST-MODIFIED:20251003T135819Z
UID:11711-1772582400-1772755199@www.careerchangewales.co.uk
SUMMARY:Beginner AutoCAD Course
DESCRIPTION:Foundation / Beginner AutoCAD Course\nBeginner AutoCAD course training. Offsite Training: We are able to offer training at your premises subject to a minimum number of candidates. We can also offer bespoke training to your line of business at all levels. If interested please contact us at Info@CareerChangeWales.co.uk or call 029 21 156 603\, and we will be able to give you a very competitive rate. \n\n\n\nThis beginner AutoCAD course focuses on the basic features\, commands\, and techniques for creating\, editing\, and printing drawings with AutoCAD. Using hands-on exercises\, students explore how to create 1 Dimension production drawings. \nWe run our course at 5-7 Museum Place\, Cardiff\, CF10 3BD\, however if you can’t come to Cardiff we can also offer the course through Zoom. We also offer the training at your venue if you have a minimum number of candidates. \nFor training dates\, have a look at our calendar – CLICK HERE \nIf you cannot find the course you’re looking for on the calendar please contact us either by phoning 029 21 156 603 or emailing Info@CareerChangeWales.co.uk \nWho Should Attend\nThis beginner AutoCAD course is created for anyone looking to get in to AutoCAD but hasn’t used it before\, or for anyone looking for a refresher course. \nCourse Content\nThis course will cover the following: \n\nUsing the properties Palette\nUsing Line types\nUsing inquiry commands\nAltering Objects\nTrimming and extending objects to defined boundaries\nCreating parallel and offset geometry\nJoining objects\nInputting Data\nCreating basic objects\nUsing Polar tracking and Polar Snap\n\nLearning Outcomes\nBy the end of the course learner will be able to: \n\nUnderstand the different tabs\nCreate Basic Drawings\nManipulate objects\nDraw inquiry commands\nDraw Organisation commands\n\nCourse Format (Beginner AutoCAD Course)\nThis beginner AutoCAD course is a 2 day intensive course that is generally taught in small classes; normally around 3-4 people in a class to give you the maximum exposure to an industry professional. This will enable you to ask the questions that you require and\, more importantly\, have your questions answered. There is no exam with this course but you will receive homework to complete after every training session. \nThere are no hidden costs for training. All of our training includes; refreshments\, training material\, registration and all other related costs. \nIf you would like any additional information about this course then please contact us on 02921156603 or email Admin@CareerChangeWales.co.uk \nTwitter\, Facebook
URL:https://www.careerchangewales.co.uk/event/beginner-autocad-course-7/
LOCATION:5-7 Museum Place\, Cardiff\, CF10 3BD\, 5-7 Museum Place\, Cardiff\, CF10 3BD\, United Kingdom
CATEGORIES:ICT Training Courses
ORGANIZER;CN="CCW-Training Academy":MAILTO:Info@CareerChangeWales.co.uk
END:VEVENT
END:VCALENDAR