BEGIN:VCALENDAR
VERSION:2.0
PRODID:-//CCW-Training Academy - ECPv6.15.20//NONSGML v1.0//EN
CALSCALE:GREGORIAN
METHOD:PUBLISH
X-ORIGINAL-URL:https://www.careerchangewales.co.uk
X-WR-CALDESC:Events for CCW-Training Academy
REFRESH-INTERVAL;VALUE=DURATION:PT1H
X-Robots-Tag:noindex
X-PUBLISHED-TTL:PT1H
BEGIN:VTIMEZONE
TZID:Europe/London
BEGIN:DAYLIGHT
TZOFFSETFROM:+0000
TZOFFSETTO:+0100
TZNAME:BST
DTSTART:20250330T010000
END:DAYLIGHT
BEGIN:STANDARD
TZOFFSETFROM:+0100
TZOFFSETTO:+0000
TZNAME:GMT
DTSTART:20251026T010000
END:STANDARD
BEGIN:DAYLIGHT
TZOFFSETFROM:+0000
TZOFFSETTO:+0100
TZNAME:BST
DTSTART:20260329T010000
END:DAYLIGHT
BEGIN:STANDARD
TZOFFSETFROM:+0100
TZOFFSETTO:+0000
TZNAME:GMT
DTSTART:20261025T010000
END:STANDARD
BEGIN:DAYLIGHT
TZOFFSETFROM:+0000
TZOFFSETTO:+0100
TZNAME:BST
DTSTART:20270328T010000
END:DAYLIGHT
BEGIN:STANDARD
TZOFFSETFROM:+0100
TZOFFSETTO:+0000
TZNAME:GMT
DTSTART:20271031T010000
END:STANDARD
END:VTIMEZONE
BEGIN:VEVENT
DTSTART;VALUE=DATE:20260306
DTEND;VALUE=DATE:20260307
DTSTAMP:20260422T185453
CREATED:20251003T133503Z
LAST-MODIFIED:20251003T133523Z
UID:11642-1772755200-1772841599@www.careerchangewales.co.uk
SUMMARY:Project Management Essentials (1/2 day)
DESCRIPTION:Project Management Essentials (1/2 day) – £75 + VAT\nIntroduction\n\n\n\nThis practical half day introduction course in project management essentials is ideal for professionals working within project teams\, especially new project officer\, manager\, engineers\, and technical staff stepping into leadership roles. It provides a simplified explanation of how project management principles that apply across industries\, helping participants tackle challenges with confidence and clarity. Understanding essential leadership skills in assisting project managers. \nCourse aims\nParticipants will gain a foundational understanding of project management and how it differs from routine work. The course covers key concepts including: \n\nProject initiation and stakeholder engagement\nRisk management and estimating\nContracts and planning\nExecution and project closure\n\nBy the end of the day\, attendees will be equipped with tools to contribute effectively to any project environment. \nCourse outline\nThrough interactive sessions and practical exercises\, you’ll explore how to: \n\nDefine project scope and identify stakeholders across the lifecycle\nClarify team roles and responsibilities\nApply scheduling\, budgeting\, and critical path analysis\nManage change while maintaining project integrity\nUse risk management techniques to anticipate challenges\nEmbrace best practices and foster innovation\nCapture and share lessons/good practices learned to drive continuous improvement\n\nDelivery methodology\n\nExpert-led presentations\nHands-on workshop and case study analysis\nGroup feedback and reflection activities\n\nParticipant benefits\n\nA clear overview of project management tools and techniques\nPractical strategies to navigate each phase of the project lifecycle\nConfidence to manage complexity and contribute to project success\n\nWho should attend\nThis course is designed for: \n\nTeam members involved in project delivery\nEngineers and professionals transitioning into management roles\nAnyone seeking to strengthen their project planning and coordination skills\n\nContact us either through 029 21 156 603 or email info@careerchangewales.co.uk \nKeep up with us through TWITTER and FACEBOOK. Check out our OTHER COURSES HERE!
URL:https://www.careerchangewales.co.uk/event/project-management-essentials-1-2-day-5/
LOCATION:5-7 Museum Place\, Cardiff\, CF10 3BD\, 5-7 Museum Place\, Cardiff\, CF10 3BD\, United Kingdom
CATEGORIES:Soft Skills Courses
ORGANIZER;CN="CCW-Training Academy":MAILTO:Info@CareerChangeWales.co.uk
END:VEVENT
BEGIN:VEVENT
DTSTART;VALUE=DATE:20260306
DTEND;VALUE=DATE:20260307
DTSTAMP:20260422T185453
CREATED:20251003T135609Z
LAST-MODIFIED:20251003T135609Z
UID:11703-1772755200-1772841599@www.careerchangewales.co.uk
SUMMARY:Master Facilitation Skills
DESCRIPTION:Master Facilitation Skills\nAim/Objective\n\n\n\nMaster facilitation skills with our fantastic one day training course! This training course is designed to enhance facilitation skills for staff within various organisations. It provides practical guidance on leading meetings effectively\, setting and achieving targets\, and improving time management\, organisation\, and planning. Additionally\, the course equips participants with strategies to manage team conflict and address personal challenges\, fostering a more cohesive and supportive work environment. \nEffective facilitation is about creating an environment for discussions to flow smoothly\, without the facilitator taking an active role in the conversation. This course will equip attendees with the skills to guide meetings\, foster mutual understanding\, and support individuals in planning and achieving their objectives – ensuring productive and meaningful outcomes. \nMaster Facilitation Skills Course content\n\nManaging effective meetings\nUnderstanding the dynamics of a group within an organisation\nBody language and effective communication skills\nTools and practical skills\nKeeping emotions under control\nHow to control a discussion and skills to defuse arguments\nProblem solving skills\nHow to manage a conflict\nWorking on a meeting agenda\nHow to present challenging news\nFocusing on processes\n\nLearning outcome\n\nYou will learn how to give good feedback\nYou will develop your managing skills\n\nGeneral Information\nThis is a 1-day course that runs from 9:30 AM to 4:30 PM. Lunch and refreshments will be provided for you\, if you have any dietary requirements\, please let us know by emailing Info@CareerChangeWales.co.uk. \nCheck out our other courses HERE \nYou can keep up with us through FACEBOOK or TWITTER
URL:https://www.careerchangewales.co.uk/event/master-facilitation-skills-3/
LOCATION:5-7 Museum Place\, Cardiff\, CF10 3BD\, 5-7 Museum Place\, Cardiff\, CF10 3BD\, United Kingdom
CATEGORIES:Soft Skills Courses
ORGANIZER;CN="CCW-Training Academy":MAILTO:Info@CareerChangeWales.co.uk
END:VEVENT
END:VCALENDAR