BEGIN:VCALENDAR
VERSION:2.0
PRODID:-//CCW-Training Academy - ECPv6.15.20//NONSGML v1.0//EN
CALSCALE:GREGORIAN
METHOD:PUBLISH
X-ORIGINAL-URL:https://www.careerchangewales.co.uk
X-WR-CALDESC:Events for CCW-Training Academy
REFRESH-INTERVAL;VALUE=DURATION:PT1H
X-Robots-Tag:noindex
X-PUBLISHED-TTL:PT1H
BEGIN:VTIMEZONE
TZID:Europe/London
BEGIN:DAYLIGHT
TZOFFSETFROM:+0000
TZOFFSETTO:+0100
TZNAME:BST
DTSTART:20250330T010000
END:DAYLIGHT
BEGIN:STANDARD
TZOFFSETFROM:+0100
TZOFFSETTO:+0000
TZNAME:GMT
DTSTART:20251026T010000
END:STANDARD
BEGIN:DAYLIGHT
TZOFFSETFROM:+0000
TZOFFSETTO:+0100
TZNAME:BST
DTSTART:20260329T010000
END:DAYLIGHT
BEGIN:STANDARD
TZOFFSETFROM:+0100
TZOFFSETTO:+0000
TZNAME:GMT
DTSTART:20261025T010000
END:STANDARD
BEGIN:DAYLIGHT
TZOFFSETFROM:+0000
TZOFFSETTO:+0100
TZNAME:BST
DTSTART:20270328T010000
END:DAYLIGHT
BEGIN:STANDARD
TZOFFSETFROM:+0100
TZOFFSETTO:+0000
TZNAME:GMT
DTSTART:20271031T010000
END:STANDARD
END:VTIMEZONE
BEGIN:VEVENT
DTSTART;VALUE=DATE:20260318
DTEND;VALUE=DATE:20260321
DTSTAMP:20260421T201949
CREATED:20251003T135042Z
LAST-MODIFIED:20251003T135042Z
UID:11685-1773792000-1774051199@www.careerchangewales.co.uk
SUMMARY:ILM Level 5 Leadership and Management
DESCRIPTION:ILM Level 5 Leadership and Management – Strategic Training in Wales\nCourse Overview\n\n\n\nElevate your senior management capabilities with CCW’s ILM Level 5 in Leadership and Management\, delivered across Wales. This advanced qualification equips experienced professionals with strategic thinking\, innovation tools\, and change-management expertise essential for leading organisations through complex challenges. \nAt this level\, managers are encouraged to develop a comprehensive understanding of organisational dynamics\, strategic planning\, and the effective use of resources. The ILM Level 5 qualification provides practical tools for managing teams\, leading change\, and navigating the complexities of leadership in today’s fast-paced world. \nFor training dates\, have a look at our calendar – CLICK HERE \nWhy Choose CCW for ILM Level 5 Training in Wales?\n\nAccredited by the Institute of Leadership & Management (ILM)\, recognised UK-wide\nDelivery in Cardiff or via live online sessions (Zoom/MS Teams)\nBespoke on-site training for groups of 6+ delegates\nExpert tutors with hands-on leadership and sector experience\nDedicated assignment support\, tutorials\, and mentoring\n\nCourse Overview\nThe ILM Level 5 suite offers three pathways: \n\nAward (2 modules)\nCertificate (5 modules)\n\nEach pathway combines practical workshops with written assignments (nominal 2\,200 words each) to embed learning in your workplace context. \nWho Should Attend?\nThis course is designed for senior and middle managers aiming for promotion\, project leaders and functional specialists\, professionals responsible for strategic or change leadership\, and organisations investing in leadership succession planning. \nCore Modules\nAward (2 modules): \n\nBecoming an Effective Leader\nManaging Projects in the Organisation (incl. White Belt Lean Six Sigma)\n\nCertificate (adds 3 modules): \n\nManaging Individual Development\nSolving Problems by Making Effective Decisions\nLeading Innovation and Change\n\nFormat & Duration\n\nAward: 2 days training + optional tutorial day\nCertificate: 4 days training + tutorial support\nAssignments: 1 assignment for each module undertaken\n\nLocation & Delivery\n\nIn-person: 5–7 Museum Place\, Cardiff\, CF10 3BD\nOnline: Live Zoom or MS Teams sessions\nOn-site: Group bookings of 6+ delegates anywhere in Wales\n\nLearning Outcomes\nBy course end\, you will be able to: \n\nDevelop and communicate strategic vision\nManage complex projects and resources\nFoster innovation and lead organisational change\nApply commercial awareness in decision-making\nMentor and develop high-performing teams\n\nEnrol Today\nReady to transform your leadership impact? Email info@CareerChangeWales.co.uk or call 029 21 156 603 to discuss dates\, pricing\, or bespoke delivery. \nCheck out our other ILM courses: HERE
URL:https://www.careerchangewales.co.uk/event/ilm-level-5-leadership-and-management-12/
LOCATION:5-7 Museum Place\, Cardiff\, CF10 3BD\, 5-7 Museum Place\, Cardiff\, CF10 3BD\, United Kingdom
CATEGORIES:Leadership and Management Training
ORGANIZER;CN="CCW-Training Academy":MAILTO:Info@CareerChangeWales.co.uk
END:VEVENT
BEGIN:VEVENT
DTSTART;VALUE=DATE:20260318
DTEND;VALUE=DATE:20260321
DTSTAMP:20260421T201949
CREATED:20251003T140740Z
LAST-MODIFIED:20251003T140740Z
UID:11752-1773792000-1774051199@www.careerchangewales.co.uk
SUMMARY:Surveying Module 2 – Setting Out Training
DESCRIPTION:Setting Out Training Cardiff\nThis Setting Out Training Cardiff course has been developed to provide a general overview of basic setting out techniques using manual and electronic equipment related to the transfer of design information to produce data for setting out on site. \nCourse Aims:\nThe course will give the candidate a brief insight and understanding of setting out principles and equipment. Candidates will gain practical experiences in the use of manuals and electronic equipment to successfully implement co-ordinated setting out position of points\, profiles and batter rails. These will also include on-site calculations and the installation of ‘profiles’ and ‘batter rails’ for trench work\, earthwork and road construction. \nCourse Outline:\n1. Introduction to setting out \n2. Conversion of design information to setting out data \n3. Calculation of polar rectangular and grid co-ordinates \n4. Levelling operations used in set finished levels \n5. Setting out by co-ordinates using electronic survey equipment \n6. Setting out by angle and horizontal distance \n7. Setting out and installing profile boards and batter rails \n8. Survey checks and as-built drawings using digital information \nDelivery Methodology:\n\nPresentation by tutor\, case study and examples\nPractical site setting out (on-site) using EDM – Total Station\nRevision and feedback activity\n\nBenefits Perceived by attendees:\n\nMaintain and updating existing skills\nGain practical setting out experience on site with practicing surveyor/engineer\n\nTestimonials\n“I completed a training course in Surveying and Setting-Out. The facilities were good and the training was excellent and able to be tailored to my specific needs. Very well informed\, tutor used good written and practical aids. They come highly recommended A+++”  – Andy Cole \nIntended for:\nConstruction industry professionals who wish to update their existing setting out skills or who are in the early part of their careers and who wish to gain useful practical experience in setting out for construction purposes. \nCourse Duration: 3 Days \nHomework : 3 Day\nGeneral:\nRefreshments and lunch will be provided including course notes.
URL:https://www.careerchangewales.co.uk/event/surveying-module-2-setting-out-training-3/
LOCATION:5-7 Museum Place\, Cardiff\, CF10 3BD\, 5-7 Museum Place\, Cardiff\, CF10 3BD\, United Kingdom
CATEGORIES:Construction Related Training
ORGANIZER;CN="CCW-Training Academy":MAILTO:Info@CareerChangeWales.co.uk
END:VEVENT
END:VCALENDAR