BEGIN:VCALENDAR
VERSION:2.0
PRODID:-//CCW-Training Academy - ECPv6.15.20//NONSGML v1.0//EN
CALSCALE:GREGORIAN
METHOD:PUBLISH
X-ORIGINAL-URL:https://www.careerchangewales.co.uk
X-WR-CALDESC:Events for CCW-Training Academy
REFRESH-INTERVAL;VALUE=DURATION:PT1H
X-Robots-Tag:noindex
X-PUBLISHED-TTL:PT1H
BEGIN:VTIMEZONE
TZID:Europe/London
BEGIN:DAYLIGHT
TZOFFSETFROM:+0000
TZOFFSETTO:+0100
TZNAME:BST
DTSTART:20250330T010000
END:DAYLIGHT
BEGIN:STANDARD
TZOFFSETFROM:+0100
TZOFFSETTO:+0000
TZNAME:GMT
DTSTART:20251026T010000
END:STANDARD
BEGIN:DAYLIGHT
TZOFFSETFROM:+0000
TZOFFSETTO:+0100
TZNAME:BST
DTSTART:20260329T010000
END:DAYLIGHT
BEGIN:STANDARD
TZOFFSETFROM:+0100
TZOFFSETTO:+0000
TZNAME:GMT
DTSTART:20261025T010000
END:STANDARD
BEGIN:DAYLIGHT
TZOFFSETFROM:+0000
TZOFFSETTO:+0100
TZNAME:BST
DTSTART:20270328T010000
END:DAYLIGHT
BEGIN:STANDARD
TZOFFSETFROM:+0100
TZOFFSETTO:+0000
TZNAME:GMT
DTSTART:20271031T010000
END:STANDARD
END:VTIMEZONE
BEGIN:VEVENT
DTSTART;VALUE=DATE:20260330
DTEND;VALUE=DATE:20260401
DTSTAMP:20260420T232351
CREATED:20251003T140002Z
LAST-MODIFIED:20251003T140002Z
UID:11719-1774828800-1775001599@www.careerchangewales.co.uk
SUMMARY:Intermediate AutoCAD Training
DESCRIPTION:Intermediate AutoCAD Training\nIntermediate AutoCAD Training. Offsite Training: We are able to offer training at your premises subject to a minimum number of candidates. We can also offer bespoke training to your line of business at all levels. If interested please contact us at Info@CareerChangeWales.co.uk or call 029 21 156 603\, and we will be able to give you a very competitive rate. \n\n\n\nThis intermediate AutoCAD training course is designed for the experienced AutoCAD® user who requires additional training. It incorporates the features\, commands\, and techniques for becoming more productive when creating\, annotating\, and printing drawings with AutoCAD. This intermediate-level course continues to build on the basic concepts of the AutoCAD Essentials course. \nWe run our course at 5-7 Museum Place\, Cardiff\, CF10 3BD\, however if you can’t come to Cardiff we can also offer the course through Zoom. We also offer the training at your venue if you have a minimum number of candidates. \nFor training dates\, have a look at our calendar – CLICK HERE \nIf you cannot find the course you’re looking for on the calendar please contact us either by phoning 029 21 156 603 or emailing Info@CareerChangeWales.co.uk \nWho Should Attend\nThis intermediate AutoCAD training course has been created for users with experience in using AutoCAD but who want to improve on their abilities. This course goes well with the beginner course. \nCourse Content (Intermediate AutoCAD Training)\nThis course will cover the following: \n\nExtended Object visibility control\nWorking with multiple documents\nUtility Commands\nCreating Layouts & Plotting\nAdvanced Layouts\nBlock creation and management\n\nLearning Outcomes\nBy the end of the course learner will be able to: \n\nCreate Custom Workspaces\nCreate Parametric Drawings\nUse external References\nAnnotate Styles\nCreate advanced Layouts\n\nCourse Format\nThis intermediate AutoCAD training course is a 2 day intensive course that is generally taught in small classes; normally around 3-4 people in a class to give you the maximum exposure to an industry professional. This will enable you to ask the questions that you require and\, more importantly\, have your questions answered. There is no exam with this course but you will receive homework to complete after every training session. \nThere are no hidden costs for training. All of our training includes; refreshments\, training material\, registration and all other related costs. \nIf you would like any additional information about this course then please contact us on 02921156603 or email Admin@CareerChangeWales.co.uk \nTwitter\, Facebook
URL:https://www.careerchangewales.co.uk/event/intermediate-autocad-training-11/
LOCATION:5-7 Museum Place\, Cardiff\, CF10 3BD\, 5-7 Museum Place\, Cardiff\, CF10 3BD\, United Kingdom
CATEGORIES:ICT Training Courses
ORGANIZER;CN="CCW-Training Academy":MAILTO:Info@CareerChangeWales.co.uk
END:VEVENT
BEGIN:VEVENT
DTSTART;VALUE=DATE:20260331
DTEND;VALUE=DATE:20260403
DTSTAMP:20260420T232351
CREATED:20251003T140619Z
LAST-MODIFIED:20251003T142237Z
UID:11745-1774915200-1775174399@www.careerchangewales.co.uk
SUMMARY:Surveying Module 1 – Topographical Surveying
DESCRIPTION:Topographical Surveying Training Cardiff Module 1\nThis Topographical Surveying Training Cardiff has been developed to provide a general overview of basic land surveying and measurement techniques using manual and electronic equipment\, transfer of field data to digital terrain modelling software and to produce 2 or 3 dimensional survey output files for computer aided design (CAD). \nCourse Aims:\nThe course will give the candidate a brief insight and understanding of surveying principles and equipment. \nCandidates will gain practical experience in the use of manual and electronic equipment to successfully carry out levelling surveys and topographical surveys of project sites\, and to digitally transfer the topographical field data to Land Surveying Software to produce a 3 dimensional model of the site and output ACAD compatible files for design purposes. \nCourse Outline:\n1. Introduction to land surveying. \n2. Levelling operations: a) Height of collimation method; b) Rise and fall method; c) Use of ordnance survey bench marks \n3. Use of electronic surveying instruments. \n4. Undertaking a topographical survey. \n5. Establishment of survey control: a) Three point resection; b) Using digital Ordnance survey maps; c) Using GPS \n6. Digital data transfer from survey instruments: a) Leica geo office tools; b) Topcon tools \n7. Survey data processing \n8. Use of AutoCAD in surveying \nDelivery Methodology:\n\nPresentation by tutor\nWorkshop and case study\nFeedback activity\n\nBenefits Perceived by attendees:\n\nMaintain existing and updating surveying skills\nGain practical experience in Land Surveying\, on-site working with surveyors and engineers\n\nIntended for:\nConstruction industry professionals who wish to update their existing surveying skills or who are in the early part of their careers and who wish to gain useful practical experience in land surveying. \nCourse Duration:  3 Days\nHomework : 3 Days \nGeneral:\nRefreshments and lunch will be provided including course notes.
URL:https://www.careerchangewales.co.uk/event/surveying-module-1-topographical-surveying-4/
LOCATION:5-7 Museum Place\, Cardiff\, CF10 3BD\, 5-7 Museum Place\, Cardiff\, CF10 3BD\, United Kingdom
CATEGORIES:Construction Related Training
ORGANIZER;CN="CCW-Training Academy":MAILTO:Info@CareerChangeWales.co.uk
END:VEVENT
END:VCALENDAR