BEGIN:VCALENDAR
VERSION:2.0
PRODID:-//CCW-Training Academy - ECPv6.15.20//NONSGML v1.0//EN
CALSCALE:GREGORIAN
METHOD:PUBLISH
X-ORIGINAL-URL:https://www.careerchangewales.co.uk
X-WR-CALDESC:Events for CCW-Training Academy
REFRESH-INTERVAL;VALUE=DURATION:PT1H
X-Robots-Tag:noindex
X-PUBLISHED-TTL:PT1H
BEGIN:VTIMEZONE
TZID:Europe/London
BEGIN:DAYLIGHT
TZOFFSETFROM:+0000
TZOFFSETTO:+0100
TZNAME:BST
DTSTART:20250330T010000
END:DAYLIGHT
BEGIN:STANDARD
TZOFFSETFROM:+0100
TZOFFSETTO:+0000
TZNAME:GMT
DTSTART:20251026T010000
END:STANDARD
BEGIN:DAYLIGHT
TZOFFSETFROM:+0000
TZOFFSETTO:+0100
TZNAME:BST
DTSTART:20260329T010000
END:DAYLIGHT
BEGIN:STANDARD
TZOFFSETFROM:+0100
TZOFFSETTO:+0000
TZNAME:GMT
DTSTART:20261025T010000
END:STANDARD
BEGIN:DAYLIGHT
TZOFFSETFROM:+0000
TZOFFSETTO:+0100
TZNAME:BST
DTSTART:20270328T010000
END:DAYLIGHT
BEGIN:STANDARD
TZOFFSETFROM:+0100
TZOFFSETTO:+0000
TZNAME:GMT
DTSTART:20271031T010000
END:STANDARD
END:VTIMEZONE
BEGIN:VEVENT
DTSTART;VALUE=DATE:20260423
DTEND;VALUE=DATE:20260424
DTSTAMP:20260420T232325
CREATED:20251003T140934Z
LAST-MODIFIED:20251003T142319Z
UID:11761-1776902400-1776988799@www.careerchangewales.co.uk
SUMMARY:Banksman Training course (Traffic Marshal Training)
DESCRIPTION:Banksman Training course (Traffic Marshal Training)\nBanksman training course (Traffic Marshal Training): Health & Safety / Warehouse\, Storage & Logistics \nProviding your fleet to work in a safe environment with banksman training \nWhat is the role of a banksman?\nIntroduction: \n\n\n\nAccording to the Health and Safety Executive (HSE)\, circa 7 workers die each year as a result of accidents involving vehicles\, mobile plant and equipment on construction sites. A role and duties of the vehicle banksman is to be in charge of directing the vehicular movements on a construction site. This includes building construction site\, warehouse\, and factory by using a system of hand signals or a radio link in order to prevent accidents and keep workers safe. The training will also ensure that any vehicular manoeuvres made during loading and unloading do not put the driver or other within the close vicinity in danger. \nWhy is the banksman training required?\nOn many sites\, reversing manoeuvres are common\, and can be dangerous – particularly in confined spaces and or challenging site conditions. Banksman training ensures that organisations meet their legal requirements and reduce the risk of costly accidents when carrying out large vehicle reversing manoeuvres. \nWho is banksman training for? (Traffic Marshal Training)\nThis banksman training courses are for all those involved in manoeuvring\, loading and unloading vehicles. Delegates will learn how to guide large goods vehicles\, both rigid and articulated\, using the HSE approved code of signals. \nThis one-day Banksman Duties training course ensures that an organisation meets its obligations to provide training for those involved in the safe guidance of Large Goods Vehicles and reduces the risk of accidents when carrying out common reversing manoeuvres. \nLearning Outcomes:\n\nUnderstand the various causes of accidents involving vehicles at work\nUnderstand the legal responsibilities of the employer for the movement of vehicles\nUnderstand the responsibilities of the Banksman\nUnderstand the risks and control measures involved in the movement of vehicles\nGuide Large Goods Vehicles in a confined space in line with legal and best practice requirements\nReceive a qualification from a globally recognised provider of health and safety training\n\nYour organisation will also benefit from:\n\nPeace of mind from training when completed this training that can reduce the number and/or cost of accidents caused by reversing vehicles\nFlexibility – the course is delivered at a time and location that suits your business\nEfficient and effective learning – theory and practical elements are covered in a one-day course\, minimising time out of the workplace\nEnsuring that your organisation demonstrates its commitment to workplace health and safety\n\nIf you have any questions contact us through 029 21 156 603 or email Info@CareerChangeWales.co.uk \nFind out about OUR COURSES HERE \nFollow us on TWITTER
URL:https://www.careerchangewales.co.uk/event/banksman-training-course-traffic-marshal-training-4/
LOCATION:5-7 Museum Place\, Cardiff\, CF10 3BD\, 5-7 Museum Place\, Cardiff\, CF10 3BD\, United Kingdom
CATEGORIES:Construction Related Training
ORGANIZER;CN="CCW-Training Academy":MAILTO:Info@CareerChangeWales.co.uk
END:VEVENT
BEGIN:VEVENT
DTSTART;VALUE=DATE:20260423
DTEND;VALUE=DATE:20260425
DTSTAMP:20260420T232325
CREATED:20251003T140020Z
LAST-MODIFIED:20251003T141352Z
UID:11720-1776902400-1777075199@www.careerchangewales.co.uk
SUMMARY:Intermediate AutoCAD Training
DESCRIPTION:Intermediate AutoCAD Training\nIntermediate AutoCAD Training. Offsite Training: We are able to offer training at your premises subject to a minimum number of candidates. We can also offer bespoke training to your line of business at all levels. If interested please contact us at Info@CareerChangeWales.co.uk or call 029 21 156 603\, and we will be able to give you a very competitive rate. \n\n\n\nThis intermediate AutoCAD training course is designed for the experienced AutoCAD® user who requires additional training. It incorporates the features\, commands\, and techniques for becoming more productive when creating\, annotating\, and printing drawings with AutoCAD. This intermediate-level course continues to build on the basic concepts of the AutoCAD Essentials course. \nWe run our course at 5-7 Museum Place\, Cardiff\, CF10 3BD\, however if you can’t come to Cardiff we can also offer the course through Zoom. We also offer the training at your venue if you have a minimum number of candidates. \nFor training dates\, have a look at our calendar – CLICK HERE \nIf you cannot find the course you’re looking for on the calendar please contact us either by phoning 029 21 156 603 or emailing Info@CareerChangeWales.co.uk \nWho Should Attend\nThis intermediate AutoCAD training course has been created for users with experience in using AutoCAD but who want to improve on their abilities. This course goes well with the beginner course. \nCourse Content (Intermediate AutoCAD Training)\nThis course will cover the following: \n\nExtended Object visibility control\nWorking with multiple documents\nUtility Commands\nCreating Layouts & Plotting\nAdvanced Layouts\nBlock creation and management\n\nLearning Outcomes\nBy the end of the course learner will be able to: \n\nCreate Custom Workspaces\nCreate Parametric Drawings\nUse external References\nAnnotate Styles\nCreate advanced Layouts\n\nCourse Format\nThis intermediate AutoCAD training course is a 2 day intensive course that is generally taught in small classes; normally around 3-4 people in a class to give you the maximum exposure to an industry professional. This will enable you to ask the questions that you require and\, more importantly\, have your questions answered. There is no exam with this course but you will receive homework to complete after every training session. \nThere are no hidden costs for training. All of our training includes; refreshments\, training material\, registration and all other related costs. \nIf you would like any additional information about this course then please contact us on 02921156603 or email Admin@CareerChangeWales.co.uk \nTwitter\, Facebook
URL:https://www.careerchangewales.co.uk/event/intermediate-autocad-training-12/
LOCATION:5-7 Museum Place\, Cardiff\, CF10 3BD\, 5-7 Museum Place\, Cardiff\, CF10 3BD\, United Kingdom
CATEGORIES:ICT Training Courses
ORGANIZER;CN="CCW-Training Academy":MAILTO:Info@CareerChangeWales.co.uk
END:VEVENT
END:VCALENDAR