BEGIN:VCALENDAR
VERSION:2.0
PRODID:-//CCW-Training Academy - ECPv6.15.20//NONSGML v1.0//EN
CALSCALE:GREGORIAN
METHOD:PUBLISH
X-WR-CALNAME:CCW-Training Academy
X-ORIGINAL-URL:https://www.careerchangewales.co.uk
X-WR-CALDESC:Events for CCW-Training Academy
REFRESH-INTERVAL;VALUE=DURATION:PT1H
X-Robots-Tag:noindex
X-PUBLISHED-TTL:PT1H
BEGIN:VTIMEZONE
TZID:Europe/London
BEGIN:DAYLIGHT
TZOFFSETFROM:+0000
TZOFFSETTO:+0100
TZNAME:BST
DTSTART:20250330T010000
END:DAYLIGHT
BEGIN:STANDARD
TZOFFSETFROM:+0100
TZOFFSETTO:+0000
TZNAME:GMT
DTSTART:20251026T010000
END:STANDARD
BEGIN:DAYLIGHT
TZOFFSETFROM:+0000
TZOFFSETTO:+0100
TZNAME:BST
DTSTART:20260329T010000
END:DAYLIGHT
BEGIN:STANDARD
TZOFFSETFROM:+0100
TZOFFSETTO:+0000
TZNAME:GMT
DTSTART:20261025T010000
END:STANDARD
BEGIN:DAYLIGHT
TZOFFSETFROM:+0000
TZOFFSETTO:+0100
TZNAME:BST
DTSTART:20270328T010000
END:DAYLIGHT
BEGIN:STANDARD
TZOFFSETFROM:+0100
TZOFFSETTO:+0000
TZNAME:GMT
DTSTART:20271031T010000
END:STANDARD
END:VTIMEZONE
BEGIN:VEVENT
DTSTART;VALUE=DATE:20260504
DTEND;VALUE=DATE:20260508
DTSTAMP:20260421T004617
CREATED:20260304T135711Z
LAST-MODIFIED:20260304T135711Z
UID:12105-1777852800-1778198399@www.careerchangewales.co.uk
SUMMARY:ILM Level 7 Award in Leadership and Management
DESCRIPTION:ILM Level 7 Award in Leadership and Management – Strategic Leadership Training in Wales\n\n\n\nElevate your executive impact with the ILM Level 7 Award in Leadership and Management\, designed for senior leaders\, directors and CEOs across Wales. Delivered by Career Change Wales (CCW) – Training Academy\, this world-renowned qualification equips you with the strategic insight and authority to lead organisations at the highest level.. \nThe ILM Level 7 Leadership and Management Training that we offer in Wales\, is an excellent and world renowned qualification which gives you the abilities to become a strategic leader. It will also give you a qualification which shows you know how to lead at the highest level of any organisation. Management is a universal skill\, whether someone is at the bottom or top of an organisation and this qualification will teach you how to lead when you are at the top of an organisation. \nWhy Choose CCW for ILM Level 7 Training in Wales?\n\nILM-Accredited Excellence: Recognised UK-wide as the gold standard for strategic leadership.\nBlended Delivery: 2.5 days in Cardiff or via live online sessions\, plus optional assignment tutorial.\nDedicated Support: One-to-one mentoring\, email guidance and tutorial days to ensure your success.\nGroup Discounts: Special rates for cohort bookings\, ideal for leadership teams.\n\nCourse Overview\nThis Award requires completion of a single module (one 3\,500-word assignment). The course content centres on four key areas: \nYou’ll learn how to developing strategic leadership and management capability\, how to adopting a data-led approach to strategic management. Create a commercially focused organisation\, that can evolve approaches in leadership and management. Participants select a module that best aligns with their strategic priorities and work through practical\, assignment-based learning to embed new skills effectively. \nFormat & Duration\n\nTraining: 3 days of expert-led workshops\nTutorial: 1 optional day for assignment guidance\nAssessment: 1 assignment of approximately 3\,500 words\n\nLocation & Accessibility\n\nIn-person: CCW Training Academy\, 5–7 Museum Place\, Cardiff\, CF10 3BD\nOnline: Live Zoom sessions\, perfect for leaders across Wales\nOn-site: Bespoke delivery for groups of 6+ at your premises\n\nLearning Outcomes\nBy course end\, you will be able to: \n\nCraft and communicate an organisation-wide strategic vision\nUtilise data analytics to inform high-level decisions\nDrive commercial performance in complex environments\nImplement innovative leadership practices at the executive level\nNavigate organisational change with confidence\n\nWho Should Attend?\nThis qualification is ideal for senior leaders\, directors\, CEOs and executive teams ready to formalise and sharpen their strategic leadership capabilities. \nEnrol Today\nSecure your place on Wales’s premier ILM Level 7 leadership programme. \nEmail: info@CareerChangeWales.co.uk Call: 029 21 156 603 \nWe offer our training blended\, so if you can’t make it to Cardiff for a course we can offer it through Zoom. We provide a lot of support to ensure the highest quality of training\, and the best chance for you to pass and gain the qualification. \nGroup Bookings\nIf you are booking on behalf of a number of individuals then we can offer discounted costs. For more information please contact us using the number or email above.
URL:https://www.careerchangewales.co.uk/event/ilm-level-7-award-in-leadership-and-management/
LOCATION:5-7 Museum Place\, Cardiff\, CF10 3BD\, 5-7 Museum Place\, Cardiff\, CF10 3BD\, United Kingdom
CATEGORIES:Leadership and Management Training
END:VEVENT
BEGIN:VEVENT
DTSTART;VALUE=DATE:20260506
DTEND;VALUE=DATE:20260508
DTSTAMP:20260421T004617
CREATED:20260304T143112Z
LAST-MODIFIED:20260304T143112Z
UID:12250-1778025600-1778198399@www.careerchangewales.co.uk
SUMMARY:Topographical Surveying Training
DESCRIPTION:Topographical Surveying Training – 2 Day Course in Cardiff\nOverview\n\n\n\nOur Topographical Surveying Training in Cardiff is a comprehensive three‑day programme designed to give construction professionals\, engineers\, and early‑career surveyors the practical skills they need to carry out accurate land surveys. Combining classroom learning with hands‑on fieldwork\, the course covers everything from levelling operations and survey control methods to the use of modern electronic instruments and GPS technology. You’ll learn how to collect\, process\, and transfer survey data into CAD‑compatible formats\, ensuring you can produce reliable outputs for real‑world projects. \nDelivered by experienced tutors with industry expertise\, this course is ideal for those looking to build a strong foundation in surveying or refresh their existing knowledge with up‑to‑date techniques. By the end of the programme\, you’ll have the confidence to apply surveying principles on site\, use tools effectively\, and contribute to construction and engineering projects with precision. \nWhy Choose CCW’s Surveying Training?\n\nAccredited training provider in Cardiff: Trusted across Wales for professional development.\nPractical\, hands‑on learning: Work directly with surveying instruments and software.\nIndustry‑relevant skills: Learn techniques used daily by surveyors and engineers.\nExpert tutors: Delivered by experienced professionals in construction and surveying.\nCareer progression: Build a foundation for advanced surveying and CAD courses.\n\nWhat You’ll Learn\n\nIntroduction to land surveying: Principles and terminology.\nLevelling operations: Height of collimation\, rise and fall methods\, and use of Ordnance Survey benchmarks.\nElectronic surveying instruments: Practical use of modern tools.\nTopographical survey techniques: Collecting and processing field data.\nSurvey control methods: Three‑point resection\, GPS\, and digital mapping.\nDigital data transfer: Using Leica Geo Office and Topcon tools.\nSurvey data processing: Converting field data into usable outputs.\nAutoCAD applications: Producing 2D and 3D models for design purposes.\n\nCourse Details\n\nDuration: 2 days (with additional homework).\nLocation: CCW Training Academy\, Cardiff city centre.\nAudience: Construction industry professionals\, early‑career surveyors\, and engineers.\nFormat: Tutor presentations\, workshops\, and case studies.\nExtras: Course notes\, refreshments\, and lunch provided.\n\nBenefits of Attending\n\nUpdate existing surveying skills with modern techniques.\nGain practical experience on‑site with surveyors and engineers.\nProduce CAD‑compatible outputs for professional projects.\nEnhance career prospects in construction and engineering.\n\nHow to Book\nSecure your place today: \n\nPhone: 029 21 156 603\nEmail: info@careerchangewales.co.uk
URL:https://www.careerchangewales.co.uk/event/topographical-surveying-training/
LOCATION:5-7 Museum Place\, Cardiff\, CF10 3BD\, 5-7 Museum Place\, Cardiff\, CF10 3BD\, United Kingdom
CATEGORIES:Construction Related Training
END:VEVENT
END:VCALENDAR