BEGIN:VCALENDAR
VERSION:2.0
PRODID:-//CCW-Training Academy - ECPv6.15.20//NONSGML v1.0//EN
CALSCALE:GREGORIAN
METHOD:PUBLISH
X-WR-CALNAME:CCW-Training Academy
X-ORIGINAL-URL:https://www.careerchangewales.co.uk
X-WR-CALDESC:Events for CCW-Training Academy
REFRESH-INTERVAL;VALUE=DURATION:PT1H
X-Robots-Tag:noindex
X-PUBLISHED-TTL:PT1H
BEGIN:VTIMEZONE
TZID:Europe/London
BEGIN:DAYLIGHT
TZOFFSETFROM:+0000
TZOFFSETTO:+0100
TZNAME:BST
DTSTART:20250330T010000
END:DAYLIGHT
BEGIN:STANDARD
TZOFFSETFROM:+0100
TZOFFSETTO:+0000
TZNAME:GMT
DTSTART:20251026T010000
END:STANDARD
BEGIN:DAYLIGHT
TZOFFSETFROM:+0000
TZOFFSETTO:+0100
TZNAME:BST
DTSTART:20260329T010000
END:DAYLIGHT
BEGIN:STANDARD
TZOFFSETFROM:+0100
TZOFFSETTO:+0000
TZNAME:GMT
DTSTART:20261025T010000
END:STANDARD
BEGIN:DAYLIGHT
TZOFFSETFROM:+0000
TZOFFSETTO:+0100
TZNAME:BST
DTSTART:20270328T010000
END:DAYLIGHT
BEGIN:STANDARD
TZOFFSETFROM:+0100
TZOFFSETTO:+0000
TZNAME:GMT
DTSTART:20271031T010000
END:STANDARD
END:VTIMEZONE
BEGIN:VEVENT
DTSTART;VALUE=DATE:20260601
DTEND;VALUE=DATE:20260603
DTSTAMP:20260421T023230
CREATED:20260304T140856Z
LAST-MODIFIED:20260304T144420Z
UID:12167-1780272000-1780444799@www.careerchangewales.co.uk
SUMMARY:Beginner AutoCAD Course
DESCRIPTION:Foundation / Beginner AutoCAD Course\nBeginner AutoCAD course training. Offsite Training: We are able to offer training at your premises subject to a minimum number of candidates. We can also offer bespoke training to your line of business at all levels. If interested please contact us at Info@CareerChangeWales.co.uk or call 029 21 156 603\, and we will be able to give you a very competitive rate. \n\n\n\nThis beginner AutoCAD course focuses on the basic features\, commands\, and techniques for creating\, editing\, and printing drawings with AutoCAD. Using hands-on exercises\, students explore how to create 1 Dimension production drawings. \nWe run our course at 5-7 Museum Place\, Cardiff\, CF10 3BD\, however if you can’t come to Cardiff we can also offer the course through Zoom. We also offer the training at your venue if you have a minimum number of candidates. \nFor training dates\, have a look at our calendar – CLICK HERE \nIf you cannot find the course you’re looking for on the calendar please contact us either by phoning 029 21 156 603 or emailing Info@CareerChangeWales.co.uk \nWho Should Attend\nThis beginner AutoCAD course is created for anyone looking to get in to AutoCAD but hasn’t used it before\, or for anyone looking for a refresher course. \nCourse Content\nThis course will cover the following: \n\nUsing the properties Palette\nUsing Line types\nUsing inquiry commands\nAltering Objects\nTrimming and extending objects to defined boundaries\nCreating parallel and offset geometry\nJoining objects\nInputting Data\nCreating basic objects\nUsing Polar tracking and Polar Snap\n\nLearning Outcomes\nBy the end of the course learner will be able to: \n\nUnderstand the different tabs\nCreate Basic Drawings\nManipulate objects\nDraw inquiry commands\nDraw Organisation commands\n\nCourse Format (Beginner AutoCAD Course)\nThis beginner AutoCAD course is a 2 day intensive course that is generally taught in small classes; normally around 3-4 people in a class to give you the maximum exposure to an industry professional. This will enable you to ask the questions that you require and\, more importantly\, have your questions answered. There is no exam with this course but you will receive homework to complete after every training session. \nThere are no hidden costs for training. All of our training includes; refreshments\, training material\, registration and all other related costs. \nIf you would like any additional information about this course then please contact us on 02921156603 or email Admin@CareerChangeWales.co.uk
URL:https://www.careerchangewales.co.uk/event/beginner-autocad-course-10/
LOCATION:5-7 Museum Place\, Cardiff\, CF10 3BD\, 5-7 Museum Place\, Cardiff\, CF10 3BD\, United Kingdom
CATEGORIES:ICT Training Courses
END:VEVENT
BEGIN:VEVENT
DTSTART;VALUE=DATE:20260602
DTEND;VALUE=DATE:20260603
DTSTAMP:20260421T023230
CREATED:20260304T140630Z
LAST-MODIFIED:20260304T140630Z
UID:12154-1780358400-1780444799@www.careerchangewales.co.uk
SUMMARY:Microsoft Project Beginner
DESCRIPTION:Microsoft Project Beginner Training\n\n\n\nMicrosoft Project Beginner Training\nLocation: CCW-Training Academy\, 5-7 Museum Place\, Cardiff\, CF10 3BD\nContact:  029 21 156 603 |  info@careerchangewales.co.uk\nDuration: 1 Day | Level: Beginner | Format: In-Person Training\nDates: Check out our CALENDAR (https://www.careerchangewales.co.uk/events/) or contact us. \n Plan with Confidence\, Manage with Precision\nThis one-day Microsoft Project beginner training course introduces Microsoft Project\, equipping learners with the essential tools to plan\, schedule\, and manage projects effectively. Ideal for professionals new to project management or Microsoft Project. \n What You Will Learn\n\nIntroduction to Microsoft Project and the user interface\nCreating and setting up a new project plan\nDefining tasks and setting durations\nCreating task relationships (dependencies)\nAssigning resources to tasks\nSetting project calendars and constraints\nTracking progress and updating tasks\nCreating and formatting Gantt charts\nGenerating reports\nSaving\, sharing\, and printing project plans\n\n Microsoft Project Beginner Training Outcomes\nBy the end of the course\, learners will be able to: \n Build and manage basic project plans\n Schedule tasks and allocate resources\n Monitor project progress with tracking tools\n Use Gantt charts and reports to communicate effectively\n Apply core project management principles using MS Project \n Why Choose CCW-Training Academy?\n\nExpert trainers with real-world experience\nInteractive and hands-on learning\nCentrally located training office in Cardiff\nSmall group sizes for maximum support\nSuitable for individuals and corporate clients\n\n Secure Your Place Today!\nSpaces are limited – call us on 029 21 156 603 or email info@careerchangewales.co.uk to book or learn more. \nWe can offer on-site training for a minimum number of candidates. We also offer bespoke group training tailored to your organisation’s specific needs. \nCheck out our excellent TRUSTPILOT REVIEWS.
URL:https://www.careerchangewales.co.uk/event/microsoft-project-beginner-2/
LOCATION:5-7 Museum Place\, Cardiff\, CF10 3BD\, 5-7 Museum Place\, Cardiff\, CF10 3BD\, United Kingdom
CATEGORIES:ICT Training Courses
END:VEVENT
END:VCALENDAR