BEGIN:VCALENDAR
VERSION:2.0
PRODID:-//CCW-Training Academy - ECPv6.15.20//NONSGML v1.0//EN
CALSCALE:GREGORIAN
METHOD:PUBLISH
X-ORIGINAL-URL:https://www.careerchangewales.co.uk
X-WR-CALDESC:Events for CCW-Training Academy
REFRESH-INTERVAL;VALUE=DURATION:PT1H
X-Robots-Tag:noindex
X-PUBLISHED-TTL:PT1H
BEGIN:VTIMEZONE
TZID:Europe/London
BEGIN:DAYLIGHT
TZOFFSETFROM:+0000
TZOFFSETTO:+0100
TZNAME:BST
DTSTART:20250330T010000
END:DAYLIGHT
BEGIN:STANDARD
TZOFFSETFROM:+0100
TZOFFSETTO:+0000
TZNAME:GMT
DTSTART:20251026T010000
END:STANDARD
BEGIN:DAYLIGHT
TZOFFSETFROM:+0000
TZOFFSETTO:+0100
TZNAME:BST
DTSTART:20260329T010000
END:DAYLIGHT
BEGIN:STANDARD
TZOFFSETFROM:+0100
TZOFFSETTO:+0000
TZNAME:GMT
DTSTART:20261025T010000
END:STANDARD
BEGIN:DAYLIGHT
TZOFFSETFROM:+0000
TZOFFSETTO:+0100
TZNAME:BST
DTSTART:20270328T010000
END:DAYLIGHT
BEGIN:STANDARD
TZOFFSETFROM:+0100
TZOFFSETTO:+0000
TZNAME:GMT
DTSTART:20271031T010000
END:STANDARD
END:VTIMEZONE
BEGIN:VEVENT
DTSTART;VALUE=DATE:20260608
DTEND;VALUE=DATE:20260611
DTSTAMP:20260421T041855
CREATED:20260304T134956Z
LAST-MODIFIED:20260304T134956Z
UID:12081-1780876800-1781135999@www.careerchangewales.co.uk
SUMMARY:ILM Level 4 Leadership and Management
DESCRIPTION:ILM Level 4 Leadership and Management – Middle Manager Training in Wales\n\n\n\nEmpower your middle management career with our ILM Level 4 in Leadership and Management\, delivered by Career Change Wales (CCW) – Training Academy. Designed for aspiring and practising managers across Wales\, this qualification deepens your strategic thinking\, refines your leadership style\, and equips you to lead complex teams and projects. \nThe Level 4 emphasises the importance of balancing team leadership with strategic thinking. Participants learn how to manage resources efficiently\, lead through change\, and align team objectives with organisational goals. This qualification also fosters a strong ability to solve problems\, make informed decisions\, and communicate effectively with diverse stakeholders. \nWhy Choose CCW for ILM Level 4 Training in Wales?\n\nILM-Accredited Qualification: Recognised UK-wide for leadership excellence.\nConstruction of Bespoke Cohorts: Small groups (max 10 learners) ensure personalised attention.\nFlexible: Delivery In-person in Cardiff or live online via Zoom.\nExpert Tutors & Free Mentoring: Seasoned professionals plus one day of one-to-one coaching.\nRelevant to Welsh Industry: Practical modules tailored to public\, private\, and third-sector needs.\n\nCourse Options & Modules\nAward (2 modules): \n\nDeveloping People in the Workplace\nMotivating People in the Workplace\n\nCertificate (+3 modules): \n\nManaging Marketing Activities\nManaging a Healthy & Safe Environment\nSolving Problems by Making Effective Decisions\n\nDiploma: Contact us to design a bespoke module package for strategic leadership needs. \nFormat & Duration\n\nAward: 2 days training + assignment support\nCertificate: 5 days training + assignment support\nAssignments: 1\,350-word nominal word count; full guidance provided\n\nLocation & Accessibility\n\nVenue: 5–7 Museum Place\, Cardiff\, CF10 3BD\nOnline: Live Zoom sessions\, ideal for remote learners across Wales\nOn-site: Group bookings (min. 4 delegates) at your premises\n\nWhat You’ll Learn\n\nBalance operational duties with strategic vision\nManage resources\, budgets\, and stakeholder relationships\nLead teams through change and performance challenges\nApply effective decision-making and problem-solving techniques\nCommunicate strategic goals with clarity and influence\n\nWho Should Attend?\nThe ILM Level 4 qualification is suitable mainly for middle managers\, but can also be applicable for junior or operational managers. The ILM Level 4 in Leadership and Management is ideal for individuals who have management responsibilities but no formal training and are serious about developing their abilities. \nEnrol Today\nTake the next step in your leadership journey. Call us or email to discuss dates\, pricing\, and bespoke delivery options for your team. \n info@CareerChangeWales.co.uk  029 21 156 603 \nYou can find more of our courses here -> HERE
URL:https://www.careerchangewales.co.uk/event/ilm-level-4-leadership-and-management-8/
LOCATION:5-7 Museum Place\, Cardiff\, CF10 3BD\, 5-7 Museum Place\, Cardiff\, CF10 3BD\, United Kingdom
CATEGORIES:Leadership and Management Training
END:VEVENT
BEGIN:VEVENT
DTSTART;VALUE=DATE:20260609
DTEND;VALUE=DATE:20260610
DTSTAMP:20260421T041855
CREATED:20260304T140440Z
LAST-MODIFIED:20260304T140440Z
UID:12142-1780963200-1781049599@www.careerchangewales.co.uk
SUMMARY:Microsoft Excel Training
DESCRIPTION:Microsoft Excel Beginner Training\n\n\n\nMicrosoft Excel Beginner Training\nLocation: CCW-Training Academy\, 5-7 Museum Place\, Cardiff\, CF10 3BD\nContact:  029 21 156 603 |  info@careerchangewales.co.uk\nDuration: 1 Day | Level: Beginner | Format: In-Person Training\nDates: Check out our CALENDAR (https://www.careerchangewales.co.uk/events/) or contact us. \n Unlock the Power of Spreadsheets\nStart your Excel journey with confidence. This one-day Microsoft Excel beginner training course will teach you how to use Microsoft Excel to organise data\, perform calculations\, and create meaningful spreadsheets for work or personal use. \n What You Will Learn\n\nUnderstanding the Excel interface\nCreating\, opening\, and saving workbooks\nEntering and editing data effectively\nFormatting cells: numbers\, dates\, text\, and currency\nBasic formulas and functions (SUM\, AVERAGE\, etc.)\nSorting and filtering data\nUsing rows\, columns\, and worksheets\nCreating simple charts and graphs\nIntroduction to printing and page setup\nProductivity tips and shortcuts\n\n Microsoft Excel Beginner Training Outcomes\nBy the end of the course\, learners will be able to: \n Create and manage spreadsheets with confidence\n Apply formulas and functions for everyday tasks\n Organise and analyse data efficiently\n Visualise data using charts and graphs\n Improve productivity through time-saving Excel features \n Why Choose CCW-Training Academy?\n\nExpert trainers with real-world experience\nInteractive and hands-on learning\nCentrally located training office in Cardiff\nSmall group sizes for maximum support\nIdeal for individuals and businesses looking to upskill\n\n Secure Your Place Today!\nSpaces are limited – call us on 029 21 156 603 or email info@careerchangewales.co.uk to book or learn more. \nWe can offer on-site training for a minimum number of candidates. We also offer bespoke group training tailored to your organisation’s specific needs. \nCheck out our excellent TRUSTPILOT REVIEWS
URL:https://www.careerchangewales.co.uk/event/microsoft-excel-training-5/
LOCATION:5-7 Museum Place\, Cardiff\, CF10 3BD\, 5-7 Museum Place\, Cardiff\, CF10 3BD\, United Kingdom
CATEGORIES:ICT Training Courses
END:VEVENT
END:VCALENDAR