BEGIN:VCALENDAR
VERSION:2.0
PRODID:-//CCW-Training Academy - ECPv6.15.20//NONSGML v1.0//EN
CALSCALE:GREGORIAN
METHOD:PUBLISH
X-ORIGINAL-URL:https://www.careerchangewales.co.uk
X-WR-CALDESC:Events for CCW-Training Academy
REFRESH-INTERVAL;VALUE=DURATION:PT1H
X-Robots-Tag:noindex
X-PUBLISHED-TTL:PT1H
BEGIN:VTIMEZONE
TZID:Europe/London
BEGIN:DAYLIGHT
TZOFFSETFROM:+0000
TZOFFSETTO:+0100
TZNAME:BST
DTSTART:20250330T010000
END:DAYLIGHT
BEGIN:STANDARD
TZOFFSETFROM:+0100
TZOFFSETTO:+0000
TZNAME:GMT
DTSTART:20251026T010000
END:STANDARD
BEGIN:DAYLIGHT
TZOFFSETFROM:+0000
TZOFFSETTO:+0100
TZNAME:BST
DTSTART:20260329T010000
END:DAYLIGHT
BEGIN:STANDARD
TZOFFSETFROM:+0100
TZOFFSETTO:+0000
TZNAME:GMT
DTSTART:20261025T010000
END:STANDARD
BEGIN:DAYLIGHT
TZOFFSETFROM:+0000
TZOFFSETTO:+0100
TZNAME:BST
DTSTART:20270328T010000
END:DAYLIGHT
BEGIN:STANDARD
TZOFFSETFROM:+0100
TZOFFSETTO:+0000
TZNAME:GMT
DTSTART:20271031T010000
END:STANDARD
END:VTIMEZONE
BEGIN:VEVENT
DTSTART;VALUE=DATE:20260615
DTEND;VALUE=DATE:20260618
DTSTAMP:20260421T023354
CREATED:20260304T134706Z
LAST-MODIFIED:20260304T144605Z
UID:12069-1781481600-1781740799@www.careerchangewales.co.uk
SUMMARY:ILM Level 3 Leadership and Management
DESCRIPTION:ILM Level 3 Leadership and Management – Accredited Training in Wales\n\n\n\nLooking to take your leadership skills to the next level? Our ILM Level 3 Award in Leadership and Management is ideal for aspiring and practicing managers across Wales who want to lead with confidence\, improve team performance\, and gain a nationally recognised qualification. \nDelivered by CCW-Training Academy\, this course blends practical leadership tools with strategic thinking—perfect for those managing teams\, projects\, or departments. \nWhy Choose Us?\n\nILM Accredited Qualification Recognised across the UK and internationally\, ILM is a trusted benchmark for leadership excellence.\nFlexible Delivery Options Attend in-person at our Cardiff centre or join live online sessions\, accessible to learners across Wales.\nExpert Tutors Learn from seasoned professionals with decades of experience in leadership\, HR\, and project management.\nSupportive Learning Environment We offer assignment tutorials\, email support\, and guidance throughout your learning journey.\n\nFor training dates\, have a look at our calendar – CLICK HERE \nOur training is held at 5-7 Museum Place\, Cardiff\, CF10 3BD\, however if you’re unable to come to location we also offer our training through Zoom. This is high quality tutor lead training but from your home or workplace. If you have course enquiries\, tell us which type of training you would prefer! \nTo find out the price of the course\, or if you cannot find the course you’re looking for on the calendar please contact us either by phoning 029 21 156 603 or emailing Info@CareerChangeWales.co.uk \nAward / Certificate / Diploma:\nThe Level 3 qualification comes in 3 variations\, there’s the Award \, the Certificate and the Diploma. The difference in between these 3 is the number of modules required to sit and pass before gaining the certification. The Award is the shortest version of the Level 3 qualification. \nWhat can we offer?\nOur Institute of Leadership and Management training modules are new and innovative programmes. These management programmes have been designed to reflect the present economic climate and enable candidates to complete our streamlined programme. \nWho is this Qualification For?\nThe Level 3 Award in Leadership and Management in Wales is ideal for individuals who have management responsibilities but no formal training and are serious about developing their abilities. \nILM Level 3 Leadership and Management in Wales Course Modules\nFor the ILM Level 3 Award\, you would need to complete 2 of the below 3 modules: \n\nUnderstanding Leadership\nSolving Problems and Making Decisions\nManaging Workplace Projects\n\nTo complete the Certificate you would need to complete at least 2 of the modules above + the below modules: \n\nUnderstanding Recruitment and Selection of New Staff\nUnderstanding Training and Coaching in the Workplace\nUnderstanding Health and Safety in the Workplace\nUnderstanding Marketing for Managers\n\nIf you are interested in the Diploma please contact us and we can discuss the possible options available. \nCourse Format\n\nDuration: 2 days of training + optional assignment tutorial day\nAssessment: 2 written assignments (one per module)\nSupport: Email\, phone\, and tutorial guidance included\n\nWe also offer the ILM Level 3 Certificate\, which includes additional modules for a more comprehensive leadership qualification. \nAssignments\nIt is recommended that for each assignment\, you should plan to spend approximately 7 hours researching your workplace context\, preparing for and writing or presenting the outcomes. The ‘nominal’ word count for each assignment is 1200 words: the suggested range is between 1000 and 1400 words per assignment. \nILM Level 3 Leadership and Management General Information\nReady to enhance your leadership potential? Contact us to book your place or learn more about our ILM Level 3 Leadership and Management training in Wales. \n Email: info@CareerChangeWales.co.uk  Call: 029 21 156 603 \nYou can find more details about the specific modules we offer below. You can also check out our other courses -> HERE
URL:https://www.careerchangewales.co.uk/event/12069/
LOCATION:5-7 Museum Place\, Cardiff\, CF10 3BD\, 5-7 Museum Place\, Cardiff\, CF10 3BD\, United Kingdom
CATEGORIES:Leadership and Management Training
END:VEVENT
BEGIN:VEVENT
DTSTART;VALUE=DATE:20260617
DTEND;VALUE=DATE:20260618
DTSTAMP:20260421T023354
CREATED:20260304T141623Z
LAST-MODIFIED:20260304T141623Z
UID:12191-1781654400-1781740799@www.careerchangewales.co.uk
SUMMARY:Project Management
DESCRIPTION:Project Management Training Cardiff – 1 Day Course | CCW\nOverview\n\n\n\nOur 1‑day Project Management Training in Cardiff is designed for professionals who want a clear\, practical introduction to project management without committing to lengthy qualifications. Delivered by an experienced project manager and director\, this course provides the essential tools\, techniques\, and confidence to manage projects effectively across industries. \nWhether you’re new to project management or looking to strengthen your skills\, this course offers a hands‑on\, workshop‑based approach that focuses on real‑world application. \nWhy Choose CCW’s Project Management Training?\n\nAccredited training provider in Cardiff: Trusted by professionals and organisations across Wales.\nPractical\, workshop‑based learning: Apply techniques immediately to real projects.\nExpert tutors: Learn from practising project managers with years of industry experience.\nCareer progression: Gain a strong foundation for further CPD or qualifications such as PRINCE2.\nLocal delivery: Conveniently located at CCW’s Cardiff training centre\, 5–7 Museum Place\, CF10 3BD.\n\nWhat You’ll Learn\nBy the end of the course\, you will understand: \n\nProject initiation and planning: Setting objectives\, scope\, and timelines.\nCost monitoring and reporting: Keeping projects on budget.\nRisk management: Identifying and mitigating challenges.\nExecution and control: Managing tasks and resources effectively.\nCommunication and stakeholder management: Building strong project relationships.\nProject closure and lessons learned: Reviewing outcomes for continuous improvement.\n\nCourse Details\n\nDuration: 1 full day (09:30 – 16:30).\nLocation: CCW Training Academy\, 5-7 Museum Place\, Cardiff City Centre\, CF10 3BD.\nAudience: Ideal for professionals\, career changers\, and those working alongside project teams.\nFormat: Tutor‑led presentations\, case studies\, and interactive workshops.\n\nBenefits of Attending\n\nGain confidence in managing projects from start to finish.\nLearn industry terminology used by project management professionals.\nImprove career prospects with recognised training in Cardiff.\nStep into further qualifications with a solid foundation in project management principles.\n\nHow to Book\nSecure your place today by contacting us: \n\nPhone: 029 21 156 603\nEmail: info@careerchangewales.co.uk\n\nYou can check out our other courses -> HERE \nYou can also keep up with us through our TWITTER and FACEBOOK
URL:https://www.careerchangewales.co.uk/event/project-management-2/
LOCATION:5-7 Museum Place\, Cardiff\, CF10 3BD\, 5-7 Museum Place\, Cardiff\, CF10 3BD\, United Kingdom
CATEGORIES:CPD and HR Related Courses
END:VEVENT
END:VCALENDAR