BEGIN:VCALENDAR
VERSION:2.0
PRODID:-//CCW-Training Academy - ECPv6.15.20//NONSGML v1.0//EN
CALSCALE:GREGORIAN
METHOD:PUBLISH
X-ORIGINAL-URL:https://www.careerchangewales.co.uk
X-WR-CALDESC:Events for CCW-Training Academy
REFRESH-INTERVAL;VALUE=DURATION:PT1H
X-Robots-Tag:noindex
X-PUBLISHED-TTL:PT1H
BEGIN:VTIMEZONE
TZID:Europe/London
BEGIN:DAYLIGHT
TZOFFSETFROM:+0000
TZOFFSETTO:+0100
TZNAME:BST
DTSTART:20250330T010000
END:DAYLIGHT
BEGIN:STANDARD
TZOFFSETFROM:+0100
TZOFFSETTO:+0000
TZNAME:GMT
DTSTART:20251026T010000
END:STANDARD
BEGIN:DAYLIGHT
TZOFFSETFROM:+0000
TZOFFSETTO:+0100
TZNAME:BST
DTSTART:20260329T010000
END:DAYLIGHT
BEGIN:STANDARD
TZOFFSETFROM:+0100
TZOFFSETTO:+0000
TZNAME:GMT
DTSTART:20261025T010000
END:STANDARD
BEGIN:DAYLIGHT
TZOFFSETFROM:+0000
TZOFFSETTO:+0100
TZNAME:BST
DTSTART:20270328T010000
END:DAYLIGHT
BEGIN:STANDARD
TZOFFSETFROM:+0100
TZOFFSETTO:+0000
TZNAME:GMT
DTSTART:20271031T010000
END:STANDARD
END:VTIMEZONE
BEGIN:VEVENT
DTSTART;VALUE=DATE:20260618
DTEND;VALUE=DATE:20260620
DTSTAMP:20260421T023406
CREATED:20260304T143118Z
LAST-MODIFIED:20260304T144440Z
UID:12252-1781740800-1781913599@www.careerchangewales.co.uk
SUMMARY:Topographical Surveying Training
DESCRIPTION:Topographical Surveying Training – 2 Day Course in Cardiff\nOverview\n\n\n\nOur Topographical Surveying Training in Cardiff is a comprehensive three‑day programme designed to give construction professionals\, engineers\, and early‑career surveyors the practical skills they need to carry out accurate land surveys. Combining classroom learning with hands‑on fieldwork\, the course covers everything from levelling operations and survey control methods to the use of modern electronic instruments and GPS technology. You’ll learn how to collect\, process\, and transfer survey data into CAD‑compatible formats\, ensuring you can produce reliable outputs for real‑world projects. \nDelivered by experienced tutors with industry expertise\, this course is ideal for those looking to build a strong foundation in surveying or refresh their existing knowledge with up‑to‑date techniques. By the end of the programme\, you’ll have the confidence to apply surveying principles on site\, use tools effectively\, and contribute to construction and engineering projects with precision. \nWhy Choose CCW’s Surveying Training?\n\nAccredited training provider in Cardiff: Trusted across Wales for professional development.\nPractical\, hands‑on learning: Work directly with surveying instruments and software.\nIndustry‑relevant skills: Learn techniques used daily by surveyors and engineers.\nExpert tutors: Delivered by experienced professionals in construction and surveying.\nCareer progression: Build a foundation for advanced surveying and CAD courses.\n\nWhat You’ll Learn\n\nIntroduction to land surveying: Principles and terminology.\nLevelling operations: Height of collimation\, rise and fall methods\, and use of Ordnance Survey benchmarks.\nElectronic surveying instruments: Practical use of modern tools.\nTopographical survey techniques: Collecting and processing field data.\nSurvey control methods: Three‑point resection\, GPS\, and digital mapping.\nDigital data transfer: Using Leica Geo Office and Topcon tools.\nSurvey data processing: Converting field data into usable outputs.\nAutoCAD applications: Producing 2D and 3D models for design purposes.\n\nCourse Details\n\nDuration: 2 days (with additional homework).\nLocation: CCW Training Academy\, Cardiff city centre.\nAudience: Construction industry professionals\, early‑career surveyors\, and engineers.\nFormat: Tutor presentations\, workshops\, and case studies.\nExtras: Course notes\, refreshments\, and lunch provided.\n\nBenefits of Attending\n\nUpdate existing surveying skills with modern techniques.\nGain practical experience on‑site with surveyors and engineers.\nProduce CAD‑compatible outputs for professional projects.\nEnhance career prospects in construction and engineering.\n\nHow to Book\nSecure your place today: \n\nPhone: 029 21 156 603\nEmail: info@careerchangewales.co.uk
URL:https://www.careerchangewales.co.uk/event/topographical-surveying-training-2/
LOCATION:5-7 Museum Place\, Cardiff\, CF10 3BD\, 5-7 Museum Place\, Cardiff\, CF10 3BD\, United Kingdom
CATEGORIES:Construction Related Training
END:VEVENT
BEGIN:VEVENT
DTSTART;VALUE=DATE:20260619
DTEND;VALUE=DATE:20260620
DTSTAMP:20260421T023406
CREATED:20260304T142307Z
LAST-MODIFIED:20260304T144517Z
UID:12227-1781827200-1781913599@www.careerchangewales.co.uk
SUMMARY:Introduction to bid writing
DESCRIPTION:Introduction to Bid Writing Overview:\nThis is our Introduction to Bid Writing training course. Bid Writing requires skills and knowledge specific to this subject. Our beginner course will give you the fundamentals to Bid Writing. This introductory course will allow you an understanding to PQQ\, ITT and Open Tendering stages. We also have an Intermediate and Advanced course if you feel that what this course covers it too basic for you. \nThis course will be covering the basics of bid writing\, including how to carry out a well structured and robust bid for a tender within any sector. This course is tutor-lead in the Cardiff city centre by an individual with years of experienced bidding within various sectors and at various levels of funding. \nAims and Objectives:\nThe aim of this course is to provide learners with an introduction to Bid Writing. It will also allow you to understand how to research\, prepare\, and submit a successful bid document/s. \nBid Writing Course Delivery:\nLearners will be introduced to learning experience by working through a generic Bid Writing document covering all the fundamental aspects within a workshop environment. \nDuration of Course:\nThe duration of this course is one-day workshop for beginner’s level. \nLearning Outcomes:\nUpon completion of the course\, individuals will understand the Bid Writing processes and can carry out a well-planned structured approach to submitting a bid document\, including providing financial aspects (i.e. providing mini-quotation\, pricing\, and related matters). \nAudience and who is it for?\nThe course is intended to benefit those individuals seeking to understand the working practices of Bid Writing with or without any prior knowledge of the subject matter. \n\nFor those individuals seeking to understand bid writing skills and those starting to work on bid writing.\nFor having a better understanding with a sound working knowledge of the basic principles\, terminology used.\nFor those interested in the Bid Writing.
URL:https://www.careerchangewales.co.uk/event/introduction-to-bid-writing-2/
LOCATION:5-7 Museum Place\, Cardiff\, CF10 3BD\, 5-7 Museum Place\, Cardiff\, CF10 3BD\, United Kingdom
CATEGORIES:CPD and HR Related Courses
END:VEVENT
END:VCALENDAR