BEGIN:VCALENDAR
VERSION:2.0
PRODID:-//CCW-Training Academy - ECPv6.15.20//NONSGML v1.0//EN
CALSCALE:GREGORIAN
METHOD:PUBLISH
X-ORIGINAL-URL:https://www.careerchangewales.co.uk
X-WR-CALDESC:Events for CCW-Training Academy
REFRESH-INTERVAL;VALUE=DURATION:PT1H
X-Robots-Tag:noindex
X-PUBLISHED-TTL:PT1H
BEGIN:VTIMEZONE
TZID:Europe/London
BEGIN:DAYLIGHT
TZOFFSETFROM:+0000
TZOFFSETTO:+0100
TZNAME:BST
DTSTART:20250330T010000
END:DAYLIGHT
BEGIN:STANDARD
TZOFFSETFROM:+0100
TZOFFSETTO:+0000
TZNAME:GMT
DTSTART:20251026T010000
END:STANDARD
BEGIN:DAYLIGHT
TZOFFSETFROM:+0000
TZOFFSETTO:+0100
TZNAME:BST
DTSTART:20260329T010000
END:DAYLIGHT
BEGIN:STANDARD
TZOFFSETFROM:+0100
TZOFFSETTO:+0000
TZNAME:GMT
DTSTART:20261025T010000
END:STANDARD
BEGIN:DAYLIGHT
TZOFFSETFROM:+0000
TZOFFSETTO:+0100
TZNAME:BST
DTSTART:20270328T010000
END:DAYLIGHT
BEGIN:STANDARD
TZOFFSETFROM:+0100
TZOFFSETTO:+0000
TZNAME:GMT
DTSTART:20271031T010000
END:STANDARD
END:VTIMEZONE
BEGIN:VEVENT
DTSTART;VALUE=DATE:20260622
DTEND;VALUE=DATE:20260624
DTSTAMP:20260421T023404
CREATED:20260304T141118Z
LAST-MODIFIED:20260304T144509Z
UID:12179-1782086400-1782259199@www.careerchangewales.co.uk
SUMMARY:Intermediate AutoCAD Training
DESCRIPTION:Intermediate AutoCAD Training\nIntermediate AutoCAD Training. Offsite Training: We are able to offer training at your premises subject to a minimum number of candidates. We can also offer bespoke training to your line of business at all levels. If interested please contact us at Info@CareerChangeWales.co.uk or call 029 21 156 603\, and we will be able to give you a very competitive rate. \n\n\n\nThis intermediate AutoCAD training course is designed for the experienced AutoCAD® user who requires additional training. It incorporates the features\, commands\, and techniques for becoming more productive when creating\, annotating\, and printing drawings with AutoCAD. This intermediate-level course continues to build on the basic concepts of the AutoCAD Essentials course. \nWe run our course at 5-7 Museum Place\, Cardiff\, CF10 3BD\, however if you can’t come to Cardiff we can also offer the course through Zoom. We also offer the training at your venue if you have a minimum number of candidates. \nFor training dates\, have a look at our calendar – CLICK HERE \nIf you cannot find the course you’re looking for on the calendar please contact us either by phoning 029 21 156 603 or emailing Info@CareerChangeWales.co.uk \nWho Should Attend\nThis intermediate AutoCAD training course has been created for users with experience in using AutoCAD but who want to improve on their abilities. This course goes well with the beginner course. \nCourse Content (Intermediate AutoCAD Training)\nThis course will cover the following: \n\nExtended Object visibility control\nWorking with multiple documents\nUtility Commands\nCreating Layouts & Plotting\nAdvanced Layouts\nBlock creation and management\n\nLearning Outcomes\nBy the end of the course learner will be able to: \n\nCreate Custom Workspaces\nCreate Parametric Drawings\nUse external References\nAnnotate Styles\nCreate advanced Layouts\n\nCourse Format\nThis intermediate AutoCAD training course is a 2 day intensive course that is generally taught in small classes; normally around 3-4 people in a class to give you the maximum exposure to an industry professional. This will enable you to ask the questions that you require and\, more importantly\, have your questions answered. There is no exam with this course but you will receive homework to complete after every training session. \nThere are no hidden costs for training. All of our training includes; refreshments\, training material\, registration and all other related costs. \nIf you would like any additional information about this course then please contact us on 02921156603 or email Admin@CareerChangeWales.co.uk
URL:https://www.careerchangewales.co.uk/event/intermediate-autocad-training-14/
LOCATION:5-7 Museum Place\, Cardiff\, CF10 3BD\, 5-7 Museum Place\, Cardiff\, CF10 3BD\, United Kingdom
CATEGORIES:ICT Training Courses
END:VEVENT
BEGIN:VEVENT
DTSTART;VALUE=DATE:20260623
DTEND;VALUE=DATE:20260627
DTSTAMP:20260421T023404
CREATED:20260304T135723Z
LAST-MODIFIED:20260304T135723Z
UID:12106-1782172800-1782518399@www.careerchangewales.co.uk
SUMMARY:ILM Level 7 Award in Leadership and Management
DESCRIPTION:ILM Level 7 Award in Leadership and Management – Strategic Leadership Training in Wales\n\n\n\nElevate your executive impact with the ILM Level 7 Award in Leadership and Management\, designed for senior leaders\, directors and CEOs across Wales. Delivered by Career Change Wales (CCW) – Training Academy\, this world-renowned qualification equips you with the strategic insight and authority to lead organisations at the highest level.. \nThe ILM Level 7 Leadership and Management Training that we offer in Wales\, is an excellent and world renowned qualification which gives you the abilities to become a strategic leader. It will also give you a qualification which shows you know how to lead at the highest level of any organisation. Management is a universal skill\, whether someone is at the bottom or top of an organisation and this qualification will teach you how to lead when you are at the top of an organisation. \nWhy Choose CCW for ILM Level 7 Training in Wales?\n\nILM-Accredited Excellence: Recognised UK-wide as the gold standard for strategic leadership.\nBlended Delivery: 2.5 days in Cardiff or via live online sessions\, plus optional assignment tutorial.\nDedicated Support: One-to-one mentoring\, email guidance and tutorial days to ensure your success.\nGroup Discounts: Special rates for cohort bookings\, ideal for leadership teams.\n\nCourse Overview\nThis Award requires completion of a single module (one 3\,500-word assignment). The course content centres on four key areas: \nYou’ll learn how to developing strategic leadership and management capability\, how to adopting a data-led approach to strategic management. Create a commercially focused organisation\, that can evolve approaches in leadership and management. Participants select a module that best aligns with their strategic priorities and work through practical\, assignment-based learning to embed new skills effectively. \nFormat & Duration\n\nTraining: 3 days of expert-led workshops\nTutorial: 1 optional day for assignment guidance\nAssessment: 1 assignment of approximately 3\,500 words\n\nLocation & Accessibility\n\nIn-person: CCW Training Academy\, 5–7 Museum Place\, Cardiff\, CF10 3BD\nOnline: Live Zoom sessions\, perfect for leaders across Wales\nOn-site: Bespoke delivery for groups of 6+ at your premises\n\nLearning Outcomes\nBy course end\, you will be able to: \n\nCraft and communicate an organisation-wide strategic vision\nUtilise data analytics to inform high-level decisions\nDrive commercial performance in complex environments\nImplement innovative leadership practices at the executive level\nNavigate organisational change with confidence\n\nWho Should Attend?\nThis qualification is ideal for senior leaders\, directors\, CEOs and executive teams ready to formalise and sharpen their strategic leadership capabilities. \nEnrol Today\nSecure your place on Wales’s premier ILM Level 7 leadership programme. \nEmail: info@CareerChangeWales.co.uk Call: 029 21 156 603 \nWe offer our training blended\, so if you can’t make it to Cardiff for a course we can offer it through Zoom. We provide a lot of support to ensure the highest quality of training\, and the best chance for you to pass and gain the qualification. \nGroup Bookings\nIf you are booking on behalf of a number of individuals then we can offer discounted costs. For more information please contact us using the number or email above.
URL:https://www.careerchangewales.co.uk/event/ilm-level-7-award-in-leadership-and-management-2/
LOCATION:5-7 Museum Place\, Cardiff\, CF10 3BD\, 5-7 Museum Place\, Cardiff\, CF10 3BD\, United Kingdom
CATEGORIES:Leadership and Management Training
END:VEVENT
END:VCALENDAR