BEGIN:VCALENDAR
VERSION:2.0
PRODID:-//CCW-Training Academy - ECPv6.15.20//NONSGML v1.0//EN
CALSCALE:GREGORIAN
METHOD:PUBLISH
X-ORIGINAL-URL:https://www.careerchangewales.co.uk
X-WR-CALDESC:Events for CCW-Training Academy
REFRESH-INTERVAL;VALUE=DURATION:PT1H
X-Robots-Tag:noindex
X-PUBLISHED-TTL:PT1H
BEGIN:VTIMEZONE
TZID:Europe/London
BEGIN:DAYLIGHT
TZOFFSETFROM:+0000
TZOFFSETTO:+0100
TZNAME:BST
DTSTART:20250330T010000
END:DAYLIGHT
BEGIN:STANDARD
TZOFFSETFROM:+0100
TZOFFSETTO:+0000
TZNAME:GMT
DTSTART:20251026T010000
END:STANDARD
BEGIN:DAYLIGHT
TZOFFSETFROM:+0000
TZOFFSETTO:+0100
TZNAME:BST
DTSTART:20260329T010000
END:DAYLIGHT
BEGIN:STANDARD
TZOFFSETFROM:+0100
TZOFFSETTO:+0000
TZNAME:GMT
DTSTART:20261025T010000
END:STANDARD
BEGIN:DAYLIGHT
TZOFFSETFROM:+0000
TZOFFSETTO:+0100
TZNAME:BST
DTSTART:20270328T010000
END:DAYLIGHT
BEGIN:STANDARD
TZOFFSETFROM:+0100
TZOFFSETTO:+0000
TZNAME:GMT
DTSTART:20271031T010000
END:STANDARD
END:VTIMEZONE
BEGIN:VEVENT
DTSTART;VALUE=DATE:20260730
DTEND;VALUE=DATE:20260801
DTSTAMP:20260421T041849
CREATED:20260304T142045Z
LAST-MODIFIED:20260304T144746Z
UID:12216-1785369600-1785542399@www.careerchangewales.co.uk
SUMMARY:Team Building
DESCRIPTION:Team Building\n\n\n\nTeam building can be a great way of helping both new and existing teams to work and communicate well. We design our team building to target the needs of your particular team. Our approach is to mix strategic planning with practical techniques. This improves internal team communication\, co-operation and morale (We can offer bespoke training to group bookings). \nOur training can be bespoke to the needs of our customers to ensure that the training is to the highest possible quality. We provide our training with various exercises and activities to ensure that everyone is able to enjoy and take away a lot from the course. \nWho will benefit\nThose looking to improve their team building\, and relationships within their teams. Departments\, teams and project groups who are working together either regularly or for a special purpose. \nLearning Outcomes\n\nDevelop an understanding of each other’s roles within the team\nAnalyse how individual team members can become more empowered\nBuild a shared vision of where the team is going and what its priorities are\nUnderstand problem solving skills (emotional intelligence\, empathy\, mindfulness)\n\nLearning Content\n\nHow did we get where we are today?\nWhere do we want to go in the future? Priorities and roles\nBuilding on our successes\nBreaking down the barriers to success\nDeveloping as a high performing team\nDealing effectively with change\nWhat next? Personal and group action plans\n\nExample Team Building Activities\n\nToxic waste\nFox\, the chicken and the corn\nRestorative justice\n\nGeneral Information\nThis is a 1-day course that runs from 9:30 AM to 4:30 PM. Lunch and refreshments will be provided. If you have any dietary requirements\, please let us know by emailing Info@CareerChangeWales.co.uk \nTraining Venue: 5-7 Museum Place\, Cardiff\, CF10 3BD.
URL:https://www.careerchangewales.co.uk/event/team-building-4/
LOCATION:5-7 Museum Place\, Cardiff\, CF10 3BD\, 5-7 Museum Place\, Cardiff\, CF10 3BD\, United Kingdom
CATEGORIES:Soft Skills Courses
END:VEVENT
BEGIN:VEVENT
DTSTART;VALUE=DATE:20260731
DTEND;VALUE=DATE:20260801
DTSTAMP:20260421T041849
CREATED:20260304T141832Z
LAST-MODIFIED:20260304T141832Z
UID:12204-1785456000-1785542399@www.careerchangewales.co.uk
SUMMARY:Master Facilitation Skills
DESCRIPTION:Master Facilitation Skills\nAim/Objective\n\n\n\nMaster facilitation skills with our fantastic one day training course! This training course is designed to enhance facilitation skills for staff within various organisations. It provides practical guidance on leading meetings effectively\, setting and achieving targets\, and improving time management\, organisation\, and planning. Additionally\, the course equips participants with strategies to manage team conflict and address personal challenges\, fostering a more cohesive and supportive work environment. \nEffective facilitation is about creating an environment for discussions to flow smoothly\, without the facilitator taking an active role in the conversation. This course will equip attendees with the skills to guide meetings\, foster mutual understanding\, and support individuals in planning and achieving their objectives – ensuring productive and meaningful outcomes. \nMaster Facilitation Skills Course content\n\nManaging effective meetings\nUnderstanding the dynamics of a group within an organisation\nBody language and effective communication skills\nTools and practical skills\nKeeping emotions under control\nHow to control a discussion and skills to defuse arguments\nProblem solving skills\nHow to manage a conflict\nWorking on a meeting agenda\nHow to present challenging news\nFocusing on processes\n\nLearning outcome\n\nYou will learn how to give good feedback\nYou will develop your managing skills\n\nGeneral Information\nThis is a 1-day course that runs from 9:30 AM to 4:30 PM. Lunch and refreshments will be provided for you\, if you have any dietary requirements\, please let us know by emailing Info@CareerChangeWales.co.uk. \nCheck out our other courses HERE \nYou can keep up with us through FACEBOOK or TWITTER
URL:https://www.careerchangewales.co.uk/event/master-facilitation-skills-7/
LOCATION:5-7 Museum Place\, Cardiff\, CF10 3BD\, 5-7 Museum Place\, Cardiff\, CF10 3BD\, United Kingdom
CATEGORIES:CPD and HR Related Courses
END:VEVENT
END:VCALENDAR