BEGIN:VCALENDAR
VERSION:2.0
PRODID:-//CCW-Training Academy - ECPv6.15.20//NONSGML v1.0//EN
CALSCALE:GREGORIAN
METHOD:PUBLISH
X-WR-CALNAME:CCW-Training Academy
X-ORIGINAL-URL:https://www.careerchangewales.co.uk
X-WR-CALDESC:Events for CCW-Training Academy
REFRESH-INTERVAL;VALUE=DURATION:PT1H
X-Robots-Tag:noindex
X-PUBLISHED-TTL:PT1H
BEGIN:VTIMEZONE
TZID:Europe/London
BEGIN:DAYLIGHT
TZOFFSETFROM:+0000
TZOFFSETTO:+0100
TZNAME:BST
DTSTART:20250330T010000
END:DAYLIGHT
BEGIN:STANDARD
TZOFFSETFROM:+0100
TZOFFSETTO:+0000
TZNAME:GMT
DTSTART:20251026T010000
END:STANDARD
BEGIN:DAYLIGHT
TZOFFSETFROM:+0000
TZOFFSETTO:+0100
TZNAME:BST
DTSTART:20260329T010000
END:DAYLIGHT
BEGIN:STANDARD
TZOFFSETFROM:+0100
TZOFFSETTO:+0000
TZNAME:GMT
DTSTART:20261025T010000
END:STANDARD
BEGIN:DAYLIGHT
TZOFFSETFROM:+0000
TZOFFSETTO:+0100
TZNAME:BST
DTSTART:20270328T010000
END:DAYLIGHT
BEGIN:STANDARD
TZOFFSETFROM:+0100
TZOFFSETTO:+0000
TZNAME:GMT
DTSTART:20271031T010000
END:STANDARD
END:VTIMEZONE
BEGIN:VEVENT
DTSTART;VALUE=DATE:20260801
DTEND;VALUE=DATE:20260901
DTSTAMP:20260421T054303
CREATED:20240830T082906Z
LAST-MODIFIED:20240830T082906Z
UID:10954-1785542400-1788220799@www.careerchangewales.co.uk
SUMMARY:Taith Programme Pathway 1: 18-25 and 26+ Projects
DESCRIPTION:
URL:https://www.careerchangewales.co.uk/event/taith-programme-pathway-1-18-25-and-26-projects-4/
LOCATION:5-7 Museum Place\, Cardiff\, CF10 3BD\, 5-7 Museum Place\, Cardiff\, CF10 3BD\, United Kingdom
CATEGORIES:Taith Programme
ORGANIZER;CN="CCW-Training Academy":MAILTO:Info@CareerChangeWales.co.uk
END:VEVENT
BEGIN:VEVENT
DTSTART;VALUE=DATE:20260803
DTEND;VALUE=DATE:20260807
DTSTAMP:20260421T054303
CREATED:20260304T135746Z
LAST-MODIFIED:20260304T135746Z
UID:12108-1785715200-1786060799@www.careerchangewales.co.uk
SUMMARY:ILM Level 7 Award in Leadership and Management
DESCRIPTION:ILM Level 7 Award in Leadership and Management – Strategic Leadership Training in Wales\n\n\n\nElevate your executive impact with the ILM Level 7 Award in Leadership and Management\, designed for senior leaders\, directors and CEOs across Wales. Delivered by Career Change Wales (CCW) – Training Academy\, this world-renowned qualification equips you with the strategic insight and authority to lead organisations at the highest level.. \nThe ILM Level 7 Leadership and Management Training that we offer in Wales\, is an excellent and world renowned qualification which gives you the abilities to become a strategic leader. It will also give you a qualification which shows you know how to lead at the highest level of any organisation. Management is a universal skill\, whether someone is at the bottom or top of an organisation and this qualification will teach you how to lead when you are at the top of an organisation. \nWhy Choose CCW for ILM Level 7 Training in Wales?\n\nILM-Accredited Excellence: Recognised UK-wide as the gold standard for strategic leadership.\nBlended Delivery: 2.5 days in Cardiff or via live online sessions\, plus optional assignment tutorial.\nDedicated Support: One-to-one mentoring\, email guidance and tutorial days to ensure your success.\nGroup Discounts: Special rates for cohort bookings\, ideal for leadership teams.\n\nCourse Overview\nThis Award requires completion of a single module (one 3\,500-word assignment). The course content centres on four key areas: \nYou’ll learn how to developing strategic leadership and management capability\, how to adopting a data-led approach to strategic management. Create a commercially focused organisation\, that can evolve approaches in leadership and management. Participants select a module that best aligns with their strategic priorities and work through practical\, assignment-based learning to embed new skills effectively. \nFormat & Duration\n\nTraining: 3 days of expert-led workshops\nTutorial: 1 optional day for assignment guidance\nAssessment: 1 assignment of approximately 3\,500 words\n\nLocation & Accessibility\n\nIn-person: CCW Training Academy\, 5–7 Museum Place\, Cardiff\, CF10 3BD\nOnline: Live Zoom sessions\, perfect for leaders across Wales\nOn-site: Bespoke delivery for groups of 6+ at your premises\n\nLearning Outcomes\nBy course end\, you will be able to: \n\nCraft and communicate an organisation-wide strategic vision\nUtilise data analytics to inform high-level decisions\nDrive commercial performance in complex environments\nImplement innovative leadership practices at the executive level\nNavigate organisational change with confidence\n\nWho Should Attend?\nThis qualification is ideal for senior leaders\, directors\, CEOs and executive teams ready to formalise and sharpen their strategic leadership capabilities. \nEnrol Today\nSecure your place on Wales’s premier ILM Level 7 leadership programme. \nEmail: info@CareerChangeWales.co.uk Call: 029 21 156 603 \nWe offer our training blended\, so if you can’t make it to Cardiff for a course we can offer it through Zoom. We provide a lot of support to ensure the highest quality of training\, and the best chance for you to pass and gain the qualification. \nGroup Bookings\nIf you are booking on behalf of a number of individuals then we can offer discounted costs. For more information please contact us using the number or email above.
URL:https://www.careerchangewales.co.uk/event/ilm-level-7-award-in-leadership-and-management-4/
LOCATION:5-7 Museum Place\, Cardiff\, CF10 3BD\, 5-7 Museum Place\, Cardiff\, CF10 3BD\, United Kingdom
CATEGORIES:Leadership and Management Training
END:VEVENT
BEGIN:VEVENT
DTSTART;VALUE=DATE:20260805
DTEND;VALUE=DATE:20260806
DTSTAMP:20260421T054303
CREATED:20260304T140253Z
LAST-MODIFIED:20260304T140253Z
UID:12132-1785888000-1785974399@www.careerchangewales.co.uk
SUMMARY:Microsoft Word Beginner Training
DESCRIPTION:Microsoft Word Beginner Training\n\n\n\nMicrosoft Word Beginner Training\nLocation: CCW-Training Academy\, 5-7 Museum Place\, Cardiff\, CF10 3BD\nContact:  029 21 156 603 |  info@careerchangewales.co.uk\nDuration: 1 Day | Level: Beginner | Format: In-Person Training\nDates: Check out our CALENDAR (https://www.careerchangewales.co.uk/events/) or contact us. \n Take Control of Your Word Documents\nAre you new to Microsoft Word or looking to boost your confidence with the basics? This one-day Microsoft Word beginner training course is designed to give you the practical skills to create\, edit\, and format professional-looking documents with ease. \n What You Will Learn\n\nNavigating the Word interface with confidence\nCreating\, saving\, and managing documents\nBasic text formatting: fonts\, sizes\, alignment\, and styles\nUsing bullet points and numbering effectively\nPage layout: margins\, spacing\, and orientation\nInserting and formatting images and tables\nHeaders\, footers\, and page numbers\nSpelling and grammar tools\nPrinting and exporting documents (PDFs)\nTime-saving tips and tricks\n\n Microsoft Word Beginner Training Outcomes\nBy the end of the course\, learners will be able to: \n Confidently create and edit Word documents\n Apply professional formatting and layout techniques\n Insert visuals and organise content for clarity\n Use key tools to improve productivity and accuracy\n Prepare documents for printing or sharing digitally \n Why Choose CCW-Training Academy?\n\nExpert trainers with real-world experience\nInteractive and hands-on learning\nCentrally located training office in Cardiff\nSmall group sizes for maximum support\nIdeal for individuals and businesses looking to upskill\n\n Secure Your Place Today!\nSpaces are limited – call us on 029 21 156 603 or email info@careerchangewales.co.uk to book or learn more. \nWe can offer on-site training for a minimum number of candidates. We also offer bespoke group training tailored to your organisation’s specific needs. \nCheck out our excellent TRUSTPILOT REVIEWS.
URL:https://www.careerchangewales.co.uk/event/microsoft-word-beginner-training-4/
LOCATION:5-7 Museum Place\, Cardiff\, CF10 3BD\, 5-7 Museum Place\, Cardiff\, CF10 3BD\, United Kingdom
CATEGORIES:ICT Training Courses
END:VEVENT
END:VCALENDAR