BEGIN:VCALENDAR
VERSION:2.0
PRODID:-//CCW-Training Academy - ECPv6.15.20//NONSGML v1.0//EN
CALSCALE:GREGORIAN
METHOD:PUBLISH
X-WR-CALNAME:CCW-Training Academy
X-ORIGINAL-URL:https://www.careerchangewales.co.uk
X-WR-CALDESC:Events for CCW-Training Academy
REFRESH-INTERVAL;VALUE=DURATION:PT1H
X-Robots-Tag:noindex
X-PUBLISHED-TTL:PT1H
BEGIN:VTIMEZONE
TZID:Europe/London
BEGIN:DAYLIGHT
TZOFFSETFROM:+0000
TZOFFSETTO:+0100
TZNAME:BST
DTSTART:20250330T010000
END:DAYLIGHT
BEGIN:STANDARD
TZOFFSETFROM:+0100
TZOFFSETTO:+0000
TZNAME:GMT
DTSTART:20251026T010000
END:STANDARD
BEGIN:DAYLIGHT
TZOFFSETFROM:+0000
TZOFFSETTO:+0100
TZNAME:BST
DTSTART:20260329T010000
END:DAYLIGHT
BEGIN:STANDARD
TZOFFSETFROM:+0100
TZOFFSETTO:+0000
TZNAME:GMT
DTSTART:20261025T010000
END:STANDARD
BEGIN:DAYLIGHT
TZOFFSETFROM:+0000
TZOFFSETTO:+0100
TZNAME:BST
DTSTART:20270328T010000
END:DAYLIGHT
BEGIN:STANDARD
TZOFFSETFROM:+0100
TZOFFSETTO:+0000
TZNAME:GMT
DTSTART:20271031T010000
END:STANDARD
END:VTIMEZONE
BEGIN:VEVENT
DTSTART;VALUE=DATE:20260801
DTEND;VALUE=DATE:20260901
DTSTAMP:20260421T054411
CREATED:20240830T082906Z
LAST-MODIFIED:20240830T082906Z
UID:10954-1785542400-1788220799@www.careerchangewales.co.uk
SUMMARY:Taith Programme Pathway 1: 18-25 and 26+ Projects
DESCRIPTION:
URL:https://www.careerchangewales.co.uk/event/taith-programme-pathway-1-18-25-and-26-projects-4/
LOCATION:5-7 Museum Place\, Cardiff\, CF10 3BD\, 5-7 Museum Place\, Cardiff\, CF10 3BD\, United Kingdom
CATEGORIES:Taith Programme
ORGANIZER;CN="CCW-Training Academy":MAILTO:Info@CareerChangeWales.co.uk
END:VEVENT
BEGIN:VEVENT
DTSTART;VALUE=DATE:20260810
DTEND;VALUE=DATE:20260813
DTSTAMP:20260421T054411
CREATED:20260304T135315Z
LAST-MODIFIED:20260304T135315Z
UID:12096-1786320000-1786579199@www.careerchangewales.co.uk
SUMMARY:ILM Level 5 Leadership and Management
DESCRIPTION:ILM Level 5 Leadership and Management – Strategic Training in Wales\nCourse Overview\n\n\n\nElevate your senior management capabilities with CCW’s ILM Level 5 in Leadership and Management\, delivered across Wales. This advanced qualification equips experienced professionals with strategic thinking\, innovation tools\, and change-management expertise essential for leading organisations through complex challenges. \nAt this level\, managers are encouraged to develop a comprehensive understanding of organisational dynamics\, strategic planning\, and the effective use of resources. The ILM Level 5 qualification provides practical tools for managing teams\, leading change\, and navigating the complexities of leadership in today’s fast-paced world. \nFor training dates\, have a look at our calendar – CLICK HERE \nWhy Choose CCW for ILM Level 5 Training in Wales?\n\nAccredited by the Institute of Leadership & Management (ILM)\, recognised UK-wide\nDelivery in Cardiff or via live online sessions (Zoom/MS Teams)\nBespoke on-site training for groups of 6+ delegates\nExpert tutors with hands-on leadership and sector experience\nDedicated assignment support\, tutorials\, and mentoring\n\nCourse Overview\nThe ILM Level 5 suite offers three pathways: \n\nAward (2 modules)\nCertificate (5 modules)\n\nEach pathway combines practical workshops with written assignments (nominal 2\,200 words each) to embed learning in your workplace context. \nWho Should Attend?\nThis course is designed for senior and middle managers aiming for promotion\, project leaders and functional specialists\, professionals responsible for strategic or change leadership\, and organisations investing in leadership succession planning. \nCore Modules\nAward (2 modules): \n\nBecoming an Effective Leader\nManaging Projects in the Organisation (incl. White Belt Lean Six Sigma)\n\nCertificate (adds 3 modules): \n\nManaging Individual Development\nSolving Problems by Making Effective Decisions\nLeading Innovation and Change\n\nFormat & Duration\n\nAward: 2 days training + optional tutorial day\nCertificate: 4 days training + tutorial support\nAssignments: 1 assignment for each module undertaken\n\nLocation & Delivery\n\nIn-person: 5–7 Museum Place\, Cardiff\, CF10 3BD\nOnline: Live Zoom or MS Teams sessions\nOn-site: Group bookings of 6+ delegates anywhere in Wales\n\nLearning Outcomes\nBy course end\, you will be able to: \n\nDevelop and communicate strategic vision\nManage complex projects and resources\nFoster innovation and lead organisational change\nApply commercial awareness in decision-making\nMentor and develop high-performing teams\n\nEnrol Today\nReady to transform your leadership impact? Email info@CareerChangeWales.co.uk or call 029 21 156 603 to discuss dates\, pricing\, or bespoke delivery. \nCheck out our other ILM courses: HERE
URL:https://www.careerchangewales.co.uk/event/ilm-level-5-leadership-and-management-17/
LOCATION:5-7 Museum Place\, Cardiff\, CF10 3BD\, 5-7 Museum Place\, Cardiff\, CF10 3BD\, United Kingdom
CATEGORIES:Leadership and Management Training
END:VEVENT
BEGIN:VEVENT
DTSTART;VALUE=DATE:20260812
DTEND;VALUE=DATE:20260814
DTSTAMP:20260421T054411
CREATED:20260304T143158Z
LAST-MODIFIED:20260304T143158Z
UID:12254-1786492800-1786665599@www.careerchangewales.co.uk
SUMMARY:Topographical Surveying Training
DESCRIPTION:Topographical Surveying Training – 2 Day Course in Cardiff\nOverview\n\n\n\nOur Topographical Surveying Training in Cardiff is a comprehensive three‑day programme designed to give construction professionals\, engineers\, and early‑career surveyors the practical skills they need to carry out accurate land surveys. Combining classroom learning with hands‑on fieldwork\, the course covers everything from levelling operations and survey control methods to the use of modern electronic instruments and GPS technology. You’ll learn how to collect\, process\, and transfer survey data into CAD‑compatible formats\, ensuring you can produce reliable outputs for real‑world projects. \nDelivered by experienced tutors with industry expertise\, this course is ideal for those looking to build a strong foundation in surveying or refresh their existing knowledge with up‑to‑date techniques. By the end of the programme\, you’ll have the confidence to apply surveying principles on site\, use tools effectively\, and contribute to construction and engineering projects with precision. \nWhy Choose CCW’s Surveying Training?\n\nAccredited training provider in Cardiff: Trusted across Wales for professional development.\nPractical\, hands‑on learning: Work directly with surveying instruments and software.\nIndustry‑relevant skills: Learn techniques used daily by surveyors and engineers.\nExpert tutors: Delivered by experienced professionals in construction and surveying.\nCareer progression: Build a foundation for advanced surveying and CAD courses.\n\nWhat You’ll Learn\n\nIntroduction to land surveying: Principles and terminology.\nLevelling operations: Height of collimation\, rise and fall methods\, and use of Ordnance Survey benchmarks.\nElectronic surveying instruments: Practical use of modern tools.\nTopographical survey techniques: Collecting and processing field data.\nSurvey control methods: Three‑point resection\, GPS\, and digital mapping.\nDigital data transfer: Using Leica Geo Office and Topcon tools.\nSurvey data processing: Converting field data into usable outputs.\nAutoCAD applications: Producing 2D and 3D models for design purposes.\n\nCourse Details\n\nDuration: 2 days (with additional homework).\nLocation: CCW Training Academy\, Cardiff city centre.\nAudience: Construction industry professionals\, early‑career surveyors\, and engineers.\nFormat: Tutor presentations\, workshops\, and case studies.\nExtras: Course notes\, refreshments\, and lunch provided.\n\nBenefits of Attending\n\nUpdate existing surveying skills with modern techniques.\nGain practical experience on‑site with surveyors and engineers.\nProduce CAD‑compatible outputs for professional projects.\nEnhance career prospects in construction and engineering.\n\nHow to Book\nSecure your place today: \n\nPhone: 029 21 156 603\nEmail: info@careerchangewales.co.uk
URL:https://www.careerchangewales.co.uk/event/topographical-surveying-training-6/
LOCATION:5-7 Museum Place\, Cardiff\, CF10 3BD\, 5-7 Museum Place\, Cardiff\, CF10 3BD\, United Kingdom
CATEGORIES:Construction Related Training
END:VEVENT
END:VCALENDAR