BEGIN:VCALENDAR
VERSION:2.0
PRODID:-//CCW-Training Academy - ECPv6.15.20//NONSGML v1.0//EN
CALSCALE:GREGORIAN
METHOD:PUBLISH
X-WR-CALNAME:CCW-Training Academy
X-ORIGINAL-URL:https://www.careerchangewales.co.uk
X-WR-CALDESC:Events for CCW-Training Academy
REFRESH-INTERVAL;VALUE=DURATION:PT1H
X-Robots-Tag:noindex
X-PUBLISHED-TTL:PT1H
BEGIN:VTIMEZONE
TZID:Europe/London
BEGIN:DAYLIGHT
TZOFFSETFROM:+0000
TZOFFSETTO:+0100
TZNAME:BST
DTSTART:20250330T010000
END:DAYLIGHT
BEGIN:STANDARD
TZOFFSETFROM:+0100
TZOFFSETTO:+0000
TZNAME:GMT
DTSTART:20251026T010000
END:STANDARD
BEGIN:DAYLIGHT
TZOFFSETFROM:+0000
TZOFFSETTO:+0100
TZNAME:BST
DTSTART:20260329T010000
END:DAYLIGHT
BEGIN:STANDARD
TZOFFSETFROM:+0100
TZOFFSETTO:+0000
TZNAME:GMT
DTSTART:20261025T010000
END:STANDARD
BEGIN:DAYLIGHT
TZOFFSETFROM:+0000
TZOFFSETTO:+0100
TZNAME:BST
DTSTART:20270328T010000
END:DAYLIGHT
BEGIN:STANDARD
TZOFFSETFROM:+0100
TZOFFSETTO:+0000
TZNAME:GMT
DTSTART:20271031T010000
END:STANDARD
END:VTIMEZONE
BEGIN:VEVENT
DTSTART;VALUE=DATE:20260801
DTEND;VALUE=DATE:20260901
DTSTAMP:20260421T054408
CREATED:20240830T082906Z
LAST-MODIFIED:20240830T082906Z
UID:10954-1785542400-1788220799@www.careerchangewales.co.uk
SUMMARY:Taith Programme Pathway 1: 18-25 and 26+ Projects
DESCRIPTION:
URL:https://www.careerchangewales.co.uk/event/taith-programme-pathway-1-18-25-and-26-projects-4/
LOCATION:5-7 Museum Place\, Cardiff\, CF10 3BD\, 5-7 Museum Place\, Cardiff\, CF10 3BD\, United Kingdom
CATEGORIES:Taith Programme
ORGANIZER;CN="CCW-Training Academy":MAILTO:Info@CareerChangeWales.co.uk
END:VEVENT
BEGIN:VEVENT
DTSTART;VALUE=DATE:20260827
DTEND;VALUE=DATE:20260829
DTSTAMP:20260421T054408
CREATED:20260304T141145Z
LAST-MODIFIED:20260304T141145Z
UID:12181-1787788800-1787961599@www.careerchangewales.co.uk
SUMMARY:Intermediate AutoCAD Training
DESCRIPTION:Intermediate AutoCAD Training\nIntermediate AutoCAD Training. Offsite Training: We are able to offer training at your premises subject to a minimum number of candidates. We can also offer bespoke training to your line of business at all levels. If interested please contact us at Info@CareerChangeWales.co.uk or call 029 21 156 603\, and we will be able to give you a very competitive rate. \n\n\n\nThis intermediate AutoCAD training course is designed for the experienced AutoCAD® user who requires additional training. It incorporates the features\, commands\, and techniques for becoming more productive when creating\, annotating\, and printing drawings with AutoCAD. This intermediate-level course continues to build on the basic concepts of the AutoCAD Essentials course. \nWe run our course at 5-7 Museum Place\, Cardiff\, CF10 3BD\, however if you can’t come to Cardiff we can also offer the course through Zoom. We also offer the training at your venue if you have a minimum number of candidates. \nFor training dates\, have a look at our calendar – CLICK HERE \nIf you cannot find the course you’re looking for on the calendar please contact us either by phoning 029 21 156 603 or emailing Info@CareerChangeWales.co.uk \nWho Should Attend\nThis intermediate AutoCAD training course has been created for users with experience in using AutoCAD but who want to improve on their abilities. This course goes well with the beginner course. \nCourse Content (Intermediate AutoCAD Training)\nThis course will cover the following: \n\nExtended Object visibility control\nWorking with multiple documents\nUtility Commands\nCreating Layouts & Plotting\nAdvanced Layouts\nBlock creation and management\n\nLearning Outcomes\nBy the end of the course learner will be able to: \n\nCreate Custom Workspaces\nCreate Parametric Drawings\nUse external References\nAnnotate Styles\nCreate advanced Layouts\n\nCourse Format\nThis intermediate AutoCAD training course is a 2 day intensive course that is generally taught in small classes; normally around 3-4 people in a class to give you the maximum exposure to an industry professional. This will enable you to ask the questions that you require and\, more importantly\, have your questions answered. There is no exam with this course but you will receive homework to complete after every training session. \nThere are no hidden costs for training. All of our training includes; refreshments\, training material\, registration and all other related costs. \nIf you would like any additional information about this course then please contact us on 02921156603 or email Admin@CareerChangeWales.co.uk
URL:https://www.careerchangewales.co.uk/event/intermediate-autocad-training-16/
LOCATION:5-7 Museum Place\, Cardiff\, CF10 3BD\, 5-7 Museum Place\, Cardiff\, CF10 3BD\, United Kingdom
CATEGORIES:ICT Training Courses
END:VEVENT
BEGIN:VEVENT
DTSTART;VALUE=DATE:20260827
DTEND;VALUE=DATE:20260829
DTSTAMP:20260421T054408
CREATED:20260304T142108Z
LAST-MODIFIED:20260304T142108Z
UID:12217-1787788800-1787961599@www.careerchangewales.co.uk
SUMMARY:Team Building
DESCRIPTION:Team Building\n\n\n\nTeam building can be a great way of helping both new and existing teams to work and communicate well. We design our team building to target the needs of your particular team. Our approach is to mix strategic planning with practical techniques. This improves internal team communication\, co-operation and morale (We can offer bespoke training to group bookings). \nOur training can be bespoke to the needs of our customers to ensure that the training is to the highest possible quality. We provide our training with various exercises and activities to ensure that everyone is able to enjoy and take away a lot from the course. \nWho will benefit\nThose looking to improve their team building\, and relationships within their teams. Departments\, teams and project groups who are working together either regularly or for a special purpose. \nLearning Outcomes\n\nDevelop an understanding of each other’s roles within the team\nAnalyse how individual team members can become more empowered\nBuild a shared vision of where the team is going and what its priorities are\nUnderstand problem solving skills (emotional intelligence\, empathy\, mindfulness)\n\nLearning Content\n\nHow did we get where we are today?\nWhere do we want to go in the future? Priorities and roles\nBuilding on our successes\nBreaking down the barriers to success\nDeveloping as a high performing team\nDealing effectively with change\nWhat next? Personal and group action plans\n\nExample Team Building Activities\n\nToxic waste\nFox\, the chicken and the corn\nRestorative justice\n\nGeneral Information\nThis is a 1-day course that runs from 9:30 AM to 4:30 PM. Lunch and refreshments will be provided. If you have any dietary requirements\, please let us know by emailing Info@CareerChangeWales.co.uk \nTraining Venue: 5-7 Museum Place\, Cardiff\, CF10 3BD.
URL:https://www.careerchangewales.co.uk/event/team-building-5/
LOCATION:5-7 Museum Place\, Cardiff\, CF10 3BD\, 5-7 Museum Place\, Cardiff\, CF10 3BD\, United Kingdom
CATEGORIES:Soft Skills Courses
END:VEVENT
END:VCALENDAR