BEGIN:VCALENDAR
VERSION:2.0
PRODID:-//CCW-Training Academy - ECPv6.15.20//NONSGML v1.0//EN
CALSCALE:GREGORIAN
METHOD:PUBLISH
X-ORIGINAL-URL:https://www.careerchangewales.co.uk
X-WR-CALDESC:Events for CCW-Training Academy
REFRESH-INTERVAL;VALUE=DURATION:PT1H
X-Robots-Tag:noindex
X-PUBLISHED-TTL:PT1H
BEGIN:VTIMEZONE
TZID:Europe/London
BEGIN:DAYLIGHT
TZOFFSETFROM:+0000
TZOFFSETTO:+0100
TZNAME:BST
DTSTART:20250330T010000
END:DAYLIGHT
BEGIN:STANDARD
TZOFFSETFROM:+0100
TZOFFSETTO:+0000
TZNAME:GMT
DTSTART:20251026T010000
END:STANDARD
BEGIN:DAYLIGHT
TZOFFSETFROM:+0000
TZOFFSETTO:+0100
TZNAME:BST
DTSTART:20260329T010000
END:DAYLIGHT
BEGIN:STANDARD
TZOFFSETFROM:+0100
TZOFFSETTO:+0000
TZNAME:GMT
DTSTART:20261025T010000
END:STANDARD
BEGIN:DAYLIGHT
TZOFFSETFROM:+0000
TZOFFSETTO:+0100
TZNAME:BST
DTSTART:20270328T010000
END:DAYLIGHT
BEGIN:STANDARD
TZOFFSETFROM:+0100
TZOFFSETTO:+0000
TZNAME:GMT
DTSTART:20271031T010000
END:STANDARD
END:VTIMEZONE
BEGIN:VEVENT
DTSTART;VALUE=DATE:20260928
DTEND;VALUE=DATE:20261002
DTSTAMP:20260421T072934
CREATED:20260304T135757Z
LAST-MODIFIED:20260304T145352Z
UID:12109-1790553600-1790899199@www.careerchangewales.co.uk
SUMMARY:ILM Level 7 Award in Leadership and Management
DESCRIPTION:ILM Level 7 Award in Leadership and Management – Strategic Leadership Training in Wales\n\n\n\nElevate your executive impact with the ILM Level 7 Award in Leadership and Management\, designed for senior leaders\, directors and CEOs across Wales. Delivered by Career Change Wales (CCW) – Training Academy\, this world-renowned qualification equips you with the strategic insight and authority to lead organisations at the highest level.. \nThe ILM Level 7 Leadership and Management Training that we offer in Wales\, is an excellent and world renowned qualification which gives you the abilities to become a strategic leader. It will also give you a qualification which shows you know how to lead at the highest level of any organisation. Management is a universal skill\, whether someone is at the bottom or top of an organisation and this qualification will teach you how to lead when you are at the top of an organisation. \nWhy Choose CCW for ILM Level 7 Training in Wales?\n\nILM-Accredited Excellence: Recognised UK-wide as the gold standard for strategic leadership.\nBlended Delivery: 2.5 days in Cardiff or via live online sessions\, plus optional assignment tutorial.\nDedicated Support: One-to-one mentoring\, email guidance and tutorial days to ensure your success.\nGroup Discounts: Special rates for cohort bookings\, ideal for leadership teams.\n\nCourse Overview\nThis Award requires completion of a single module (one 3\,500-word assignment). The course content centres on four key areas: \nYou’ll learn how to developing strategic leadership and management capability\, how to adopting a data-led approach to strategic management. Create a commercially focused organisation\, that can evolve approaches in leadership and management. Participants select a module that best aligns with their strategic priorities and work through practical\, assignment-based learning to embed new skills effectively. \nFormat & Duration\n\nTraining: 3 days of expert-led workshops\nTutorial: 1 optional day for assignment guidance\nAssessment: 1 assignment of approximately 3\,500 words\n\nLocation & Accessibility\n\nIn-person: CCW Training Academy\, 5–7 Museum Place\, Cardiff\, CF10 3BD\nOnline: Live Zoom sessions\, perfect for leaders across Wales\nOn-site: Bespoke delivery for groups of 6+ at your premises\n\nLearning Outcomes\nBy course end\, you will be able to: \n\nCraft and communicate an organisation-wide strategic vision\nUtilise data analytics to inform high-level decisions\nDrive commercial performance in complex environments\nImplement innovative leadership practices at the executive level\nNavigate organisational change with confidence\n\nWho Should Attend?\nThis qualification is ideal for senior leaders\, directors\, CEOs and executive teams ready to formalise and sharpen their strategic leadership capabilities. \nEnrol Today\nSecure your place on Wales’s premier ILM Level 7 leadership programme. \nEmail: info@CareerChangeWales.co.uk Call: 029 21 156 603 \nWe offer our training blended\, so if you can’t make it to Cardiff for a course we can offer it through Zoom. We provide a lot of support to ensure the highest quality of training\, and the best chance for you to pass and gain the qualification. \nGroup Bookings\nIf you are booking on behalf of a number of individuals then we can offer discounted costs. For more information please contact us using the number or email above.
URL:https://www.careerchangewales.co.uk/event/ilm-level-7-award-in-leadership-and-management-5/
LOCATION:5-7 Museum Place\, Cardiff\, CF10 3BD\, 5-7 Museum Place\, Cardiff\, CF10 3BD\, United Kingdom
CATEGORIES:Leadership and Management Training
END:VEVENT
BEGIN:VEVENT
DTSTART;VALUE=DATE:20260929
DTEND;VALUE=DATE:20261001
DTSTAMP:20260421T072934
CREATED:20260304T143517Z
LAST-MODIFIED:20260304T143517Z
UID:12267-1790640000-1790812799@www.careerchangewales.co.uk
SUMMARY:Setting Out Training
DESCRIPTION:Setting Out Training – 3 Day Course in Cardiff\nOverview\n\n\n\nOur 3‑day Setting Out Training in Cardiff is designed for construction professionals who want to develop practical skills in transferring design information into accurate on‑site data. This intensive course provides a clear introduction to setting out techniques using both manual and electronic equipment\, ensuring participants can confidently implement co‑ordinated positions of points\, profiles\, and batter rails. \nWith a strong focus on hands‑on learning\, you’ll gain experience in levelling operations\, on‑site calculations\, and the installation of profiles for trench work\, earthworks\, and road construction. By the end of the course\, you’ll have the confidence to apply setting out principles on live projects and the knowledge to progress further in your surveying or construction career. \nWhy Choose CCW’s Setting Out Training?\n\nAccredited training provider in Cardiff: Recognised across Wales for quality and professional development.\nPractical\, site‑based learning: Apply techniques directly with EDM and Total Station equipment.\nExpert tutors: Delivered by practising surveyors and engineers with industry experience.\nCareer progression: Build a foundation for advanced surveying and CAD training.\nConvenient location: Delivered at CCW’s Cardiff training centre\, close to transport links.\n\nWhat You’ll Learn\n\nIntroduction to setting out: Principles\, terminology\, and applications.\nConversion of design information: Turning plans into usable site data.\nLevelling operations: Setting finished levels with accuracy.\nCo‑ordinate calculations: Polar rectangular and grid methods.\nElectronic survey equipment: Using EDM and Total Station tools.\nSetting out by angle and distance: Applying practical field techniques.\nProfiles and batter rails: Installation for trench\, earthwork\, and road projects.\nSurvey checks and as‑built drawings: Ensuring accuracy and producing digital records.\n\nCourse Details\n\nDuration: 3 days (09:30 – 16:30).\nLocation: CCW Training Academy\, 5-7 Museum Place\, Cardiff City Centre\, CF10 3BD.\nAudience: Construction professionals\, early‑career surveyors\, and engineers.\nFormat: Tutor presentations\, case studies\, and practical site exercises.\nExtras: Course notes\, refreshments\, and lunch included.\n\nBenefits of Attending\n\nGain confidence in applying setting out techniques on site.\nUpdate existing skills with modern surveying methods.\nEnhance career prospects in construction and engineering.\nLearn from experts with real‑world industry experience.\n\nHow to Book\nSecure your place today: \n\nPhone: 029 21 156 603\nEmail: info@careerchangewales.co.uk
URL:https://www.careerchangewales.co.uk/event/setting-out-training-5/
LOCATION:5-7 Museum Place\, Cardiff\, CF10 3BD\, 5-7 Museum Place\, Cardiff\, CF10 3BD\, United Kingdom
CATEGORIES:Construction Related Training
END:VEVENT
END:VCALENDAR