BEGIN:VCALENDAR
VERSION:2.0
PRODID:-//CCW-Training Academy - ECPv6.15.20//NONSGML v1.0//EN
CALSCALE:GREGORIAN
METHOD:PUBLISH
X-WR-CALNAME:CCW-Training Academy
X-ORIGINAL-URL:https://www.careerchangewales.co.uk
X-WR-CALDESC:Events for CCW-Training Academy
REFRESH-INTERVAL;VALUE=DURATION:PT1H
X-Robots-Tag:noindex
X-PUBLISHED-TTL:PT1H
BEGIN:VTIMEZONE
TZID:Europe/London
BEGIN:DAYLIGHT
TZOFFSETFROM:+0000
TZOFFSETTO:+0100
TZNAME:BST
DTSTART:20250330T010000
END:DAYLIGHT
BEGIN:STANDARD
TZOFFSETFROM:+0100
TZOFFSETTO:+0000
TZNAME:GMT
DTSTART:20251026T010000
END:STANDARD
BEGIN:DAYLIGHT
TZOFFSETFROM:+0000
TZOFFSETTO:+0100
TZNAME:BST
DTSTART:20260329T010000
END:DAYLIGHT
BEGIN:STANDARD
TZOFFSETFROM:+0100
TZOFFSETTO:+0000
TZNAME:GMT
DTSTART:20261025T010000
END:STANDARD
BEGIN:DAYLIGHT
TZOFFSETFROM:+0000
TZOFFSETTO:+0100
TZNAME:BST
DTSTART:20270328T010000
END:DAYLIGHT
BEGIN:STANDARD
TZOFFSETFROM:+0100
TZOFFSETTO:+0000
TZNAME:GMT
DTSTART:20271031T010000
END:STANDARD
END:VTIMEZONE
BEGIN:VEVENT
DTSTART;TZID=Europe/London:20261015T080000
DTEND;TZID=Europe/London:20261016T170000
DTSTAMP:20260421T103913
CREATED:20260304T143154Z
LAST-MODIFIED:20260304T143154Z
UID:12256-1792051200-1792170000@www.careerchangewales.co.uk
SUMMARY:Topographical Surveying Training
DESCRIPTION:Topographical Surveying Training – 2 Day Course in Cardiff\nOverview\n\n\n\nOur Topographical Surveying Training in Cardiff is a comprehensive three‑day programme designed to give construction professionals\, engineers\, and early‑career surveyors the practical skills they need to carry out accurate land surveys. Combining classroom learning with hands‑on fieldwork\, the course covers everything from levelling operations and survey control methods to the use of modern electronic instruments and GPS technology. You’ll learn how to collect\, process\, and transfer survey data into CAD‑compatible formats\, ensuring you can produce reliable outputs for real‑world projects. \nDelivered by experienced tutors with industry expertise\, this course is ideal for those looking to build a strong foundation in surveying or refresh their existing knowledge with up‑to‑date techniques. By the end of the programme\, you’ll have the confidence to apply surveying principles on site\, use tools effectively\, and contribute to construction and engineering projects with precision. \nWhy Choose CCW’s Surveying Training?\n\nAccredited training provider in Cardiff: Trusted across Wales for professional development.\nPractical\, hands‑on learning: Work directly with surveying instruments and software.\nIndustry‑relevant skills: Learn techniques used daily by surveyors and engineers.\nExpert tutors: Delivered by experienced professionals in construction and surveying.\nCareer progression: Build a foundation for advanced surveying and CAD courses.\n\nWhat You’ll Learn\n\nIntroduction to land surveying: Principles and terminology.\nLevelling operations: Height of collimation\, rise and fall methods\, and use of Ordnance Survey benchmarks.\nElectronic surveying instruments: Practical use of modern tools.\nTopographical survey techniques: Collecting and processing field data.\nSurvey control methods: Three‑point resection\, GPS\, and digital mapping.\nDigital data transfer: Using Leica Geo Office and Topcon tools.\nSurvey data processing: Converting field data into usable outputs.\nAutoCAD applications: Producing 2D and 3D models for design purposes.\n\nCourse Details\n\nDuration: 2 days (with additional homework).\nLocation: CCW Training Academy\, Cardiff city centre.\nAudience: Construction industry professionals\, early‑career surveyors\, and engineers.\nFormat: Tutor presentations\, workshops\, and case studies.\nExtras: Course notes\, refreshments\, and lunch provided.\n\nBenefits of Attending\n\nUpdate existing surveying skills with modern techniques.\nGain practical experience on‑site with surveyors and engineers.\nProduce CAD‑compatible outputs for professional projects.\nEnhance career prospects in construction and engineering.\n\nHow to Book\nSecure your place today: \n\nPhone: 029 21 156 603\nEmail: info@careerchangewales.co.uk
URL:https://www.careerchangewales.co.uk/event/topographical-surveying-training-5/
LOCATION:5-7 Museum Place\, Cardiff\, CF10 3BD\, 5-7 Museum Place\, Cardiff\, CF10 3BD\, United Kingdom
CATEGORIES:Construction Related Training
END:VEVENT
BEGIN:VEVENT
DTSTART;VALUE=DATE:20261016
DTEND;VALUE=DATE:20261017
DTSTAMP:20260421T103913
CREATED:20260304T140717Z
LAST-MODIFIED:20260304T140717Z
UID:12158-1792108800-1792195199@www.careerchangewales.co.uk
SUMMARY:Microsoft Project Beginner
DESCRIPTION:Microsoft Project Beginner Training\n\n\n\nMicrosoft Project Beginner Training\nLocation: CCW-Training Academy\, 5-7 Museum Place\, Cardiff\, CF10 3BD\nContact:  029 21 156 603 |  info@careerchangewales.co.uk\nDuration: 1 Day | Level: Beginner | Format: In-Person Training\nDates: Check out our CALENDAR (https://www.careerchangewales.co.uk/events/) or contact us. \n Plan with Confidence\, Manage with Precision\nThis one-day Microsoft Project beginner training course introduces Microsoft Project\, equipping learners with the essential tools to plan\, schedule\, and manage projects effectively. Ideal for professionals new to project management or Microsoft Project. \n What You Will Learn\n\nIntroduction to Microsoft Project and the user interface\nCreating and setting up a new project plan\nDefining tasks and setting durations\nCreating task relationships (dependencies)\nAssigning resources to tasks\nSetting project calendars and constraints\nTracking progress and updating tasks\nCreating and formatting Gantt charts\nGenerating reports\nSaving\, sharing\, and printing project plans\n\n Microsoft Project Beginner Training Outcomes\nBy the end of the course\, learners will be able to: \n Build and manage basic project plans\n Schedule tasks and allocate resources\n Monitor project progress with tracking tools\n Use Gantt charts and reports to communicate effectively\n Apply core project management principles using MS Project \n Why Choose CCW-Training Academy?\n\nExpert trainers with real-world experience\nInteractive and hands-on learning\nCentrally located training office in Cardiff\nSmall group sizes for maximum support\nSuitable for individuals and corporate clients\n\n Secure Your Place Today!\nSpaces are limited – call us on 029 21 156 603 or email info@careerchangewales.co.uk to book or learn more. \nWe can offer on-site training for a minimum number of candidates. We also offer bespoke group training tailored to your organisation’s specific needs. \nCheck out our excellent TRUSTPILOT REVIEWS.
URL:https://www.careerchangewales.co.uk/event/microsoft-project-beginner-6/
LOCATION:5-7 Museum Place\, Cardiff\, CF10 3BD\, 5-7 Museum Place\, Cardiff\, CF10 3BD\, United Kingdom
CATEGORIES:ICT Training Courses
END:VEVENT
END:VCALENDAR