BEGIN:VCALENDAR
VERSION:2.0
PRODID:-//CCW-Training Academy - ECPv6.15.20//NONSGML v1.0//EN
CALSCALE:GREGORIAN
METHOD:PUBLISH
X-WR-CALNAME:CCW-Training Academy
X-ORIGINAL-URL:https://www.careerchangewales.co.uk
X-WR-CALDESC:Events for CCW-Training Academy
REFRESH-INTERVAL;VALUE=DURATION:PT1H
X-Robots-Tag:noindex
X-PUBLISHED-TTL:PT1H
BEGIN:VTIMEZONE
TZID:Europe/London
BEGIN:DAYLIGHT
TZOFFSETFROM:+0000
TZOFFSETTO:+0100
TZNAME:BST
DTSTART:20250330T010000
END:DAYLIGHT
BEGIN:STANDARD
TZOFFSETFROM:+0100
TZOFFSETTO:+0000
TZNAME:GMT
DTSTART:20251026T010000
END:STANDARD
BEGIN:DAYLIGHT
TZOFFSETFROM:+0000
TZOFFSETTO:+0100
TZNAME:BST
DTSTART:20260329T010000
END:DAYLIGHT
BEGIN:STANDARD
TZOFFSETFROM:+0100
TZOFFSETTO:+0000
TZNAME:GMT
DTSTART:20261025T010000
END:STANDARD
BEGIN:DAYLIGHT
TZOFFSETFROM:+0000
TZOFFSETTO:+0100
TZNAME:BST
DTSTART:20270328T010000
END:DAYLIGHT
BEGIN:STANDARD
TZOFFSETFROM:+0100
TZOFFSETTO:+0000
TZNAME:GMT
DTSTART:20271031T010000
END:STANDARD
END:VTIMEZONE
BEGIN:VEVENT
DTSTART;VALUE=DATE:20261022
DTEND;VALUE=DATE:20261024
DTSTAMP:20260421T091159
CREATED:20260304T141212Z
LAST-MODIFIED:20260304T141212Z
UID:12183-1792627200-1792799999@www.careerchangewales.co.uk
SUMMARY:Intermediate AutoCAD Training
DESCRIPTION:Intermediate AutoCAD Training\nIntermediate AutoCAD Training. Offsite Training: We are able to offer training at your premises subject to a minimum number of candidates. We can also offer bespoke training to your line of business at all levels. If interested please contact us at Info@CareerChangeWales.co.uk or call 029 21 156 603\, and we will be able to give you a very competitive rate. \n\n\n\nThis intermediate AutoCAD training course is designed for the experienced AutoCAD® user who requires additional training. It incorporates the features\, commands\, and techniques for becoming more productive when creating\, annotating\, and printing drawings with AutoCAD. This intermediate-level course continues to build on the basic concepts of the AutoCAD Essentials course. \nWe run our course at 5-7 Museum Place\, Cardiff\, CF10 3BD\, however if you can’t come to Cardiff we can also offer the course through Zoom. We also offer the training at your venue if you have a minimum number of candidates. \nFor training dates\, have a look at our calendar – CLICK HERE \nIf you cannot find the course you’re looking for on the calendar please contact us either by phoning 029 21 156 603 or emailing Info@CareerChangeWales.co.uk \nWho Should Attend\nThis intermediate AutoCAD training course has been created for users with experience in using AutoCAD but who want to improve on their abilities. This course goes well with the beginner course. \nCourse Content (Intermediate AutoCAD Training)\nThis course will cover the following: \n\nExtended Object visibility control\nWorking with multiple documents\nUtility Commands\nCreating Layouts & Plotting\nAdvanced Layouts\nBlock creation and management\n\nLearning Outcomes\nBy the end of the course learner will be able to: \n\nCreate Custom Workspaces\nCreate Parametric Drawings\nUse external References\nAnnotate Styles\nCreate advanced Layouts\n\nCourse Format\nThis intermediate AutoCAD training course is a 2 day intensive course that is generally taught in small classes; normally around 3-4 people in a class to give you the maximum exposure to an industry professional. This will enable you to ask the questions that you require and\, more importantly\, have your questions answered. There is no exam with this course but you will receive homework to complete after every training session. \nThere are no hidden costs for training. All of our training includes; refreshments\, training material\, registration and all other related costs. \nIf you would like any additional information about this course then please contact us on 02921156603 or email Admin@CareerChangeWales.co.uk
URL:https://www.careerchangewales.co.uk/event/intermediate-autocad-training-18/
LOCATION:5-7 Museum Place\, Cardiff\, CF10 3BD\, 5-7 Museum Place\, Cardiff\, CF10 3BD\, United Kingdom
CATEGORIES:ICT Training Courses
END:VEVENT
BEGIN:VEVENT
DTSTART;VALUE=DATE:20261023
DTEND;VALUE=DATE:20261024
DTSTAMP:20260421T091200
CREATED:20260304T142352Z
LAST-MODIFIED:20260304T145745Z
UID:12231-1792713600-1792799999@www.careerchangewales.co.uk
SUMMARY:Introduction to bid writing
DESCRIPTION:Introduction to Bid Writing Overview:\nThis is our Introduction to Bid Writing training course. Bid Writing requires skills and knowledge specific to this subject. Our beginner course will give you the fundamentals to Bid Writing. This introductory course will allow you an understanding to PQQ\, ITT and Open Tendering stages. We also have an Intermediate and Advanced course if you feel that what this course covers it too basic for you. \nThis course will be covering the basics of bid writing\, including how to carry out a well structured and robust bid for a tender within any sector. This course is tutor-lead in the Cardiff city centre by an individual with years of experienced bidding within various sectors and at various levels of funding. \nAims and Objectives:\nThe aim of this course is to provide learners with an introduction to Bid Writing. It will also allow you to understand how to research\, prepare\, and submit a successful bid document/s. \nBid Writing Course Delivery:\nLearners will be introduced to learning experience by working through a generic Bid Writing document covering all the fundamental aspects within a workshop environment. \nDuration of Course:\nThe duration of this course is one-day workshop for beginner’s level. \nLearning Outcomes:\nUpon completion of the course\, individuals will understand the Bid Writing processes and can carry out a well-planned structured approach to submitting a bid document\, including providing financial aspects (i.e. providing mini-quotation\, pricing\, and related matters). \nAudience and who is it for?\nThe course is intended to benefit those individuals seeking to understand the working practices of Bid Writing with or without any prior knowledge of the subject matter. \n\nFor those individuals seeking to understand bid writing skills and those starting to work on bid writing.\nFor having a better understanding with a sound working knowledge of the basic principles\, terminology used.\nFor those interested in the Bid Writing.
URL:https://www.careerchangewales.co.uk/event/introduction-to-bid-writing-6/
LOCATION:5-7 Museum Place\, Cardiff\, CF10 3BD\, 5-7 Museum Place\, Cardiff\, CF10 3BD\, United Kingdom
CATEGORIES:CPD and HR Related Courses
END:VEVENT
END:VCALENDAR