BEGIN:VCALENDAR
VERSION:2.0
PRODID:-//CCW-Training Academy - ECPv6.15.20//NONSGML v1.0//EN
CALSCALE:GREGORIAN
METHOD:PUBLISH
X-ORIGINAL-URL:https://www.careerchangewales.co.uk
X-WR-CALDESC:Events for CCW-Training Academy
REFRESH-INTERVAL;VALUE=DURATION:PT1H
X-Robots-Tag:noindex
X-PUBLISHED-TTL:PT1H
BEGIN:VTIMEZONE
TZID:Europe/London
BEGIN:DAYLIGHT
TZOFFSETFROM:+0000
TZOFFSETTO:+0100
TZNAME:BST
DTSTART:20240331T010000
END:DAYLIGHT
BEGIN:STANDARD
TZOFFSETFROM:+0100
TZOFFSETTO:+0000
TZNAME:GMT
DTSTART:20241027T010000
END:STANDARD
BEGIN:DAYLIGHT
TZOFFSETFROM:+0000
TZOFFSETTO:+0100
TZNAME:BST
DTSTART:20250330T010000
END:DAYLIGHT
BEGIN:STANDARD
TZOFFSETFROM:+0100
TZOFFSETTO:+0000
TZNAME:GMT
DTSTART:20251026T010000
END:STANDARD
BEGIN:DAYLIGHT
TZOFFSETFROM:+0000
TZOFFSETTO:+0100
TZNAME:BST
DTSTART:20260329T010000
END:DAYLIGHT
BEGIN:STANDARD
TZOFFSETFROM:+0100
TZOFFSETTO:+0000
TZNAME:GMT
DTSTART:20261025T010000
END:STANDARD
END:VTIMEZONE
BEGIN:VEVENT
DTSTART;VALUE=DATE:20250203
DTEND;VALUE=DATE:20250205
DTSTAMP:20260421T122357
CREATED:20240704T090503Z
LAST-MODIFIED:20241025T134049Z
UID:10777-1738540800-1738713599@www.careerchangewales.co.uk
SUMMARY:Lean Six Sigma Yellow Belt Training Course
DESCRIPTION:Lean Six Sigma Yellow Belt Training Course\nLean Six Sigma Yellow Belt Training Course – Our Lean Six Sigma Yellow Belt course covers the foundational concepts and tools of Lean Six Sigma methodologies. \nWho is it for?\nThe Lean Six Sigma Yellow Belt Training Course is designed for individuals who want to deepen their understanding of process improvement methodologies. It is suitable for professionals\, team members\, and employees who work within an organization and want to contribute to process optimisation. The Yellow Belt training covers essential concepts such as process mapping\, data collection\, root cause analysis\, and basic statistical tools. Whether you are directly involved in process improvement projects or simply interested in building foundational knowledge\, this course provides valuable insights. \nBelow are the learning outcomes for our Lean Six Sigma Yellow Belt training: \nThe learning outcomes for such a course generally include:\n\nUnderstanding Lean Six Sigma Fundamentals\n\nIntroduction to Lean Six Sigma Yellow Belt Training:\n\nComprehend the history\, principles\, and goals of Lean Six Sigma.\nUnderstand the DMAIC (Define\, Measure\, Analyse\, Improve\, Control) methodology.\n\nRoles and Responsibilities:\nIdentify the roles and responsibilities of Yellow Belts\, Green Belts\, Black Belts\, and other team members within Lean Six Sigma projects. \nLean Principles\nLean Tools and Techniques:\n\nLearn key Lean tools such as 5S\, Value Stream Mapping\, Kaizen\, and Waste Identification (Muda)\nUnderstand how to apply Lean principles to identify and eliminate waste in processes\nSix Sigma Principles\n\nSix Sigma Tools and Techniques:\n\nGain knowledge of basic Six Sigma concepts such as Variation\, Process Capability\, and\nCritical to Quality (CTQ).\nLearn to use basic Six Sigma tools such as Pareto Charts\, cause\, and effect diagrams (Fishbone)\, and Control Charts.\n\nProcess Improvement\nDMAIC Phases:\n\nDefine: Understand problem definition\, project charters\, and the importance of customer requirements.\nMeasure: Learn the basics of data collection\, measurement techniques\, and descriptive statistics.\nAnalyse: Understand root cause analysis and basic hypothesis testing.\nImprove: Learn about solution generation and basic improvement strategies.\nControl: Understand control plans\, monitoring techniques\, and the importance of sustaining improvements.\n\nPractical Application\nProject Participation:\n\nGain experience in participating in Lean Six Sigma projects.\nLearn to assist in data collection and analysis.\nUnderstand how to support Green and Black Belts in project execution.\n\nSoft Skills\nTeamwork and Communication:\n\nDevelop skills for effective communication and teamwork within Lean Six Sigma projects.\nUnderstand the importance of stakeholder engagement and management.\n\nProblem-Solving\nProblem-Solving Techniques:\n\nLearn and apply basic problem-solving techniques within the context of Lean Six Sigma.\nDevelop the ability to identify problems\, analyse root causes\, and propose solutions.\nCertification Preparation\n\nCertification Readiness:\n\nPrepare for the Lean Six Sigma Yellow Belt certification examination by reviewing key concepts\, tools\, and techniques.\nUnderstand the certification process and requirements.\n\nBy the end of the Lean Six Sigma Yellow Belt course\, participants should be well-equipped with the fundamental knowledge and skills to contribute effectively to process improvement initiatives within their organisations.
URL:https://www.careerchangewales.co.uk/event/lean-six-sigma-yellow-belt-training-course-2/
LOCATION:5-7 Museum Place\, Cardiff\, CF10 3BD\, 5-7 Museum Place\, Cardiff\, CF10 3BD\, United Kingdom
CATEGORIES:Construction Related Training
ATTACH;FMTTYPE=image/png:https://www.careerchangewales.co.uk/wp-content/uploads/2022/11/Quality-management-system-Logo.png
ORGANIZER;CN="CCW-Training Academy":MAILTO:Info@CareerChangeWales.co.uk
END:VEVENT
BEGIN:VEVENT
DTSTART;VALUE=DATE:20250206
DTEND;VALUE=DATE:20250207
DTSTAMP:20260421T122357
CREATED:20240704T090733Z
LAST-MODIFIED:20241025T134111Z
UID:10785-1738800000-1738886399@www.careerchangewales.co.uk
SUMMARY:CDM 2015 TRAINING COURSE
DESCRIPTION:An understanding of the CDM 2015 Regulation\nThis is our new CDM 2015 training course. The Construction (Design and Management) Regulations 2015 came into force on 6th April 2015. These changes represent a significant change in the way that health and safety is managed in the construction industry. The key changes that will be covered in our training are: \n\nCDM Coordinator role replaced by a ‘Principal Designer’.\nClient duties strengthened.\nClient’s “key project advisor” role removed.\nPrincipal Designer and Principal Contractor required for all projects with more than one “trade” Contractor on site.\nConstruction Phase Plan is required for all projects.\nNotification (Threshold).\n‘Explicit competence’ requirements removed.\nDuties to be applicable to domestic projects.\n\nThe Construction (Design and Management) Regulations 2015 places legal duties for those involved in construction projects. These duties will be explained in our training in 6 modules as shown below: \n\nThe Role of the Client:\nThe roles and responsibilities allocated to clients under CDM regulations\nRole of the Principal Designer:\nWhich responsibilities the principle designers have under the CDM regulations\nRole of the Designer:\nThe roles and responsibilities of designers under CDM regulations\nRole of the Principal Contractor:\nWhat responsibilities belong to the principal contractor under CDM regulations\nRole of the Contractors:\nWhat roles and responsibilities belong to the contractors under CDM regulations\nRole of the Workers:\nThe roles and responsibilities of workers under the CDM regulations\n\nWe run our CDM 2015 training in small classes to ensure the highest quality of training possible. We ensure quality by providing the training through a chartered engineer as our tutor.
URL:https://www.careerchangewales.co.uk/event/cdm-2015-training-course-2/
LOCATION:5-7 Museum Place\, Cardiff\, CF10 3BD\, 5-7 Museum Place\, Cardiff\, CF10 3BD\, United Kingdom
CATEGORIES:Construction Related Training
ATTACH;FMTTYPE=image/png:https://www.careerchangewales.co.uk/wp-content/uploads/2022/11/Quality-management-system-Logo.png
ORGANIZER;CN="CCW-Training Academy":MAILTO:Info@CareerChangeWales.co.uk
END:VEVENT
BEGIN:VEVENT
DTSTART;VALUE=DATE:20250210
DTEND;VALUE=DATE:20250212
DTSTAMP:20260421T122357
CREATED:20240703T143956Z
LAST-MODIFIED:20241025T134403Z
UID:10730-1739145600-1739318399@www.careerchangewales.co.uk
SUMMARY:Beginner AutoCAD Course
DESCRIPTION:Foundation / Beginner AutoCAD Course\nBeginner AutoCAD course training. Offsite Training: We are able to offer training at your premises subject to a minimum number of candidates. We can also offer bespoke training to your line of business at all levels. If interested please contact us at Info@CareerChangeWales.co.uk or call 029 21 156 603\, and we will be able to give you a very competitive rate. \nThis beginner AutoCAD course focuses on the basic features\, commands\, and techniques for creating\, editing\, and printing drawings with AutoCAD 2019®. Using hands-on exercises\, students explore how to create 1 Dimension production drawings. \nAutoCAD is a Computer Aided Design (CAD) software to assist with 2D and 3D design. AutoCAD is the leading tool in design and drafting for industries including Engineering\, planning\, architecture and design. Proficiency in AutoCAD can greatly assist learners in the creation of highly detailed plans and designs in a short period of time. \nFor training dates\, have a look at our calendar – CLICK HERE \nIf you cannot find the course you’re looking for on the calendar please contact us either by phoning 029 21 156 603 or emailing Info@CareerChangeWales.co.uk \nWho Should Attend\nThis beginner AutoCAD course is created for anyone looking to get in to AutoCAD but hasn’t used it before\, or for anyone looking for a refresher course. \nCourse Content\nThis course will cover the following: \n\nUsing the properties Palette\nUsing Line types\nUsing inquiry commands\nAltering Objects\nTrimming and extending objects to defined boundaries\nCreating parallel and offset geometry\nJoining objects\nInputting Data\nCreating basic objects\nUsing Polar tracking and Polar Snap\n\nLearning Outcomes\nBy the end of the course learner will be able to: \n\nUnderstand the different tabs\nCreate Basic Drawings\nManipulate objects\nDraw inquiry commands\nDraw Organisation commands
URL:https://www.careerchangewales.co.uk/event/beginner-autocad-course/
LOCATION:5-7 Museum Place\, Cardiff\, CF10 3BD\, 5-7 Museum Place\, Cardiff\, CF10 3BD\, United Kingdom
CATEGORIES:Construction Related Training
ATTACH;FMTTYPE=image/jpeg:https://www.careerchangewales.co.uk/wp-content/uploads/2015/08/autocad-300x300.jpg
ORGANIZER;CN="CCW-Training Academy":MAILTO:Info@CareerChangeWales.co.uk
END:VEVENT
BEGIN:VEVENT
DTSTART;VALUE=DATE:20250213
DTEND;VALUE=DATE:20250214
DTSTAMP:20260421T122357
CREATED:20240704T090150Z
LAST-MODIFIED:20241025T134102Z
UID:10769-1739404800-1739491199@www.careerchangewales.co.uk
SUMMARY:Lean Six Sigma Training – White Belt Course
DESCRIPTION:Lean Six Sigma Training – White Belt Course\nThe Lean Six Sigma Training\, White Belt course is designed to provide a basic understanding of Lean Six Sigma methodologies\, introducing participants to key concepts and principles. \nWho is this course for?\nThe Lean Six Sigma White Belt Course is designed for individuals who want to enhance their understanding of process improvement methodologies. It is an excellent starting point for anyone interested in Lean Six Sigma principles and tools. Whether you are a professional seeking to optimise processes within your organization or an individual looking to build foundational knowledge\, this course provides valuable insights into process mapping\, waste reduction\, 5S organization\, visual management\, and mistake-proofing techniques. \nBelow are the typical learning outcomes for a Lean Six Sigma White Belt course: \nUnderstanding Lean Six Sigma Fundamentals\nIntroduction to Lean Six Sigma:\n\nUnderstand the basics of Lean and Six Sigma methodologies.\nLearn about the history\, principles\, and objectives of Lean Six Sigma.\n\nKey Concepts and Terminology:\n\nFamiliarise with essential Lean Six Sigma terminology and concepts such as waste\n(Muda)\, variation\, and continuous improvement.\nUnderstand the significance of quality and process eƯiciency.\nLean Principles\n\nLean Basics:\n\nUnderstand the fundamental principles of Lean\, including the focus on value and the elimination of waste.\nLearn about the eight types of waste and how they impact processes.\n\nSix Sigma Principles\nSix Sigma Basics:\n\nGain a basic understanding of Six Sigma principles and the importance of reducing process variation.\nLearn about the DMAIC (Define\, Measure\, Analyse\, Improve\, Control) framework and its application in process improvement.\nProcess Improvement Awareness\n\nProcess Improvement Introduction:\n\nRecognise the importance of process improvement and its benefits for organizations.\nUnderstand the role of data in making informed decisions and driving improvements.\n\nRoles and Responsibilities\nRoles in Lean Six Sigma:\n\nIdentify the different roles within a Lean Six Sigma project team\, including White Belts\,\nYellow Belts\, Green Belts\, and Black Belts.\nUnderstand the contribution of White Belts in supporting Lean Six Sigma initiatives.\nBasic Tools and Techniques\n\nIntroduction to Basic Tools:\n\nLearn about simple Lean Six Sigma tools such as 5S (Sort\, Set-in order\, Shine\, Standardise\, Sustain and basic data collection techniques).\nUnderstand the purpose and application of these tools in process improvement efforts.\nOrganisational Impact\n\nBenefits of Lean Six Sigma:\n\nRecognise how Lean Six Sigma can drive organizational improvements\, enhance quality\, and increase efficiency\nUnderstand the impact of Lean Six Sigma on customer satisfaction and business performance\nCertification Preparation\n\nCertification Awareness:\n\nPrepare for the Lean Six Sigma White Belt certification by reviewing key concepts and understanding the certification process.\nGain awareness of the opportunities for further Lean Six Sigma training and certification (e.g.\, Yellow Belt\, Green Belt\, Black Belt).\n\nBy the end of the Lean Six Sigma White Belt course\, participants should have a foundational understanding of Lean Six Sigma principles\, be familiar with basic tools and concepts\, and be prepared to support Lean Six Sigma projects within their organisation.
URL:https://www.careerchangewales.co.uk/event/lean-six-sigma-training-white-belt-course/
LOCATION:5-7 Museum Place\, Cardiff\, CF10 3BD\, 5-7 Museum Place\, Cardiff\, CF10 3BD\, United Kingdom
CATEGORIES:Construction Related Training
ATTACH;FMTTYPE=image/png:https://www.careerchangewales.co.uk/wp-content/uploads/2022/11/Quality-management-system-Logo.png
ORGANIZER;CN="CCW-Training Academy":MAILTO:Info@CareerChangeWales.co.uk
END:VEVENT
BEGIN:VEVENT
DTSTART;VALUE=DATE:20250214
DTEND;VALUE=DATE:20250215
DTSTAMP:20260421T122357
CREATED:20240628T145542Z
LAST-MODIFIED:20241025T134311Z
UID:10693-1739491200-1739577599@www.careerchangewales.co.uk
SUMMARY:Working at Height
DESCRIPTION:Working at Height\nOverview\nOur working at height course has been created to encourage those who work at heights to do so safely. Falls from height are one of the biggest causes of workplace major injuries and fatalities\, this is due to the lack of knowledge around working safely at height. Common causes are falls from ladders and through fragile roofs. Working at height means working in any place where\, if there were no precautions in place\, a person could fall a distance liable to cause personal injury. This course will teach you how to work at height safely and how you can ensure your colleagues are also working safely to avoid possible injuries. \nTraining contents:\n\nIntroduction to the HSE brief guide\nRegulations apply to who?\nComplying with these Regulations?\n\nEmployers and those in control of any working at height activity must make sure work is properly planned\, supervised and carried out by competent people. This includes using the right type of equipment for working at height. \n\nThe ‘competent’ of a team member to work at height?\nMeasures taken to help to protect people\nThe most common causes of accidents when working at height\nWhat to consider when planning work at height?\nSelecting the right equipment for a job?\nThe importance of good condition of equipment\nWhat must employees do?\nWhat must the architects and building designers do?\n\nDelivery methodology:\n\nPresentation by tutor\nCase studies\n\nBenefits perceived by attendees:\n\nRaising awareness and understanding of working at heights.\n\nIntended for:\nMaintenance staff\, Engineers\, Electrician\, Painter and Decorators\, and all skill or unskilled workforce.
URL:https://www.careerchangewales.co.uk/event/working-at-height/
LOCATION:5-7 Museum Place\, Cardiff\, CF10 3BD\, 5-7 Museum Place\, Cardiff\, CF10 3BD\, United Kingdom
CATEGORIES:Construction Related Training
ATTACH;FMTTYPE=image/png:https://www.careerchangewales.co.uk/wp-content/uploads/2022/11/Quality-management-system-Logo.png
ORGANIZER;CN="CCW-Training Academy":MAILTO:Info@CareerChangeWales.co.uk
END:VEVENT
BEGIN:VEVENT
DTSTART;VALUE=DATE:20250224
DTEND;VALUE=DATE:20250225
DTSTAMP:20260421T122357
CREATED:20240628T145436Z
LAST-MODIFIED:20241025T133849Z
UID:10691-1740355200-1740441599@www.careerchangewales.co.uk
SUMMARY:BANKSMAN TRAINING COURSE
DESCRIPTION:Banksman Training course (Traffic Marshal Training)\nBanksman training course (Traffic Marshal Training): Health & Safety / Warehouse\, Storage & Logistics \nProviding your fleet to work in a safe environment with banksman training \nWhat is the role of a banksman?\nIntroduction: \nAccording to the Health and Safety Executive (HSE)\, circa 7 workers die each year as a result of accidents involving vehicles\, mobile plant and equipment on construction sites. A role and duties of the vehicle banksman is to be in charge of directing the vehicular movements on a construction site. This includes building construction site\, warehouse\, and factory by using a system of hand signals or a radio link in order to prevent accidents and keep workers safe. The training will also ensure that any vehicular manoeuvres made during loading and unloading do not put the driver or other within the close vicinity in danger. \nWhy is the banksman training required?\nOn many sites\, reversing manoeuvres are common\, and can be dangerous – particularly in confined spaces and or challenging site conditions. Banksman training ensures that organisations meet their legal requirements and reduce the risk of costly accidents when carrying out large vehicle reversing manoeuvres. \nWho is banksman training for? (Traffic Marshal Training)\nThis banksman training courses are for all those involved in manoeuvring\, loading and unloading vehicles. Delegates will learn how to guide large goods vehicles\, both rigid and articulated\, using the HSE approved code of signals. \nThis one-day Banksman Duties training course ensures that an organisation meets its obligations to provide training for those involved in the safe guidance of Large Goods Vehicles and reduces the risk of accidents when carrying out common reversing manoeuvres. \nLearning Outcomes:\n\nUnderstand the various causes of accidents involving vehicles at work\nUnderstand the legal responsibilities of the employer for the movement of vehicles\nUnderstand the responsibilities of the Banksman\nUnderstand the risks and control measures involved in the movement of vehicles\nGuide Large Goods Vehicles in a confined space in line with legal and best practice requirements\nReceive a qualification from a globally recognised provider of health and safety training\n\nYour organisation will also benefit from:\n\nPeace of mind from training when completed this training that can reduce the number and/or cost of accidents caused by reversing vehicles\nFlexibility – the course is delivered at a time and location that suits your business\nEfficient and effective learning – theory and practical elements are covered in a one-day course\, minimising time out of the workplace\nEnsuring that your organisation demonstrates its commitment to workplace health and safety
URL:https://www.careerchangewales.co.uk/event/banksman-training-course/
LOCATION:5-7 Museum Place\, Cardiff\, CF10 3BD\, 5-7 Museum Place\, Cardiff\, CF10 3BD\, United Kingdom
CATEGORIES:Construction Related Training
ATTACH;FMTTYPE=image/png:https://www.careerchangewales.co.uk/wp-content/uploads/2022/11/Quality-management-system-Logo.png
ORGANIZER;CN="CCW-Training Academy":MAILTO:Info@CareerChangeWales.co.uk
END:VEVENT
BEGIN:VEVENT
DTSTART;VALUE=DATE:20250225
DTEND;VALUE=DATE:20250227
DTSTAMP:20260421T122357
CREATED:20240627T143609Z
LAST-MODIFIED:20241025T134237Z
UID:10662-1740441600-1740614399@www.careerchangewales.co.uk
SUMMARY:INTERMEDIATE AUTOCAD TRAINING
DESCRIPTION:Who Should Attend\nThis intermediate AutoCAD training course has been created for users with experience in using AutoCAD but who want to improve on their abilities. This course goes well with the beginner course. \nCourse Content (Intermediate AutoCAD Training)\nThis course will cover the following: \n\nExtended Object visibility control\nWorking with multiple documents\nUtility Commands\nCreating Layouts & Plotting\nAdvanced Layouts\nBlock creation and management\n\nLearning Outcomes\nBy the end of the course learner will be able to: \n\nCreate Custom Workspaces\nCreate Parametric Drawings\nUse external References\nAnnotate Styles\nCreate advanced Layouts\n\nCourse Format\nThis intermediate AutoCAD training course is a 2 day intensive course that is generally taught in small classes; normally around 3-4 people in a class to give you the maximum exposure to an industry professional. This will enable you to ask the questions that you require and\, more importantly\, have your questions answered. There is no exam with this course but you will receive homework to complete after every training session. \nThere are no hidden costs for training. All of our training includes; refreshments\, training material\, registration and all other related costs. \nIf you would like any additional information about this course then please contact us on 02921156603 or email Admin@CareerChangeWales.co.uk
URL:https://www.careerchangewales.co.uk/event/intermediate-autocad-training-event/
LOCATION:5-7 Museum Place\, Cardiff\, CF10 3BD\, 5-7 Museum Place\, Cardiff\, CF10 3BD\, United Kingdom
CATEGORIES:Construction Related Training
ATTACH;FMTTYPE=image/jpeg:https://www.careerchangewales.co.uk/wp-content/uploads/2015/08/autocad-300x300.jpg
ORGANIZER;CN="CCW-Training Academy":MAILTO:Info@CareerChangeWales.co.uk
END:VEVENT
END:VCALENDAR