BEGIN:VCALENDAR
VERSION:2.0
PRODID:-//CCW-Training Academy - ECPv6.15.20//NONSGML v1.0//EN
CALSCALE:GREGORIAN
METHOD:PUBLISH
X-ORIGINAL-URL:https://www.careerchangewales.co.uk
X-WR-CALDESC:Events for CCW-Training Academy
REFRESH-INTERVAL;VALUE=DURATION:PT1H
X-Robots-Tag:noindex
X-PUBLISHED-TTL:PT1H
BEGIN:VTIMEZONE
TZID:Europe/London
BEGIN:DAYLIGHT
TZOFFSETFROM:+0000
TZOFFSETTO:+0100
TZNAME:BST
DTSTART:20240331T010000
END:DAYLIGHT
BEGIN:STANDARD
TZOFFSETFROM:+0100
TZOFFSETTO:+0000
TZNAME:GMT
DTSTART:20241027T010000
END:STANDARD
BEGIN:DAYLIGHT
TZOFFSETFROM:+0000
TZOFFSETTO:+0100
TZNAME:BST
DTSTART:20250330T010000
END:DAYLIGHT
BEGIN:STANDARD
TZOFFSETFROM:+0100
TZOFFSETTO:+0000
TZNAME:GMT
DTSTART:20251026T010000
END:STANDARD
BEGIN:DAYLIGHT
TZOFFSETFROM:+0000
TZOFFSETTO:+0100
TZNAME:BST
DTSTART:20260329T010000
END:DAYLIGHT
BEGIN:STANDARD
TZOFFSETFROM:+0100
TZOFFSETTO:+0000
TZNAME:GMT
DTSTART:20261025T010000
END:STANDARD
END:VTIMEZONE
BEGIN:VEVENT
DTSTART;VALUE=DATE:20250110
DTEND;VALUE=DATE:20250111
DTSTAMP:20260421T122454
CREATED:20240627T143459Z
LAST-MODIFIED:20241025T133455Z
UID:10660-1736467200-1736553599@www.careerchangewales.co.uk
SUMMARY:SOCIAL MEDIA FOR BUSINESS
DESCRIPTION:Social Media for Business\n  \nOur Social Media for Business training course has been built for anyone looking to use Social Media with very little experience. This course is an excellent\, short\, 1 day course made for anyone who wants to use Social Media for basic organisational purposes. \nLevel: Beginner\nCourse overview:\nThis session is aimed at organisation owners who want to take advantage of the power of social media to build their brand and reach more customers: from how to optimise a profile through to scheduling regular posts. \nSocial Media for Business Aim:\nTo enable learners to have a better understanding of how social media can be used to promote their organisation. \nCourse Format:\nPresenter-led\, discussion\, activities\, task based. \nThis course is held at 5-7 Museum Place\, Cardiff\, CF10 3BD. If you are looking to book as a group we may also be able to provide it at your venue. \nGeneral Information:\nThere are no hidden costs for training. All of our training includes; refreshments\, training material and all other related costs. If you would like any additional information about this course then please contact us on 029 21 156 603 or email Info@CareerChangeWales.co.uk
URL:https://www.careerchangewales.co.uk/event/social-media-for-businessa-for-business-event/
LOCATION:5-7 Museum Place\, Cardiff\, CF10 3BD\, 5-7 Museum Place\, Cardiff\, CF10 3BD\, United Kingdom
CATEGORIES:ICT Training Courses
ATTACH;FMTTYPE=image/png:https://www.careerchangewales.co.uk/wp-content/uploads/2022/11/Quality-management-system-Logo.png
ORGANIZER;CN="CCW-Training Academy":MAILTO:Info@CareerChangeWales.co.uk
END:VEVENT
END:VCALENDAR