BEGIN:VCALENDAR
VERSION:2.0
PRODID:-//CCW-Training Academy - ECPv6.15.20//NONSGML v1.0//EN
CALSCALE:GREGORIAN
METHOD:PUBLISH
X-ORIGINAL-URL:https://www.careerchangewales.co.uk
X-WR-CALDESC:Events for CCW-Training Academy
REFRESH-INTERVAL;VALUE=DURATION:PT1H
X-Robots-Tag:noindex
X-PUBLISHED-TTL:PT1H
BEGIN:VTIMEZONE
TZID:Europe/London
BEGIN:DAYLIGHT
TZOFFSETFROM:+0000
TZOFFSETTO:+0100
TZNAME:BST
DTSTART:20250330T010000
END:DAYLIGHT
BEGIN:STANDARD
TZOFFSETFROM:+0100
TZOFFSETTO:+0000
TZNAME:GMT
DTSTART:20251026T010000
END:STANDARD
BEGIN:DAYLIGHT
TZOFFSETFROM:+0000
TZOFFSETTO:+0100
TZNAME:BST
DTSTART:20260329T010000
END:DAYLIGHT
BEGIN:STANDARD
TZOFFSETFROM:+0100
TZOFFSETTO:+0000
TZNAME:GMT
DTSTART:20261025T010000
END:STANDARD
BEGIN:DAYLIGHT
TZOFFSETFROM:+0000
TZOFFSETTO:+0100
TZNAME:BST
DTSTART:20270328T010000
END:DAYLIGHT
BEGIN:STANDARD
TZOFFSETFROM:+0100
TZOFFSETTO:+0000
TZNAME:GMT
DTSTART:20271031T010000
END:STANDARD
END:VTIMEZONE
BEGIN:VEVENT
DTSTART;VALUE=DATE:20260105
DTEND;VALUE=DATE:20260107
DTSTAMP:20260421T153243
CREATED:20251003T133938Z
LAST-MODIFIED:20251003T135135Z
UID:11665-1767571200-1767743999@www.careerchangewales.co.uk
SUMMARY:ILM Level 2 Award in Leadership and Team Skills
DESCRIPTION:ILM Level 2 Award in Leadership and Team Skills – Management Training in Wales\n\n\n\nThe ILM Level 2 Leadership and Team Skills Training is an entry level qualification for anyone with management responsibilities but no formal qualification. It is also useful for anyone hoping to progress into a management position but who have not yet formalised their understanding with any training. It will benefit anyone with a management or supervisory position. \nIn this course we will look into what makes a manager good or bad and assist those with an interest in the course in investigating how we can avoid the mistakes of the manager we worked with previously and see what made the good managers we have worked with make us smile or make our day. \nFor training dates\, have a look at our calendar – CLICK HERE \nOur training is held at 5-7 Museum Place\, Cardiff\, CF10 3BD\, however if you’re unable to come to location we also offer our training through Zoom. This is high quality tutor lead training but from your home or workplace. If you have course enquiries\, tell us which type of training you would prefer! \nTo find out the price of the course\, or if you cannot find the course you’re looking for on the calendar please contact us either by phoning 029 21 156 603 or emailing Info@CareerChangeWales.co.uk \nAward / Certificate:\nThe Level 2 qualification comes in 2 variations\, there’s the Award and the Certificate. The difference in between these 2 is the number of modules required to sit and pass before gaining the certification. The Award is the shortest version of the Level 2 qualification. \nWho Should Attend\nThis program supports practicing team leader/s seeking to move to the next level of management and managers who need to lead people through; organisational change\, budget cuts or for personal development. \nILM Level 2 Leadership and Team Skills Training Content\nThe Award variant of the Level 2 qualification covers: \n\nLeading Your Work Team\nMethods of Communicating in the Workplace\n\nThe Certificate variant of the Level 2 qualification will cover the above 2 modules\, alongside the below modules: \n\nMeeting Customer Needs\nSetting Team Objectives in the Workplace\nUnderstanding Training and Coaching\nUnderstanding Leadership\nSolving Problems and Making Decisions\n\nLearning Outcomes\nBy the end of the course learners will be able to: \n\nExplain and understand the difference between leadership styles\nUnderstand leadership qualities and be able to review your own leadership potential\nExceeding the needs of your customers\nUsing different techniques to keep your customers happy\nHow to solve problems quickly and efficiently\nHow to communicate properly in your workplace\nSet objectives that are both challenging and achievable\n\nCourse Format\nTo complete this Award course you will be required to undertake 2 modules. For the Certificate you would be required to undertake 8 modules. The Award will take 2 days of training alongside an optional assignment tutorial day. The Certificate will take a couple of weeks to complete which will be 6 days of training alongside an optional assignment tutorial day. \nThere is an assignment to be completed per module. For the Award this means there would be 2 assignments to complete. We offer a lot of support to ensure the best chance to pass including an optional assignment tutorial day\, emails and phone calls. \nTo follow our organisation you can check out our Twitter\, Facebook and more below:
URL:https://www.careerchangewales.co.uk/event/ilm-level-2-award-in-leadership-and-team-skills/
LOCATION:5-7 Museum Place\, Cardiff\, CF10 3BD\, 5-7 Museum Place\, Cardiff\, CF10 3BD\, United Kingdom
CATEGORIES:Leadership and Management Training
ORGANIZER;CN="CCW-Training Academy":MAILTO:Info@CareerChangeWales.co.uk
END:VEVENT
BEGIN:VEVENT
DTSTART;VALUE=DATE:20260114
DTEND;VALUE=DATE:20260117
DTSTAMP:20260421T153243
CREATED:20251003T134334Z
LAST-MODIFIED:20251003T134334Z
UID:11680-1768348800-1768607999@www.careerchangewales.co.uk
SUMMARY:ILM Level 4 Leadership and Management
DESCRIPTION:ILM Level 4 Leadership and Management – Middle Manager Training in Wales\n\n\n\nEmpower your middle management career with our ILM Level 4 in Leadership and Management\, delivered by Career Change Wales (CCW) – Training Academy. Designed for aspiring and practising managers across Wales\, this qualification deepens your strategic thinking\, refines your leadership style\, and equips you to lead complex teams and projects. \nThe Level 4 emphasises the importance of balancing team leadership with strategic thinking. Participants learn how to manage resources efficiently\, lead through change\, and align team objectives with organisational goals. This qualification also fosters a strong ability to solve problems\, make informed decisions\, and communicate effectively with diverse stakeholders. \nWhy Choose CCW for ILM Level 4 Training in Wales?\n\nILM-Accredited Qualification: Recognised UK-wide for leadership excellence.\nConstruction of Bespoke Cohorts: Small groups (max 10 learners) ensure personalised attention.\nFlexible: Delivery In-person in Cardiff or live online via Zoom.\nExpert Tutors & Free Mentoring: Seasoned professionals plus one day of one-to-one coaching.\nRelevant to Welsh Industry: Practical modules tailored to public\, private\, and third-sector needs.\n\nCourse Options & Modules\nAward (2 modules): \n\nDeveloping People in the Workplace\nMotivating People in the Workplace\n\nCertificate (+3 modules): \n\nManaging Marketing Activities\nManaging a Healthy & Safe Environment\nSolving Problems by Making Effective Decisions\n\nDiploma: Contact us to design a bespoke module package for strategic leadership needs. \nFormat & Duration\n\nAward: 2 days training + assignment support\nCertificate: 5 days training + assignment support\nAssignments: 1\,350-word nominal word count; full guidance provided\n\nLocation & Accessibility\n\nVenue: 5–7 Museum Place\, Cardiff\, CF10 3BD\nOnline: Live Zoom sessions\, ideal for remote learners across Wales\nOn-site: Group bookings (min. 4 delegates) at your premises\n\nWhat You’ll Learn\n\nBalance operational duties with strategic vision\nManage resources\, budgets\, and stakeholder relationships\nLead teams through change and performance challenges\nApply effective decision-making and problem-solving techniques\nCommunicate strategic goals with clarity and influence\n\nWho Should Attend?\nThe ILM Level 4 qualification is suitable mainly for middle managers\, but can also be applicable for junior or operational managers. The ILM Level 4 in Leadership and Management is ideal for individuals who have management responsibilities but no formal training and are serious about developing their abilities. \nEnrol Today\nTake the next step in your leadership journey. Call us or email to discuss dates\, pricing\, and bespoke delivery options for your team. \n info@CareerChangeWales.co.uk  029 21 156 603 \nYou can find more of our courses here -> HERE
URL:https://www.careerchangewales.co.uk/event/ilm-level-4-leadership-and-management-4/
LOCATION:5-7 Museum Place\, Cardiff\, CF10 3BD\, 5-7 Museum Place\, Cardiff\, CF10 3BD\, United Kingdom
CATEGORIES:Leadership and Management Training
ORGANIZER;CN="CCW-Training Academy":MAILTO:Info@CareerChangeWales.co.uk
END:VEVENT
BEGIN:VEVENT
DTSTART;VALUE=DATE:20260119
DTEND;VALUE=DATE:20260122
DTSTAMP:20260421T153243
CREATED:20251003T134956Z
LAST-MODIFIED:20251003T134956Z
UID:11687-1768780800-1769039999@www.careerchangewales.co.uk
SUMMARY:ILM Level 5 Leadership and Management
DESCRIPTION:ILM Level 5 Leadership and Management – Strategic Training in Wales\nCourse Overview\n\n\n\nElevate your senior management capabilities with CCW’s ILM Level 5 in Leadership and Management\, delivered across Wales. This advanced qualification equips experienced professionals with strategic thinking\, innovation tools\, and change-management expertise essential for leading organisations through complex challenges. \nAt this level\, managers are encouraged to develop a comprehensive understanding of organisational dynamics\, strategic planning\, and the effective use of resources. The ILM Level 5 qualification provides practical tools for managing teams\, leading change\, and navigating the complexities of leadership in today’s fast-paced world. \nFor training dates\, have a look at our calendar – CLICK HERE \nWhy Choose CCW for ILM Level 5 Training in Wales?\n\nAccredited by the Institute of Leadership & Management (ILM)\, recognised UK-wide\nDelivery in Cardiff or via live online sessions (Zoom/MS Teams)\nBespoke on-site training for groups of 6+ delegates\nExpert tutors with hands-on leadership and sector experience\nDedicated assignment support\, tutorials\, and mentoring\n\nCourse Overview\nThe ILM Level 5 suite offers three pathways: \n\nAward (2 modules)\nCertificate (5 modules)\n\nEach pathway combines practical workshops with written assignments (nominal 2\,200 words each) to embed learning in your workplace context. \nWho Should Attend?\nThis course is designed for senior and middle managers aiming for promotion\, project leaders and functional specialists\, professionals responsible for strategic or change leadership\, and organisations investing in leadership succession planning. \nCore Modules\nAward (2 modules): \n\nBecoming an Effective Leader\nManaging Projects in the Organisation (incl. White Belt Lean Six Sigma)\n\nCertificate (adds 3 modules): \n\nManaging Individual Development\nSolving Problems by Making Effective Decisions\nLeading Innovation and Change\n\nFormat & Duration\n\nAward: 2 days training + optional tutorial day\nCertificate: 4 days training + tutorial support\nAssignments: 1 assignment for each module undertaken\n\nLocation & Delivery\n\nIn-person: 5–7 Museum Place\, Cardiff\, CF10 3BD\nOnline: Live Zoom or MS Teams sessions\nOn-site: Group bookings of 6+ delegates anywhere in Wales\n\nLearning Outcomes\nBy course end\, you will be able to: \n\nDevelop and communicate strategic vision\nManage complex projects and resources\nFoster innovation and lead organisational change\nApply commercial awareness in decision-making\nMentor and develop high-performing teams\n\nEnrol Today\nReady to transform your leadership impact? Email info@CareerChangeWales.co.uk or call 029 21 156 603 to discuss dates\, pricing\, or bespoke delivery. \nCheck out our other ILM courses: HERE
URL:https://www.careerchangewales.co.uk/event/ilm-level-5-leadership-and-management-10/
LOCATION:5-7 Museum Place\, Cardiff\, CF10 3BD\, 5-7 Museum Place\, Cardiff\, CF10 3BD\, United Kingdom
CATEGORIES:Leadership and Management Training
ORGANIZER;CN="CCW-Training Academy":MAILTO:Info@CareerChangeWales.co.uk
END:VEVENT
BEGIN:VEVENT
DTSTART;VALUE=DATE:20260126
DTEND;VALUE=DATE:20260129
DTSTAMP:20260421T153243
CREATED:20251003T134129Z
LAST-MODIFIED:20251003T134129Z
UID:11670-1769385600-1769644799@www.careerchangewales.co.uk
SUMMARY:ILM Level 3 Leadership and Management
DESCRIPTION:ILM Level 3 Leadership and Management – Accredited Training in Wales\n\n\n\nLooking to take your leadership skills to the next level? Our ILM Level 3 Award in Leadership and Management is ideal for aspiring and practicing managers across Wales who want to lead with confidence\, improve team performance\, and gain a nationally recognised qualification. \nDelivered by CCW-Training Academy\, this course blends practical leadership tools with strategic thinking—perfect for those managing teams\, projects\, or departments. \nWhy Choose Us?\n\nILM Accredited Qualification Recognised across the UK and internationally\, ILM is a trusted benchmark for leadership excellence.\nFlexible Delivery Options Attend in-person at our Cardiff centre or join live online sessions\, accessible to learners across Wales.\nExpert Tutors Learn from seasoned professionals with decades of experience in leadership\, HR\, and project management.\nSupportive Learning Environment We offer assignment tutorials\, email support\, and guidance throughout your learning journey.\n\nFor training dates\, have a look at our calendar – CLICK HERE \nOur training is held at 5-7 Museum Place\, Cardiff\, CF10 3BD\, however if you’re unable to come to location we also offer our training through Zoom. This is high quality tutor lead training but from your home or workplace. If you have course enquiries\, tell us which type of training you would prefer! \nTo find out the price of the course\, or if you cannot find the course you’re looking for on the calendar please contact us either by phoning 029 21 156 603 or emailing Info@CareerChangeWales.co.uk \nAward / Certificate / Diploma:\nThe Level 3 qualification comes in 3 variations\, there’s the Award \, the Certificate and the Diploma. The difference in between these 3 is the number of modules required to sit and pass before gaining the certification. The Award is the shortest version of the Level 3 qualification. \nWhat can we offer?\nOur Institute of Leadership and Management training modules are new and innovative programmes. These management programmes have been designed to reflect the present economic climate and enable candidates to complete our streamlined programme. \nWho is this Qualification For?\nThe Level 3 Award in Leadership and Management in Wales is ideal for individuals who have management responsibilities but no formal training and are serious about developing their abilities. \nILM Level 3 Leadership and Management in Wales Course Modules\nFor the ILM Level 3 Award\, you would need to complete 2 of the below 3 modules: \n\nUnderstanding Leadership\nSolving Problems and Making Decisions\nManaging Workplace Projects\n\nTo complete the Certificate you would need to complete at least 2 of the modules above + the below modules: \n\nUnderstanding Recruitment and Selection of New Staff\nUnderstanding Training and Coaching in the Workplace\nUnderstanding Health and Safety in the Workplace\nUnderstanding Marketing for Managers\n\nIf you are interested in the Diploma please contact us and we can discuss the possible options available. \nCourse Format\n\nDuration: 2 days of training + optional assignment tutorial day\nAssessment: 2 written assignments (one per module)\nSupport: Email\, phone\, and tutorial guidance included\n\nWe also offer the ILM Level 3 Certificate\, which includes additional modules for a more comprehensive leadership qualification. \nAssignments\nIt is recommended that for each assignment\, you should plan to spend approximately 7 hours researching your workplace context\, preparing for and writing or presenting the outcomes. The ‘nominal’ word count for each assignment is 1200 words: the suggested range is between 1000 and 1400 words per assignment. \nILM Level 3 Leadership and Management General Information\nReady to enhance your leadership potential? Contact us to book your place or learn more about our ILM Level 3 Leadership and Management training in Wales. \n Email: info@CareerChangeWales.co.uk  Call: 029 21 156 603 \nYou can find more details about the specific modules we offer below. You can also check out our other courses -> HERE
URL:https://www.careerchangewales.co.uk/event/ilm-level-3-leadership-and-management/
LOCATION:5-7 Museum Place\, Cardiff\, CF10 3BD\, 5-7 Museum Place\, Cardiff\, CF10 3BD\, United Kingdom
CATEGORIES:Leadership and Management Training
ORGANIZER;CN="CCW-Training Academy":MAILTO:Info@CareerChangeWales.co.uk
END:VEVENT
END:VCALENDAR